{"text_format":"1","workbook":"xlsx","n_sheets":5,"sheets":["Exporta","ANEXO","PUNTOS","VALORACION","Presupuesto"],"not_rendered":{"charts":0,"images":1,"macros":1,"external_links":6,"defined_names":2,"comments":2,"pivot_tables":0},"unopened":[],"bounds":{"document_bytes":16777216,"sheet_cells":100000,"rows_first":2000,"rows_last":500,"rows_between":2000,"halvings":0,"cell_chars":16384,"cell_head_chars":4096},"cells_cut":0,"cells_raw":0,"read":"whole","date_system":"1900"}

{"sheet":"Exporta","index":0,"n_rows":2,"n_cols":124,"rows_kept":2,"cut":false,"hidden":true,"merged":[]}
["NumeroExpediente","Valoracion:TipoProyecto","Valoracion:CalificacionProyecto","Valoracion:CorrienteSS","Valoracion:CorrienteHacienda","Valoracion:ConcursoAcreedores","Valoracion:CumpleEfectoIncentivador","Valoracion:TransparenciaPlazo","Valoracion:ObligacionTransparencia","Valoracion:BaseIncumple","Valoracion:MotivoRechazo","Valoracion:PresupuestoAceptado","Valoracion:IntensidadAyuda","Valoracion:AyudaConcedida","Valoracion:ProvisionAno1","Valoracion:ProvisionAno2","Valoracion:ProvisionAno3","Valoracion:EquiposPeriodo1","Valoracion:EquiposPeriodo2","Valoracion:EquiposPeriodo3","Valoracion:EquiposTotal","Valoracion:ManoObraPeriodo1","Valoracion:ManoObraPeriodo2","Valoracion:ManoObraPeriodo3","Valoracion:ManoObraTotal","Valoracion:MaterialesPeriodo1","Valoracion:MaterialesPeriodo2","Valoracion:MaterialesPeriodo3","Valoracion:MaterialesTotal","Valoracion:ColaboracionExternaPeriodo1","Valoracion:ColaboracionExternaPeriodo2","Valoracion:ColaboracionExternaPeriodo3","Valoracion:ColaboracionExternaTotal","Valoracion:OtrosGastosPeriodo1","Valoracion:OtrosGastosPeriodo2","Valoracion:OtrosGastosPeriodo3","Valoracion:OtrosGastosTotal","Valoracion:CostesIndirectosPeriodo1","Valoracion:CostesIndirectosPeriodo2","Valoracion:CostesIndirectosPeriodo3","Valoracion:CostesIndirectosTotal","Valoracion:TotalPeriodo1","Valoracion:TotalPeriodo2","Valoracion:TotalPeriodo3","Valoracion:PresupuestoTotal","Valoracion:AyudaPeriodo1","Valoracion:AyudaPeriodo2","Valoracion:AyudaPeriodo3","Valoracion:AyudaTotal","Valoracion:GastosPatentes","Valoracion:GastosViajes","Valoracion:CostesAuditorias","Valoracion:CostesIndirectos","Valoracion:Tamano","Valoracion:Compatibilidad","Valoracion:Organismo","Valoracion:FechaCDTI","Valoracion:PorcentajeColaboracion","Valoracion:PuntuacionA","Valoracion:PuntuacionB","Valoracion:PuntuacionC","Valoracion:PuntuacionD","Valoracion:PuntuacionE","Valoracion:PuntuacionF","Valoracion:PuntuacionG","Valoracion:PuntuacionH","Valoracion:PuntuacionI","Valoracion:PuntuacionJ","Valoracion:PuntuacionK","Valoracion:PuntuacionL","Valoracion:PuntuacionTotal","Valoracion:Evaluacion","Valoracion:CalificacionIDI","Valoracion:TRLPartida","Valoracion:TRLObjetivo","Valoracion:DEH","Valoracion:RegistroIndustrial","Valoracion:FechaSS","Valoracion:FechaHacienda","Valoracion:FechaAcreedores","Valoracion:FechaEfectoIncentivador","Valoracion:ComentariosComprobaciones","Valoracion:FechaTransparencia","Valoracion:Aprobacion","CIF","RAZÓN SOCIAL","Acrónimo","C.Postal","Fecha Sol.","Título","Fecha Inicio","Fecha Fin","Prioridad temática","Transición","Ec. Cir. Gestión sostenible","Ec. Cir. Mejora medioambiental","Ec. Cir. Gestión de resíduos","Ha recibido ayudas antes","Just. Act.","Just. Pers.","Just. Mat.","Just. Colab.","Just. Ot. Cos.","Código C/T","Coordinador","N Socio A","N Socio B","N Socio C","N Socio D","N Socio E","Socio A","Socio B","Socio C","Socio D","Socio E","Limite 2K","Limite 5K","Tot Proyecto","VIDEO","Tot Solicitado","Morosidad","Autorización","Renuncia PAC1","Resultado"]
[{"$f":"VALORACION!D2","v":"0011-1411-2024-000"},{"$f":"IF(VALORACION!D7>0,VALORACION!D7,\"\")","v":{"$error":"#REF!"}},{"$f":"IF(VALORACION!D11>0,VALORACION!D11,\"\")","v":""},null,null,null,{"$f":"IF(VALORACION!D4>0,VALORACION!D4,\"\")","v":{"$error":"#REF!"}},null,null,{"$f":"IF(PUNTOS!E48>0,PUNTOS!E48,\"\")","v":""},{"$f":"IF(PUNTOS!B49>0,PUNTOS!B49,\"\")","v":""},{"$f":"VALORACION!R17","v":{"$error":"#REF!"}},{"$f":"VALORACION!J21","v":0},{"$f":"VALORACION!R18","v":{"$error":"#REF!"}},{"$f":"VALORACION!#REF!","v":{"$error":"#REF!"}},{"$f":"VALORACION!L20","v":{"$error":"#REF!"}},{"$f":"VALORACION!N20","v":{"$error":"#REF!"}},{"$f":"VALORACION!L6","v":{"$error":"#REF!"}},{"$f":"VALORACION!N6","v":{"$error":"#REF!"}},{"$f":"VALORACION!P6","v":{"$error":"#REF!"}},{"$f":"VALORACION!R6","v":{"$error":"#REF!"}},{"$f":"VALORACION!L7","v":{"$error":"#REF!"}},{"$f":"VALORACION!N7","v":{"$error":"#REF!"}},{"$f":"VALORACION!P7","v":{"$error":"#REF!"}},{"$f":"VALORACION!R7","v":{"$error":"#REF!"}},{"$f":"VALORACION!L10","v":{"$error":"#REF!"}},{"$f":"VALORACION!N10","v":{"$error":"#REF!"}},{"$f":"VALORACION!P10","v":{"$error":"#REF!"}},{"$f":"VALORACION!R10","v":{"$error":"#REF!"}},{"$f":"VALORACION!L11","v":{"$error":"#REF!"}},{"$f":"VALORACION!N11","v":{"$error":"#REF!"}},{"$f":"VALORACION!P11","v":{"$error":"#REF!"}},{"$f":"VALORACION!R11","v":{"$error":"#REF!"}},{"$f":"VALORACION!L14","v":{"$error":"#REF!"}},{"$f":"VALORACION!N14","v":{"$error":"#REF!"}},{"$f":"VALORACION!P15","v":{"$error":"#REF!"}},{"$f":"VALORACION!R14","v":{"$error":"#REF!"}},{"$f":"VALORACION!L15","v":{"$error":"#REF!"}},{"$f":"VALORACION!N15","v":{"$error":"#REF!"}},{"$f":"VALORACION!P15","v":{"$error":"#REF!"}},{"$f":"VALORACION!R15","v":{"$error":"#REF!"}},{"$f":"VALORACION!L17","v":{"$error":"#REF!"}},{"$f":"VALORACION!N17","v":{"$error":"#REF!"}},{"$f":"VALORACION!P17","v":{"$error":"#REF!"}},{"$f":"VALORACION!R17","v":{"$error":"#REF!"}},{"$f":"VALORACION!L18","v":{"$error":"#REF!"}},{"$f":"VALORACION!N18","v":{"$error":"#REF!"}},{"$f":"VALORACION!P18","v":{"$error":"#REF!"}},{"$f":"VALORACION!R18","v":{"$error":"#REF!"}},{"$f":"VALORACION!P330","v":0},{"$f":"VALORACION!P331","v":0},{"$f":"VALORACION!P332","v":0},{"$f":"VALORACION!M342","v":{"$error":"#REF!"}},{"$f":"IF(OR(VALORACION!D6=VALORACION!V10,VALORACION!D6=VALORACION!V11,VALORACION!D6=VALORACION!V12),VALORACION!D6,\"\")","v":{"$error":"#REF!"}},{"$f":"IF(VALORACION!E14>0,VALORACION!E14,\"\")","v":""},{"$f":"IF(PUNTOS!E45>0,PUNTOS!E45,\"\")","v":{"$error":"#REF!"}},{"$f":"IFERROR(IF(VALORACION!D14>0,VALORACION!G45,\"\"),\"\")","v":""},{"$f":"VALORACION!F14","v":0},{"$f":"PUNTOS!T3","v":0},{"$f":"PUNTOS!T7","v":0},{"$f":"PUNTOS!T9","v":0},{"$f":"PUNTOS!T11","v":0},{"$f":"PUNTOS!T16","v":0},{"$f":"PUNTOS!T17","v":0},{"$f":"PUNTOS!T18","v":0},{"$f":"IFERROR(PUNTOS!T19,0)","v":0},{"$f":"PUNTOS!T20","v":{"$error":"#REF!"}},{"$f":"PUNTOS!T21","v":0},{"$f":"PUNTOS!T22","v":{"$error":"#REF!"}},{"$f":"PUNTOS!T23","v":0},{"$f":"IFERROR(PUNTOS!D27,0)","v":0},{"$f":"IF(PUNTOS!B35>0,PUNTOS!B35,\"\")","v":""},{"$f":"IF(PUNTOS!B33>0,PUNTOS!B33,\"\")","v":""},{"$f":"IF(PUNTOS!F44>0,PUNTOS!F44,\"\")","v":""},{"$f":"IF(PUNTOS!G44>0,PUNTOS!G44,\"\")","v":""},{"$f":"IFERROR(IF(VALORACION!D49>0,VALORACION!D49,\"\"),\"\")","v":""},{"$f":"IF(#REF!>0,#REF!,\"\")","v":{"$error":"#REF!"}},null,null,null,{"$f":"IF(VALORACION!G27>0,VALORACION!G27,\"\")","v":{"$error":"#REF!"}},null,null,null,{"$f":"IF(#REF!>0,#REF!,\"\")","v":{"$error":"#REF!"}},{"$f":"IF(#REF!>0,#REF!,\"\")","v":{"$error":"#REF!"}},{"$f":"IF(#REF!>0,#REF!,\"\")","v":{"$error":"#REF!"}},{"$f":"IF(#REF!>0,#REF!,\"\")","v":{"$error":"#REF!"}},{"$f":"IF(VALORACION!D3>0,VALORACION!D3,\"\")","v":""},{"$f":"IF(#REF!>0,#REF!,\"\")","v":{"$error":"#REF!"}},{"$f":"IF(#REF!>0,VALORACION!G27,\"\")","v":{"$error":"#REF!"}},{"$f":"IF(#REF!>0,#REF!,\"\")","v":{"$error":"#REF!"}},{"$f":"IF(VALORACION!G31>0,VALORACION!G31,\"\")","v":""},{"$f":"IF(VALORACION!G32>0,VALORACION!G32,\"\")","v":""},{"$f":"IF(VALORACION!G33>0,VALORACION!G33,\"\")","v":""},{"$f":"IF(VALORACION!G34>0,VALORACION!G34,\"\")","v":""},{"$f":"IF(VALORACION!G35>0,VALORACION!G35,\"\")","v":""},{"$f":"IF(VALORACION!G30>0,VALORACION!G30,\"\")","v":""},{"$f":"IF(VALORACION!A59>0,VALORACION!A59,\"\")","v":""},{"$f":"IF(VALORACION!A104>0,VALORACION!A104,\"\")","v":""},{"$f":"IF(VALORACION!A217>0,VALORACION!A217,\"\")","v":""},{"$f":"IF(VALORACION!A263>0,VALORACION!A263,\"\")","v":""},{"$f":"IF(VALORACION!A322>0,VALORACION!A322,\"\")","v":""},{"$f":"IF(PUNTOS!F43>0,PUNTOS!F43,\"\")","v":""},{"$f":"IFERROR(VALORACION!G41,\"\")","v":""},{"$f":"IF(PUNTOS!H41>0,PUNTOS!H41,\"\")","v":"0011-1365-2024-000"},{"$f":"IF(PUNTOS!J41>0,PUNTOS!J41,\"\")","v":"0011-1365-2024-000"},{"$f":"IF(PUNTOS!L41>0,PUNTOS!L41,\"\")","v":"0011-1365-2024-000"},{"$f":"IF(PUNTOS!N41>0,PUNTOS!N41,\"\")","v":"0011-1365-2024-000"},{"$f":"IF(PUNTOS!P41>0,PUNTOS!P41,\"\")","v":"0011-1365-2024-000"},{"$f":"IF(PUNTOS!H42>0,PUNTOS!H42,\"\")","v":""},{"$f":"IF(PUNTOS!J42>0,PUNTOS!J42,\"\")","v":""},{"$f":"IF(PUNTOS!L42>0,PUNTOS!L42,\"\")","v":""},{"$f":"IF(PUNTOS!N42>0,PUNTOS!N42,\"\")","v":""},{"$f":"IF(PUNTOS!P42>0,PUNTOS!P42,\"\")","v":""},{"$f":"IF(VALORACION!L361>0,VALORACION!L361,\"\")","v":{"$error":"#REF!"}},{"$f":"IF(VALORACION!L367>0,VALORACION!L367,\"\")","v":{"$error":"#REF!"}},{"$f":"PUNTOS!T49","v":0},{"$f":"IF(PUNTOS!T49>200000,\"SI\",\"\")","v":""},{"$f":"VALORACION!Q17","v":{"$error":"#REF!"}},{"$f":"IF(VALORACION!G42>0,VALORACION!G42,\"\")","v":{"$error":"#N/A"}},{"$f":"IF(VALORACION!G51>0,VALORACION!G51,\"\")","v":""},{"$f":"IFERROR(VALORACION!#REF!,\"\")","v":""},{"$f":"PUNTOS!E47","v":0}]

{"sheet":"ANEXO","index":1,"n_rows":231,"n_cols":13,"rows_kept":231,"cut":false,"hidden":true,"merged":[[194,0,194,2],[18,0,18,2],[19,0,19,2],[230,0,230,2],[228,0,228,2],[133,0,134,2],[133,3,133,4],[24,3,24,8],[137,3,137,8],[26,3,26,4],[26,7,26,8],[218,0,218,2],[219,0,219,2],[220,0,220,2],[221,0,221,2],[210,0,210,2],[229,0,229,2],[227,0,227,2],[195,0,195,2],[196,0,196,2],[197,0,197,2],[198,0,198,2],[199,0,199,2],[188,0,188,2],[204,0,204,2],[205,0,205,2],[206,0,206,2],[207,0,207,2],[208,0,208,2],[209,0,209,2],[200,0,200,2],[201,0,201,2],[202,0,202,2],[203,0,203,2],[216,0,216,2],[217,0,217,2],[211,0,211,2],[212,0,212,2],[222,0,222,2],[226,0,226,2],[223,0,223,2],[224,0,224,2],[225,0,225,2],[215,0,215,2],[213,0,213,2],[214,0,214,2],[190,0,190,2],[191,0,191,2],[192,0,192,2],[193,0,193,2],[182,0,182,2],[183,0,183,2],[184,0,184,2],[185,0,185,2],[186,0,186,2],[187,0,187,2],[189,0,189,2],[176,0,176,2],[177,0,177,2],[178,0,178,2],[179,0,179,2],[180,0,180,2],[181,0,181,2],[170,0,170,2],[171,0,171,2],[172,0,172,2],[173,0,173,2],[174,0,174,2],[175,0,175,2],[164,0,164,2],[165,0,165,2],[166,0,166,2],[167,0,167,2],[168,0,168,2],[169,0,169,2],[158,0,158,2],[159,0,159,2],[160,0,160,2],[161,0,161,2],[162,0,162,2],[163,0,163,2],[152,0,152,2],[153,0,153,2],[154,0,154,2],[155,0,155,2],[156,0,156,2],[157,0,157,2],[147,0,147,2],[148,0,148,2],[149,0,149,2],[145,0,145,2],[150,0,150,2],[151,0,151,2],[126,0,126,2],[127,0,127,2],[139,0,140,2],[146,0,146,2],[142,0,142,2],[144,0,144,2],[143,0,143,2],[123,3,123,4],[123,7,123,8],[123,9,123,10],[139,3,139,4],[139,7,139,8],[139,9,139,10],[133,7,133,8],[123,5,123,6],[133,5,133,6],[139,5,139,6],[133,9,133,10],[117,0,117,2],[118,0,118,2],[120,0,120,2],[128,0,128,2],[131,0,131,2],[141,0,141,2],[129,0,129,2],[130,0,130,2],[135,0,135,2],[123,0,124,2],[121,0,121,2],[125,0,125,2],[119,0,119,2],[111,0,111,2],[112,0,112,2],[113,0,113,2],[114,0,114,2],[115,0,115,2],[116,0,116,2],[105,0,105,2],[106,0,106,2],[107,0,107,2],[108,0,108,2],[109,0,109,2],[110,0,110,2],[99,0,99,2],[100,0,100,2],[101,0,101,2],[102,0,102,2],[103,0,103,2],[104,0,104,2],[94,0,94,2],[95,0,95,2],[89,5,89,6],[96,0,96,2],[97,0,97,2],[98,0,98,2],[89,3,89,4],[89,0,90,2],[89,7,89,8],[89,9,89,10],[91,0,91,2],[92,0,92,2],[93,0,93,2],[83,0,83,2],[84,0,84,2],[85,0,85,2],[86,0,86,2],[87,0,87,2],[77,0,77,2],[78,0,78,2],[79,0,79,2],[80,0,80,2],[81,0,81,2],[82,0,82,2],[71,0,71,2],[72,0,72,2],[73,0,73,2],[74,0,74,2],[75,0,75,2],[76,0,76,2],[66,0,66,2],[61,0,61,2],[67,0,67,2],[68,0,68,2],[69,0,69,2],[70,0,70,2],[52,0,52,2],[53,0,53,2],[62,0,62,2],[63,0,63,2],[64,0,64,2],[65,0,65,2],[55,9,55,10],[33,0,33,2],[34,0,34,2],[30,0,30,2],[31,0,31,2],[46,0,46,2],[47,0,47,2],[48,0,48,2],[49,0,49,2],[50,0,50,2],[51,0,51,2],[40,0,40,2],[41,0,41,2],[42,0,42,2],[43,0,43,2],[44,0,44,2],[45,0,45,2],[59,9,59,10],[55,5,55,6],[59,5,59,6],[55,0,56,2],[55,3,55,4],[55,7,55,8],[20,0,20,2],[21,0,21,2],[57,0,57,2],[59,0,60,2],[59,3,59,4],[59,7,59,8],[36,0,36,2],[37,0,37,2],[38,0,38,2],[39,0,39,2],[32,0,32,2],[26,0,27,2],[22,0,22,2],[26,9,26,10],[28,0,28,2],[29,0,29,2],[35,0,35,2],[26,5,26,6],[1,0,1,10],[2,0,2,10],[4,1,4,10],[5,1,7,10],[16,0,16,2],[17,0,17,2],[3,9,3,10],[14,0,14,2],[15,0,15,2],[8,3,8,8],[10,0,11,2],[10,3,10,4],[10,7,10,8],[10,9,10,10],[12,0,12,2],[13,0,13,2],[10,5,10,6]]}
[]
["PRESUPUESTO"]
["ANEXO 1"]
[{"$f":"CONCATENATE(\"Expediente: \",VALORACION!D2)","v":"Expediente: 0011-1411-2024-000"},null,null,null,null,null,null,null,"Calificación:",{"$f":"VALORACION!D11","v":0}]
["Beneficiaria:",{"$f":"IF(#REF!>0,#REF!,\"\")","v":{"$error":"#REF!"}}]
["Proyecto:",{"$f":"IF(#REF!>0,#REF!,\"\")","v":{"$error":"#REF!"}}]
[]
[]
[null,null,null,"Presupuesto total"]
[]
["PRESUPUESTO DEL PROYECTO (€) ",null,null,"Periodo 1",null,"Periodo 2",null,"Periodo 3",null,"Total "]
[null,null,null,"Solicitado","Aceptado","Solicitado","Aceptado","Solicitado","Aceptado","Solicitado","Aceptado"]
["AMORTIZACIONES",null,null,{"$f":"VALORACION!K6","v":{"$error":"#REF!"}},{"$f":"VALORACION!L6","v":{"$error":"#REF!"}},{"$f":"VALORACION!M6","v":{"$error":"#REF!"}},{"$f":"VALORACION!N6","v":{"$error":"#REF!"}},{"$f":"VALORACION!O6","v":{"$error":"#REF!"}},{"$f":"VALORACION!P6","v":{"$error":"#REF!"}},{"$f":"VALORACION!Q6","v":{"$error":"#REF!"}},{"$f":"VALORACION!R6","v":{"$error":"#REF!"}}]
["PERSONAL ",null,null,{"$f":"VALORACION!K7","v":{"$error":"#REF!"}},{"$f":"VALORACION!L7","v":{"$error":"#REF!"}},{"$f":"VALORACION!M7","v":{"$error":"#REF!"}},{"$f":"VALORACION!N7","v":{"$error":"#REF!"}},{"$f":"VALORACION!O7","v":{"$error":"#REF!"}},{"$f":"VALORACION!P7","v":{"$error":"#REF!"}},{"$f":"VALORACION!Q7","v":{"$error":"#REF!"}},{"$f":"VALORACION!R7","v":{"$error":"#REF!"}}]
["Personal dedicado en exclusiva a I+D",null,null,{"$f":"VALORACION!K8","v":{"$error":"#REF!"}},{"$f":"VALORACION!L8","v":0},{"$f":"VALORACION!M8","v":{"$error":"#REF!"}},{"$f":"VALORACION!N8","v":0},{"$f":"VALORACION!O8","v":{"$error":"#REF!"}},{"$f":"VALORACION!P8","v":0},{"$f":"VALORACION!Q8","v":{"$error":"#REF!"}},{"$f":"VALORACION!R8","v":0}]
["Otro personal de I+D",null,null,{"$f":"VALORACION!K9","v":{"$error":"#REF!"}},{"$f":"VALORACION!L9","v":{"$error":"#REF!"}},{"$f":"VALORACION!M9","v":{"$error":"#REF!"}},{"$f":"VALORACION!N9","v":{"$error":"#REF!"}},{"$f":"VALORACION!O9","v":{"$error":"#REF!"}},{"$f":"VALORACION!P9","v":{"$error":"#REF!"}},{"$f":"VALORACION!Q9","v":{"$error":"#REF!"}},{"$f":"VALORACION!R9","v":{"$error":"#REF!"}}]
["MATERIALES ",null,null,{"$f":"VALORACION!K10","v":{"$error":"#REF!"}},{"$f":"VALORACION!L10","v":{"$error":"#REF!"}},{"$f":"VALORACION!M10","v":{"$error":"#REF!"}},{"$f":"VALORACION!N10","v":{"$error":"#REF!"}},{"$f":"VALORACION!O10","v":{"$error":"#REF!"}},{"$f":"VALORACION!P10","v":{"$error":"#REF!"}},{"$f":"VALORACION!Q10","v":{"$error":"#REF!"}},{"$f":"VALORACION!R10","v":{"$error":"#REF!"}}]
["COLABORACIONES EXTERNAS ",null,null,{"$f":"VALORACION!K11","v":{"$error":"#REF!"}},{"$f":"VALORACION!L11","v":{"$error":"#REF!"}},{"$f":"VALORACION!M11","v":{"$error":"#REF!"}},{"$f":"VALORACION!N11","v":{"$error":"#REF!"}},{"$f":"VALORACION!O11","v":{"$error":"#REF!"}},{"$f":"VALORACION!P11","v":{"$error":"#REF!"}},{"$f":"VALORACION!Q11","v":{"$error":"#REF!"}},{"$f":"VALORACION!R11","v":{"$error":"#REF!"}}]
["Universidades + CCTT + OPI+ Unidades de I+D+i empresarial",null,null,{"$f":"VALORACION!K12","v":{"$error":"#REF!"}},{"$f":"VALORACION!L12","v":0},{"$f":"VALORACION!M12","v":{"$error":"#REF!"}},{"$f":"VALORACION!N12","v":0},{"$f":"VALORACION!O12","v":{"$error":"#REF!"}},{"$f":"VALORACION!P12","v":0},{"$f":"VALORACION!Q12","v":{"$error":"#REF!"}},{"$f":"VALORACION!R12","v":0}]
["Otras colaboraciones (empresas)",null,null,{"$f":"VALORACION!K13","v":{"$error":"#REF!"}},{"$f":"VALORACION!L13","v":0},{"$f":"VALORACION!M13","v":{"$error":"#REF!"}},{"$f":"VALORACION!N13","v":0},{"$f":"VALORACION!O13","v":{"$error":"#REF!"}},{"$f":"VALORACION!P13","v":0},{"$f":"VALORACION!Q13","v":{"$error":"#REF!"}},{"$f":"VALORACION!R13","v":0}]
["OTROS COSTES",null,null,{"$f":"VALORACION!K14","v":{"$error":"#REF!"}},{"$f":"VALORACION!L14","v":{"$error":"#REF!"}},{"$f":"VALORACION!M14","v":{"$error":"#REF!"}},{"$f":"VALORACION!N14","v":{"$error":"#REF!"}},{"$f":"VALORACION!O14","v":{"$error":"#REF!"}},{"$f":"VALORACION!P14","v":{"$error":"#REF!"}},{"$f":"VALORACION!Q14","v":{"$error":"#REF!"}},{"$f":"VALORACION!R14","v":{"$error":"#REF!"}}]
["COSTES INDIRECTOS",null,null,{"$f":"VALORACION!K15","v":{"$error":"#REF!"}},{"$f":"VALORACION!L15","v":{"$error":"#REF!"}},{"$f":"VALORACION!M15","v":{"$error":"#REF!"}},{"$f":"VALORACION!N15","v":{"$error":"#REF!"}},{"$f":"VALORACION!O15","v":{"$error":"#REF!"}},{"$f":"VALORACION!P15","v":{"$error":"#REF!"}},{"$f":"VALORACION!Q15","v":{"$error":"#REF!"}},{"$f":"VALORACION!R15","v":{"$error":"#REF!"}}]
["TOTAL",null,null,{"$f":"VALORACION!K17","v":{"$error":"#REF!"}},{"$f":"VALORACION!L17","v":{"$error":"#REF!"}},{"$f":"VALORACION!M17","v":{"$error":"#REF!"}},{"$f":"VALORACION!N17","v":{"$error":"#REF!"}},{"$f":"VALORACION!O17","v":{"$error":"#REF!"}},{"$f":"VALORACION!P17","v":{"$error":"#REF!"}},{"$f":"VALORACION!Q17","v":{"$error":"#REF!"}},{"$f":"VALORACION!R17","v":{"$error":"#REF!"}}]
[]
[null,null,null,"Desglose"]
[]
["AMORTIZACIONES",null,null,"Periodo 1",null,"Periodo 2",null,"Periodo 3",null,"Total "]
[null,null,null,"Solicitado","Aceptado","Solicitado","Aceptado","Solicitado","Aceptado","Solicitado","Aceptado"]
[{"$f":"VALORACION!A72","v":{"$error":"#REF!"}},null,null,{"$f":"VALORACION!I72","v":{"$error":"#REF!"}},{"$f":"VALORACION!J72","v":{"$error":"#REF!"}},{"$f":"VALORACION!M72","v":{"$error":"#REF!"}},{"$f":"VALORACION!N72","v":{"$error":"#REF!"}},{"$f":"VALORACION!Q72","v":{"$error":"#REF!"}},{"$f":"VALORACION!R72","v":{"$error":"#REF!"}},{"$f":"VALORACION!S72","v":{"$error":"#REF!"}},{"$f":"VALORACION!T72","v":{"$error":"#REF!"}},null,{"$f":"IF(A29=0,\"Ocultar fila\",\"\")","v":{"$error":"#REF!"}}]
[{"$f":"VALORACION!A73","v":{"$error":"#REF!"}},null,null,{"$f":"VALORACION!I73","v":{"$error":"#REF!"}},{"$f":"VALORACION!J73","v":{"$error":"#REF!"}},{"$f":"VALORACION!M73","v":{"$error":"#REF!"}},{"$f":"VALORACION!N73","v":{"$error":"#REF!"}},{"$f":"VALORACION!Q73","v":{"$error":"#REF!"}},{"$f":"VALORACION!R73","v":{"$error":"#REF!"}},{"$f":"VALORACION!S73","v":{"$error":"#REF!"}},{"$f":"VALORACION!T73","v":{"$error":"#REF!"}},null,{"$f":"IF(A30=0,\"Ocultar fila\",\"\")","v":{"$error":"#REF!"}}]
[{"$f":"VALORACION!A74","v":{"$error":"#REF!"}},null,null,{"$f":"VALORACION!I74","v":{"$error":"#REF!"}},{"$f":"VALORACION!J74","v":{"$error":"#REF!"}},{"$f":"VALORACION!M74","v":{"$error":"#REF!"}},{"$f":"VALORACION!N74","v":{"$error":"#REF!"}},{"$f":"VALORACION!Q74","v":{"$error":"#REF!"}},{"$f":"VALORACION!R74","v":{"$error":"#REF!"}},{"$f":"VALORACION!S74","v":{"$error":"#REF!"}},{"$f":"VALORACION!T74","v":{"$error":"#REF!"}},null,{"$error":"#REF!"}]
[{"$f":"VALORACION!A75","v":{"$error":"#REF!"}},null,null,{"$f":"VALORACION!I75","v":{"$error":"#REF!"}},{"$f":"VALORACION!J75","v":{"$error":"#REF!"}},{"$f":"VALORACION!M75","v":{"$error":"#REF!"}},{"$f":"VALORACION!N75","v":{"$error":"#REF!"}},{"$f":"VALORACION!Q75","v":{"$error":"#REF!"}},{"$f":"VALORACION!R75","v":{"$error":"#REF!"}},{"$f":"VALORACION!S75","v":{"$error":"#REF!"}},{"$f":"VALORACION!T75","v":{"$error":"#REF!"}},null,{"$error":"#REF!"}]
[{"$f":"VALORACION!A76","v":{"$error":"#REF!"}},null,null,{"$f":"VALORACION!I76","v":{"$error":"#REF!"}},{"$f":"VALORACION!J76","v":{"$error":"#REF!"}},{"$f":"VALORACION!M76","v":{"$error":"#REF!"}},{"$f":"VALORACION!N76","v":{"$error":"#REF!"}},{"$f":"VALORACION!Q76","v":{"$error":"#REF!"}},{"$f":"VALORACION!R76","v":{"$error":"#REF!"}},{"$f":"VALORACION!S76","v":{"$error":"#REF!"}},{"$f":"VALORACION!T76","v":{"$error":"#REF!"}},null,{"$error":"#REF!"}]
[{"$f":"VALORACION!A77","v":{"$error":"#REF!"}},null,null,{"$f":"VALORACION!I77","v":{"$error":"#REF!"}},{"$f":"VALORACION!J77","v":{"$error":"#REF!"}},{"$f":"VALORACION!M77","v":{"$error":"#REF!"}},{"$f":"VALORACION!N77","v":{"$error":"#REF!"}},{"$f":"VALORACION!Q77","v":{"$error":"#REF!"}},{"$f":"VALORACION!R77","v":{"$error":"#REF!"}},{"$f":"VALORACION!S77","v":{"$error":"#REF!"}},{"$f":"VALORACION!T77","v":{"$error":"#REF!"}},null,{"$error":"#REF!"}]
[{"$f":"VALORACION!A78","v":{"$error":"#REF!"}},null,null,{"$f":"VALORACION!I78","v":{"$error":"#REF!"}},{"$f":"VALORACION!J78","v":{"$error":"#REF!"}},{"$f":"VALORACION!M78","v":{"$error":"#REF!"}},{"$f":"VALORACION!N78","v":{"$error":"#REF!"}},{"$f":"VALORACION!Q78","v":{"$error":"#REF!"}},{"$f":"VALORACION!R78","v":{"$error":"#REF!"}},{"$f":"VALORACION!S78","v":{"$error":"#REF!"}},{"$f":"VALORACION!T78","v":{"$error":"#REF!"}},null,{"$error":"#REF!"}]
[{"$f":"VALORACION!A79","v":{"$error":"#REF!"}},null,null,{"$f":"VALORACION!I79","v":{"$error":"#REF!"}},{"$f":"VALORACION!J79","v":{"$error":"#REF!"}},{"$f":"VALORACION!M79","v":{"$error":"#REF!"}},{"$f":"VALORACION!N79","v":{"$error":"#REF!"}},{"$f":"VALORACION!Q79","v":{"$error":"#REF!"}},{"$f":"VALORACION!R79","v":{"$error":"#REF!"}},{"$f":"VALORACION!S79","v":{"$error":"#REF!"}},{"$f":"VALORACION!T79","v":{"$error":"#REF!"}},null,{"$error":"#REF!"}]
[{"$f":"VALORACION!A80","v":{"$error":"#REF!"}},null,null,{"$f":"VALORACION!I80","v":{"$error":"#REF!"}},{"$f":"VALORACION!J80","v":{"$error":"#REF!"}},{"$f":"VALORACION!M80","v":{"$error":"#REF!"}},{"$f":"VALORACION!N80","v":{"$error":"#REF!"}},{"$f":"VALORACION!Q80","v":{"$error":"#REF!"}},{"$f":"VALORACION!R80","v":{"$error":"#REF!"}},{"$f":"VALORACION!S80","v":{"$error":"#REF!"}},{"$f":"VALORACION!T80","v":{"$error":"#REF!"}},null,{"$error":"#REF!"}]
[{"$f":"VALORACION!A81","v":{"$error":"#REF!"}},null,null,{"$f":"VALORACION!I81","v":{"$error":"#REF!"}},{"$f":"VALORACION!J81","v":{"$error":"#REF!"}},{"$f":"VALORACION!M81","v":{"$error":"#REF!"}},{"$f":"VALORACION!N81","v":{"$error":"#REF!"}},{"$f":"VALORACION!Q81","v":{"$error":"#REF!"}},{"$f":"VALORACION!R81","v":{"$error":"#REF!"}},{"$f":"VALORACION!S81","v":{"$error":"#REF!"}},{"$f":"VALORACION!T81","v":{"$error":"#REF!"}},null,{"$error":"#REF!"}]
[{"$f":"VALORACION!A82","v":{"$error":"#REF!"}},null,null,{"$f":"VALORACION!I82","v":{"$error":"#REF!"}},{"$f":"VALORACION!J82","v":{"$error":"#REF!"}},{"$f":"VALORACION!M82","v":{"$error":"#REF!"}},{"$f":"VALORACION!N82","v":{"$error":"#REF!"}},{"$f":"VALORACION!Q82","v":{"$error":"#REF!"}},{"$f":"VALORACION!R82","v":{"$error":"#REF!"}},{"$f":"VALORACION!S82","v":{"$error":"#REF!"}},{"$f":"VALORACION!T82","v":{"$error":"#REF!"}},null,{"$error":"#REF!"}]
[{"$f":"VALORACION!A83","v":{"$error":"#REF!"}},null,null,{"$f":"VALORACION!I83","v":{"$error":"#REF!"}},{"$f":"VALORACION!J83","v":{"$error":"#REF!"}},{"$f":"VALORACION!M83","v":{"$error":"#REF!"}},{"$f":"VALORACION!N83","v":{"$error":"#REF!"}},{"$f":"VALORACION!Q83","v":{"$error":"#REF!"}},{"$f":"VALORACION!R83","v":{"$error":"#REF!"}},{"$f":"VALORACION!S83","v":{"$error":"#REF!"}},{"$f":"VALORACION!T83","v":{"$error":"#REF!"}},null,{"$error":"#REF!"}]
[{"$f":"VALORACION!A84","v":{"$error":"#REF!"}},null,null,{"$f":"VALORACION!I84","v":{"$error":"#REF!"}},{"$f":"VALORACION!J84","v":{"$error":"#REF!"}},{"$f":"VALORACION!M84","v":{"$error":"#REF!"}},{"$f":"VALORACION!N84","v":{"$error":"#REF!"}},{"$f":"VALORACION!Q84","v":{"$error":"#REF!"}},{"$f":"VALORACION!R84","v":{"$error":"#REF!"}},{"$f":"VALORACION!S84","v":{"$error":"#REF!"}},{"$f":"VALORACION!T84","v":{"$error":"#REF!"}},null,{"$error":"#REF!"}]
[{"$f":"VALORACION!A85","v":{"$error":"#REF!"}},null,null,{"$f":"VALORACION!I85","v":{"$error":"#REF!"}},{"$f":"VALORACION!J85","v":{"$error":"#REF!"}},{"$f":"VALORACION!M85","v":{"$error":"#REF!"}},{"$f":"VALORACION!N85","v":{"$error":"#REF!"}},{"$f":"VALORACION!Q85","v":{"$error":"#REF!"}},{"$f":"VALORACION!R85","v":{"$error":"#REF!"}},{"$f":"VALORACION!S85","v":{"$error":"#REF!"}},{"$f":"VALORACION!T85","v":{"$error":"#REF!"}},null,{"$error":"#REF!"}]
[{"$f":"VALORACION!A86","v":{"$error":"#REF!"}},null,null,{"$f":"VALORACION!I86","v":{"$error":"#REF!"}},{"$f":"VALORACION!J86","v":{"$error":"#REF!"}},{"$f":"VALORACION!M86","v":{"$error":"#REF!"}},{"$f":"VALORACION!N86","v":{"$error":"#REF!"}},{"$f":"VALORACION!Q86","v":{"$error":"#REF!"}},{"$f":"VALORACION!R86","v":{"$error":"#REF!"}},{"$f":"VALORACION!S86","v":{"$error":"#REF!"}},{"$f":"VALORACION!T86","v":{"$error":"#REF!"}},null,{"$error":"#REF!"}]
[{"$f":"VALORACION!A87","v":{"$error":"#REF!"}},null,null,{"$f":"VALORACION!I87","v":{"$error":"#REF!"}},{"$f":"VALORACION!J87","v":{"$error":"#REF!"}},{"$f":"VALORACION!M87","v":{"$error":"#REF!"}},{"$f":"VALORACION!N87","v":{"$error":"#REF!"}},{"$f":"VALORACION!Q87","v":{"$error":"#REF!"}},{"$f":"VALORACION!R87","v":{"$error":"#REF!"}},{"$f":"VALORACION!S87","v":{"$error":"#REF!"}},{"$f":"VALORACION!T87","v":{"$error":"#REF!"}},null,{"$error":"#REF!"}]
[{"$f":"VALORACION!A88","v":{"$error":"#REF!"}},null,null,{"$f":"VALORACION!I88","v":{"$error":"#REF!"}},{"$f":"VALORACION!J88","v":{"$error":"#REF!"}},{"$f":"VALORACION!M88","v":{"$error":"#REF!"}},{"$f":"VALORACION!N88","v":{"$error":"#REF!"}},{"$f":"VALORACION!Q88","v":{"$error":"#REF!"}},{"$f":"VALORACION!R88","v":{"$error":"#REF!"}},{"$f":"VALORACION!S88","v":{"$error":"#REF!"}},{"$f":"VALORACION!T88","v":{"$error":"#REF!"}},null,{"$error":"#REF!"}]
[{"$f":"VALORACION!A89","v":{"$error":"#REF!"}},null,null,{"$f":"VALORACION!I89","v":{"$error":"#REF!"}},{"$f":"VALORACION!J89","v":{"$error":"#REF!"}},{"$f":"VALORACION!M89","v":{"$error":"#REF!"}},{"$f":"VALORACION!N89","v":{"$error":"#REF!"}},{"$f":"VALORACION!Q89","v":{"$error":"#REF!"}},{"$f":"VALORACION!R89","v":{"$error":"#REF!"}},{"$f":"VALORACION!S89","v":{"$error":"#REF!"}},{"$f":"VALORACION!T89","v":{"$error":"#REF!"}},null,{"$error":"#REF!"}]
[{"$f":"VALORACION!A90","v":{"$error":"#REF!"}},null,null,{"$f":"VALORACION!I90","v":{"$error":"#REF!"}},{"$f":"VALORACION!J90","v":{"$error":"#REF!"}},{"$f":"VALORACION!M90","v":{"$error":"#REF!"}},{"$f":"VALORACION!N90","v":{"$error":"#REF!"}},{"$f":"VALORACION!Q90","v":{"$error":"#REF!"}},{"$f":"VALORACION!R90","v":{"$error":"#REF!"}},{"$f":"VALORACION!S90","v":{"$error":"#REF!"}},{"$f":"VALORACION!T90","v":{"$error":"#REF!"}},null,{"$error":"#REF!"}]
[{"$f":"VALORACION!A91","v":{"$error":"#REF!"}},null,null,{"$f":"VALORACION!I91","v":{"$error":"#REF!"}},{"$f":"VALORACION!J91","v":{"$error":"#REF!"}},{"$f":"VALORACION!M91","v":{"$error":"#REF!"}},{"$f":"VALORACION!N91","v":{"$error":"#REF!"}},{"$f":"VALORACION!Q91","v":{"$error":"#REF!"}},{"$f":"VALORACION!R91","v":{"$error":"#REF!"}},{"$f":"VALORACION!S91","v":{"$error":"#REF!"}},{"$f":"VALORACION!T91","v":{"$error":"#REF!"}},null,{"$error":"#REF!"}]
[{"$f":"VALORACION!A92","v":{"$error":"#REF!"}},null,null,{"$f":"VALORACION!I92","v":{"$error":"#REF!"}},{"$f":"VALORACION!J92","v":{"$error":"#REF!"}},{"$f":"VALORACION!M92","v":{"$error":"#REF!"}},{"$f":"VALORACION!N92","v":{"$error":"#REF!"}},{"$f":"VALORACION!Q92","v":{"$error":"#REF!"}},{"$f":"VALORACION!R92","v":{"$error":"#REF!"}},{"$f":"VALORACION!S92","v":{"$error":"#REF!"}},{"$f":"VALORACION!T92","v":{"$error":"#REF!"}},null,{"$error":"#REF!"}]
[{"$f":"VALORACION!A93","v":{"$error":"#REF!"}},null,null,{"$f":"VALORACION!I93","v":{"$error":"#REF!"}},{"$f":"VALORACION!J93","v":{"$error":"#REF!"}},{"$f":"VALORACION!M93","v":{"$error":"#REF!"}},{"$f":"VALORACION!N93","v":{"$error":"#REF!"}},{"$f":"VALORACION!Q93","v":{"$error":"#REF!"}},{"$f":"VALORACION!R93","v":{"$error":"#REF!"}},{"$f":"VALORACION!S93","v":{"$error":"#REF!"}},{"$f":"VALORACION!T93","v":{"$error":"#REF!"}},null,{"$error":"#REF!"}]
[{"$f":"VALORACION!A94","v":{"$error":"#REF!"}},null,null,{"$f":"VALORACION!I94","v":{"$error":"#REF!"}},{"$f":"VALORACION!J94","v":{"$error":"#REF!"}},{"$f":"VALORACION!M94","v":{"$error":"#REF!"}},{"$f":"VALORACION!N94","v":{"$error":"#REF!"}},{"$f":"VALORACION!Q94","v":{"$error":"#REF!"}},{"$f":"VALORACION!R94","v":{"$error":"#REF!"}},{"$f":"VALORACION!S94","v":{"$error":"#REF!"}},{"$f":"VALORACION!T94","v":{"$error":"#REF!"}},null,{"$error":"#REF!"}]
[{"$f":"VALORACION!A95","v":{"$error":"#REF!"}},null,null,{"$f":"VALORACION!I95","v":{"$error":"#REF!"}},{"$f":"VALORACION!J95","v":{"$error":"#REF!"}},{"$f":"VALORACION!M95","v":{"$error":"#REF!"}},{"$f":"VALORACION!N95","v":{"$error":"#REF!"}},{"$f":"VALORACION!Q95","v":{"$error":"#REF!"}},{"$f":"VALORACION!R95","v":{"$error":"#REF!"}},{"$f":"VALORACION!S95","v":{"$error":"#REF!"}},{"$f":"VALORACION!T95","v":{"$error":"#REF!"}},null,{"$error":"#REF!"}]
[{"$f":"VALORACION!A96","v":{"$error":"#REF!"}},null,null,{"$f":"VALORACION!I96","v":{"$error":"#REF!"}},{"$f":"VALORACION!J96","v":{"$error":"#REF!"}},{"$f":"VALORACION!M96","v":{"$error":"#REF!"}},{"$f":"VALORACION!N96","v":{"$error":"#REF!"}},{"$f":"VALORACION!Q96","v":{"$error":"#REF!"}},{"$f":"VALORACION!R96","v":{"$error":"#REF!"}},{"$f":"VALORACION!S96","v":{"$error":"#REF!"}},{"$f":"VALORACION!T96","v":{"$error":"#REF!"}},null,{"$error":"#REF!"}]
["TOTAL",null,null,{"$f":"VALORACION!I97","v":{"$error":"#REF!"}},{"$f":"VALORACION!J97","v":{"$error":"#REF!"}},{"$f":"VALORACION!M97","v":{"$error":"#REF!"}},{"$f":"VALORACION!N97","v":{"$error":"#REF!"}},{"$f":"VALORACION!Q97","v":{"$error":"#REF!"}},{"$f":"VALORACION!R97","v":{"$error":"#REF!"}},{"$f":"VALORACION!S97","v":{"$error":"#REF!"}},{"$f":"VALORACION!T97","v":{"$error":"#REF!"}}]
[]
["PERSONAL",null,null,"Periodo 1",null,"Periodo 2",null,"Periodo 3",null,"Total "]
[null,null,null,"Solicitado","Aceptado","Solicitado","Aceptado","Solicitado","Aceptado","Solicitado","Aceptado"]
["TOTAL",null,null,{"$f":"D14","v":{"$error":"#REF!"}},{"$error":"#REF!"},{"$error":"#REF!"},{"$error":"#REF!"},{"$error":"#REF!"},{"$error":"#REF!"},{"$error":"#REF!"},{"$error":"#REF!"}]
[]
["MATERIALES",null,null,"Periodo 1",null,"Periodo 2",null,"Periodo 3",null,"Total "]
[null,null,null,"Solicitado","Aceptado","Solicitado","Aceptado","Solicitado","Aceptado","Solicitado","Aceptado"]
[{"$f":"VALORACION!A230","v":{"$error":"#REF!"}},null,null,{"$f":"VALORACION!E230","v":{"$error":"#REF!"}},{"$f":"VALORACION!F230","v":{"$error":"#REF!"}},{"$f":"VALORACION!G230","v":{"$error":"#REF!"}},{"$f":"VALORACION!H230","v":{"$error":"#REF!"}},{"$f":"VALORACION!I230","v":{"$error":"#REF!"}},{"$f":"VALORACION!J230","v":{"$error":"#REF!"}},{"$f":"VALORACION!K230","v":{"$error":"#REF!"}},{"$f":"VALORACION!L230","v":{"$error":"#REF!"}},null,{"$f":"IF(A62=0,\"Ocultar fila\",\"\")","v":{"$error":"#REF!"}}]
[{"$f":"VALORACION!A231","v":{"$error":"#REF!"}},null,null,{"$f":"VALORACION!E231","v":{"$error":"#REF!"}},{"$f":"VALORACION!F231","v":{"$error":"#REF!"}},{"$f":"VALORACION!G231","v":{"$error":"#REF!"}},{"$f":"VALORACION!H231","v":{"$error":"#REF!"}},{"$f":"VALORACION!I231","v":{"$error":"#REF!"}},{"$f":"VALORACION!J231","v":{"$error":"#REF!"}},{"$f":"VALORACION!K231","v":{"$error":"#REF!"}},{"$f":"VALORACION!L231","v":{"$error":"#REF!"}},null,{"$error":"#REF!"}]
[{"$f":"VALORACION!A232","v":{"$error":"#REF!"}},null,null,{"$f":"VALORACION!E232","v":{"$error":"#REF!"}},{"$f":"VALORACION!F232","v":{"$error":"#REF!"}},{"$f":"VALORACION!G232","v":{"$error":"#REF!"}},{"$f":"VALORACION!H232","v":{"$error":"#REF!"}},{"$f":"VALORACION!I232","v":{"$error":"#REF!"}},{"$f":"VALORACION!J232","v":{"$error":"#REF!"}},{"$f":"VALORACION!K232","v":{"$error":"#REF!"}},{"$f":"VALORACION!L232","v":{"$error":"#REF!"}},null,{"$error":"#REF!"}]
[{"$f":"VALORACION!A233","v":{"$error":"#REF!"}},null,null,{"$f":"VALORACION!E233","v":{"$error":"#REF!"}},{"$f":"VALORACION!F233","v":{"$error":"#REF!"}},{"$f":"VALORACION!G233","v":{"$error":"#REF!"}},{"$f":"VALORACION!H233","v":{"$error":"#REF!"}},{"$f":"VALORACION!I233","v":{"$error":"#REF!"}},{"$f":"VALORACION!J233","v":{"$error":"#REF!"}},{"$f":"VALORACION!K233","v":{"$error":"#REF!"}},{"$f":"VALORACION!L233","v":{"$error":"#REF!"}},null,{"$error":"#REF!"}]
[{"$f":"VALORACION!A234","v":{"$error":"#REF!"}},null,null,{"$f":"VALORACION!E234","v":{"$error":"#REF!"}},{"$f":"VALORACION!F234","v":{"$error":"#REF!"}},{"$f":"VALORACION!G234","v":{"$error":"#REF!"}},{"$f":"VALORACION!H234","v":{"$error":"#REF!"}},{"$f":"VALORACION!I234","v":{"$error":"#REF!"}},{"$f":"VALORACION!J234","v":{"$error":"#REF!"}},{"$f":"VALORACION!K234","v":{"$error":"#REF!"}},{"$f":"VALORACION!L234","v":{"$error":"#REF!"}},null,{"$error":"#REF!"}]
[{"$f":"VALORACION!A235","v":{"$error":"#REF!"}},null,null,{"$f":"VALORACION!E235","v":{"$error":"#REF!"}},{"$f":"VALORACION!F235","v":{"$error":"#REF!"}},{"$f":"VALORACION!G235","v":{"$error":"#REF!"}},{"$f":"VALORACION!H235","v":{"$error":"#REF!"}},{"$f":"VALORACION!I235","v":{"$error":"#REF!"}},{"$f":"VALORACION!J235","v":{"$error":"#REF!"}},{"$f":"VALORACION!K235","v":{"$error":"#REF!"}},{"$f":"VALORACION!L235","v":{"$error":"#REF!"}},null,{"$error":"#REF!"}]
[{"$f":"VALORACION!A236","v":{"$error":"#REF!"}},null,null,{"$f":"VALORACION!E236","v":{"$error":"#REF!"}},{"$f":"VALORACION!F236","v":{"$error":"#REF!"}},{"$f":"VALORACION!G236","v":{"$error":"#REF!"}},{"$f":"VALORACION!H236","v":{"$error":"#REF!"}},{"$f":"VALORACION!I236","v":{"$error":"#REF!"}},{"$f":"VALORACION!J236","v":{"$error":"#REF!"}},{"$f":"VALORACION!K236","v":{"$error":"#REF!"}},{"$f":"VALORACION!L236","v":{"$error":"#REF!"}},null,{"$error":"#REF!"}]
[{"$f":"VALORACION!A237","v":{"$error":"#REF!"}},null,null,{"$f":"VALORACION!E237","v":{"$error":"#REF!"}},{"$f":"VALORACION!F237","v":{"$error":"#REF!"}},{"$f":"VALORACION!G237","v":{"$error":"#REF!"}},{"$f":"VALORACION!H237","v":{"$error":"#REF!"}},{"$f":"VALORACION!I237","v":{"$error":"#REF!"}},{"$f":"VALORACION!J237","v":{"$error":"#REF!"}},{"$f":"VALORACION!K237","v":{"$error":"#REF!"}},{"$f":"VALORACION!L237","v":{"$error":"#REF!"}},null,{"$error":"#REF!"}]
[{"$f":"VALORACION!A238","v":{"$error":"#REF!"}},null,null,{"$f":"VALORACION!E238","v":{"$error":"#REF!"}},{"$f":"VALORACION!F238","v":{"$error":"#REF!"}},{"$f":"VALORACION!G238","v":{"$error":"#REF!"}},{"$f":"VALORACION!H238","v":{"$error":"#REF!"}},{"$f":"VALORACION!I238","v":{"$error":"#REF!"}},{"$f":"VALORACION!J238","v":{"$error":"#REF!"}},{"$f":"VALORACION!K238","v":{"$error":"#REF!"}},{"$f":"VALORACION!L238","v":{"$error":"#REF!"}},null,{"$error":"#REF!"}]
[{"$f":"VALORACION!A239","v":{"$error":"#REF!"}},null,null,{"$f":"VALORACION!E239","v":{"$error":"#REF!"}},{"$f":"VALORACION!F239","v":{"$error":"#REF!"}},{"$f":"VALORACION!G239","v":{"$error":"#REF!"}},{"$f":"VALORACION!H239","v":{"$error":"#REF!"}},{"$f":"VALORACION!I239","v":{"$error":"#REF!"}},{"$f":"VALORACION!J239","v":{"$error":"#REF!"}},{"$f":"VALORACION!K239","v":{"$error":"#REF!"}},{"$f":"VALORACION!L239","v":{"$error":"#REF!"}},null,{"$error":"#REF!"}]
[{"$f":"VALORACION!A240","v":{"$error":"#REF!"}},null,null,{"$f":"VALORACION!E240","v":{"$error":"#REF!"}},{"$f":"VALORACION!F240","v":{"$error":"#REF!"}},{"$f":"VALORACION!G240","v":{"$error":"#REF!"}},{"$f":"VALORACION!H240","v":{"$error":"#REF!"}},{"$f":"VALORACION!I240","v":{"$error":"#REF!"}},{"$f":"VALORACION!J240","v":{"$error":"#REF!"}},{"$f":"VALORACION!K240","v":{"$error":"#REF!"}},{"$f":"VALORACION!L240","v":{"$error":"#REF!"}},null,{"$error":"#REF!"}]
[{"$f":"VALORACION!A241","v":{"$error":"#REF!"}},null,null,{"$f":"VALORACION!E241","v":{"$error":"#REF!"}},{"$f":"VALORACION!F241","v":{"$error":"#REF!"}},{"$f":"VALORACION!G241","v":{"$error":"#REF!"}},{"$f":"VALORACION!H241","v":{"$error":"#REF!"}},{"$f":"VALORACION!I241","v":{"$error":"#REF!"}},{"$f":"VALORACION!J241","v":{"$error":"#REF!"}},{"$f":"VALORACION!K241","v":{"$error":"#REF!"}},{"$f":"VALORACION!L241","v":{"$error":"#REF!"}},null,{"$error":"#REF!"}]
[{"$f":"VALORACION!A242","v":{"$error":"#REF!"}},null,null,{"$f":"VALORACION!E242","v":{"$error":"#REF!"}},{"$f":"VALORACION!F242","v":{"$error":"#REF!"}},{"$f":"VALORACION!G242","v":{"$error":"#REF!"}},{"$f":"VALORACION!H242","v":{"$error":"#REF!"}},{"$f":"VALORACION!I242","v":{"$error":"#REF!"}},{"$f":"VALORACION!J242","v":{"$error":"#REF!"}},{"$f":"VALORACION!K242","v":{"$error":"#REF!"}},{"$f":"VALORACION!L242","v":{"$error":"#REF!"}},null,{"$error":"#REF!"}]
[{"$f":"VALORACION!A243","v":{"$error":"#REF!"}},null,null,{"$f":"VALORACION!E243","v":{"$error":"#REF!"}},{"$f":"VALORACION!F243","v":{"$error":"#REF!"}},{"$f":"VALORACION!G243","v":{"$error":"#REF!"}},{"$f":"VALORACION!H243","v":{"$error":"#REF!"}},{"$f":"VALORACION!I243","v":{"$error":"#REF!"}},{"$f":"VALORACION!J243","v":{"$error":"#REF!"}},{"$f":"VALORACION!K243","v":{"$error":"#REF!"}},{"$f":"VALORACION!L243","v":{"$error":"#REF!"}},null,{"$error":"#REF!"}]
[{"$f":"VALORACION!A244","v":{"$error":"#REF!"}},null,null,{"$f":"VALORACION!E244","v":{"$error":"#REF!"}},{"$f":"VALORACION!F244","v":{"$error":"#REF!"}},{"$f":"VALORACION!G244","v":{"$error":"#REF!"}},{"$f":"VALORACION!H244","v":{"$error":"#REF!"}},{"$f":"VALORACION!I244","v":{"$error":"#REF!"}},{"$f":"VALORACION!J244","v":{"$error":"#REF!"}},{"$f":"VALORACION!K244","v":{"$error":"#REF!"}},{"$f":"VALORACION!L244","v":{"$error":"#REF!"}},null,{"$error":"#REF!"}]
[{"$f":"VALORACION!A245","v":{"$error":"#REF!"}},null,null,{"$f":"VALORACION!E245","v":{"$error":"#REF!"}},{"$f":"VALORACION!F245","v":{"$error":"#REF!"}},{"$f":"VALORACION!G245","v":{"$error":"#REF!"}},{"$f":"VALORACION!H245","v":{"$error":"#REF!"}},{"$f":"VALORACION!I245","v":{"$error":"#REF!"}},{"$f":"VALORACION!J245","v":{"$error":"#REF!"}},{"$f":"VALORACION!K245","v":{"$error":"#REF!"}},{"$f":"VALORACION!L245","v":{"$error":"#REF!"}},null,{"$error":"#REF!"}]
[{"$f":"VALORACION!A246","v":{"$error":"#REF!"}},null,null,{"$f":"VALORACION!E246","v":{"$error":"#REF!"}},{"$f":"VALORACION!F246","v":{"$error":"#REF!"}},{"$f":"VALORACION!G246","v":{"$error":"#REF!"}},{"$f":"VALORACION!H246","v":{"$error":"#REF!"}},{"$f":"VALORACION!I246","v":{"$error":"#REF!"}},{"$f":"VALORACION!J246","v":{"$error":"#REF!"}},{"$f":"VALORACION!K246","v":{"$error":"#REF!"}},{"$f":"VALORACION!L246","v":{"$error":"#REF!"}},null,{"$error":"#REF!"}]
[{"$f":"VALORACION!A247","v":{"$error":"#REF!"}},null,null,{"$f":"VALORACION!E247","v":{"$error":"#REF!"}},{"$f":"VALORACION!F247","v":{"$error":"#REF!"}},{"$f":"VALORACION!G247","v":{"$error":"#REF!"}},{"$f":"VALORACION!H247","v":{"$error":"#REF!"}},{"$f":"VALORACION!I247","v":{"$error":"#REF!"}},{"$f":"VALORACION!J247","v":{"$error":"#REF!"}},{"$f":"VALORACION!K247","v":{"$error":"#REF!"}},{"$f":"VALORACION!L247","v":{"$error":"#REF!"}},null,{"$error":"#REF!"}]
[{"$f":"VALORACION!A248","v":{"$error":"#REF!"}},null,null,{"$f":"VALORACION!E248","v":{"$error":"#REF!"}},{"$f":"VALORACION!F248","v":{"$error":"#REF!"}},{"$f":"VALORACION!G248","v":{"$error":"#REF!"}},{"$f":"VALORACION!H248","v":{"$error":"#REF!"}},{"$f":"VALORACION!I248","v":{"$error":"#REF!"}},{"$f":"VALORACION!J248","v":{"$error":"#REF!"}},{"$f":"VALORACION!K248","v":{"$error":"#REF!"}},{"$f":"VALORACION!L248","v":{"$error":"#REF!"}},null,{"$error":"#REF!"}]
[{"$f":"VALORACION!A249","v":{"$error":"#REF!"}},null,null,{"$f":"VALORACION!E249","v":{"$error":"#REF!"}},{"$f":"VALORACION!F249","v":{"$error":"#REF!"}},{"$f":"VALORACION!G249","v":{"$error":"#REF!"}},{"$f":"VALORACION!H249","v":{"$error":"#REF!"}},{"$f":"VALORACION!I249","v":{"$error":"#REF!"}},{"$f":"VALORACION!J249","v":{"$error":"#REF!"}},{"$f":"VALORACION!K249","v":{"$error":"#REF!"}},{"$f":"VALORACION!L249","v":{"$error":"#REF!"}},null,{"$error":"#REF!"}]
[{"$f":"VALORACION!A250","v":{"$error":"#REF!"}},null,null,{"$f":"VALORACION!E250","v":{"$error":"#REF!"}},{"$f":"VALORACION!F250","v":{"$error":"#REF!"}},{"$f":"VALORACION!G250","v":{"$error":"#REF!"}},{"$f":"VALORACION!H250","v":{"$error":"#REF!"}},{"$f":"VALORACION!I250","v":{"$error":"#REF!"}},{"$f":"VALORACION!J250","v":{"$error":"#REF!"}},{"$f":"VALORACION!K250","v":{"$error":"#REF!"}},{"$f":"VALORACION!L250","v":{"$error":"#REF!"}},null,{"$error":"#REF!"}]
[{"$f":"VALORACION!A251","v":{"$error":"#REF!"}},null,null,{"$f":"VALORACION!E251","v":{"$error":"#REF!"}},{"$f":"VALORACION!F251","v":{"$error":"#REF!"}},{"$f":"VALORACION!G251","v":{"$error":"#REF!"}},{"$f":"VALORACION!H251","v":{"$error":"#REF!"}},{"$f":"VALORACION!I251","v":{"$error":"#REF!"}},{"$f":"VALORACION!J251","v":{"$error":"#REF!"}},{"$f":"VALORACION!K251","v":{"$error":"#REF!"}},{"$f":"VALORACION!L251","v":{"$error":"#REF!"}},null,{"$error":"#REF!"}]
[{"$f":"VALORACION!A252","v":{"$error":"#REF!"}},null,null,{"$f":"VALORACION!E252","v":{"$error":"#REF!"}},{"$f":"VALORACION!F252","v":{"$error":"#REF!"}},{"$f":"VALORACION!G252","v":{"$error":"#REF!"}},{"$f":"VALORACION!H252","v":{"$error":"#REF!"}},{"$f":"VALORACION!I252","v":{"$error":"#REF!"}},{"$f":"VALORACION!J252","v":{"$error":"#REF!"}},{"$f":"VALORACION!K252","v":{"$error":"#REF!"}},{"$f":"VALORACION!L252","v":{"$error":"#REF!"}},null,{"$error":"#REF!"}]
[{"$f":"VALORACION!A253","v":{"$error":"#REF!"}},null,null,{"$f":"VALORACION!E253","v":{"$error":"#REF!"}},{"$f":"VALORACION!F253","v":{"$error":"#REF!"}},{"$f":"VALORACION!G253","v":{"$error":"#REF!"}},{"$f":"VALORACION!H253","v":{"$error":"#REF!"}},{"$f":"VALORACION!I253","v":{"$error":"#REF!"}},{"$f":"VALORACION!J253","v":{"$error":"#REF!"}},{"$f":"VALORACION!K253","v":{"$error":"#REF!"}},{"$f":"VALORACION!L253","v":{"$error":"#REF!"}},null,{"$error":"#REF!"}]
[{"$f":"VALORACION!A254","v":{"$error":"#REF!"}},null,null,{"$f":"VALORACION!E254","v":{"$error":"#REF!"}},{"$f":"VALORACION!F254","v":{"$error":"#REF!"}},{"$f":"VALORACION!G254","v":{"$error":"#REF!"}},{"$f":"VALORACION!H254","v":{"$error":"#REF!"}},{"$f":"VALORACION!I254","v":{"$error":"#REF!"}},{"$f":"VALORACION!J254","v":{"$error":"#REF!"}},{"$f":"VALORACION!K254","v":{"$error":"#REF!"}},{"$f":"VALORACION!L254","v":{"$error":"#REF!"}},null,{"$error":"#REF!"}]
[{"$f":"VALORACION!A255","v":{"$error":"#REF!"}},null,null,{"$f":"VALORACION!E255","v":{"$error":"#REF!"}},{"$f":"VALORACION!F255","v":{"$error":"#REF!"}},{"$f":"VALORACION!G255","v":{"$error":"#REF!"}},{"$f":"VALORACION!H255","v":{"$error":"#REF!"}},{"$f":"VALORACION!I255","v":{"$error":"#REF!"}},{"$f":"VALORACION!J255","v":{"$error":"#REF!"}},{"$f":"VALORACION!K255","v":{"$error":"#REF!"}},{"$f":"VALORACION!L255","v":{"$error":"#REF!"}},null,{"$error":"#REF!"}]
["TOTAL",null,null,{"$f":"VALORACION!E256","v":{"$error":"#REF!"}},{"$f":"VALORACION!F256","v":{"$error":"#REF!"}},{"$f":"VALORACION!G256","v":{"$error":"#REF!"}},{"$f":"VALORACION!H256","v":{"$error":"#REF!"}},{"$f":"VALORACION!I256","v":{"$error":"#REF!"}},{"$f":"VALORACION!J256","v":{"$error":"#REF!"}},{"$f":"VALORACION!K256","v":{"$error":"#REF!"}},{"$f":"VALORACION!L256","v":{"$error":"#REF!"}}]
[]
["COLABORACIONES",null,null,"Periodo 1",null,"Periodo 2",null,"Periodo 3",null,"Total "]
[null,null,null,"Solicitado","Aceptado","Solicitado","Aceptado","Solicitado","Aceptado","Solicitado","Aceptado"]
[{"$f":"VALORACION!A276","v":{"$error":"#REF!"}},null,null,{"$f":"VALORACION!G276","v":{"$error":"#REF!"}},{"$f":"VALORACION!H276","v":{"$error":"#REF!"}},{"$f":"VALORACION!I276","v":{"$error":"#REF!"}},{"$f":"VALORACION!J276","v":{"$error":"#REF!"}},{"$f":"VALORACION!K276","v":{"$error":"#REF!"}},{"$f":"VALORACION!L276","v":{"$error":"#REF!"}},{"$f":"VALORACION!M276","v":{"$error":"#REF!"}},{"$f":"VALORACION!N276","v":{"$error":"#REF!"}},null,{"$f":"IF(A92=0,\"Ocultar fila\",\"\")","v":{"$error":"#REF!"}}]
[{"$f":"VALORACION!A277","v":{"$error":"#REF!"}},null,null,{"$f":"VALORACION!G277","v":{"$error":"#REF!"}},{"$f":"VALORACION!H277","v":{"$error":"#REF!"}},{"$f":"VALORACION!I277","v":{"$error":"#REF!"}},{"$f":"VALORACION!J277","v":{"$error":"#REF!"}},{"$f":"VALORACION!K277","v":{"$error":"#REF!"}},{"$f":"VALORACION!L277","v":{"$error":"#REF!"}},{"$f":"VALORACION!M277","v":{"$error":"#REF!"}},{"$f":"VALORACION!N277","v":{"$error":"#REF!"}},null,{"$error":"#REF!"}]
[{"$f":"VALORACION!A278","v":{"$error":"#REF!"}},null,null,{"$f":"VALORACION!G278","v":{"$error":"#REF!"}},{"$f":"VALORACION!H278","v":{"$error":"#REF!"}},{"$f":"VALORACION!I278","v":{"$error":"#REF!"}},{"$f":"VALORACION!J278","v":{"$error":"#REF!"}},{"$f":"VALORACION!K278","v":{"$error":"#REF!"}},{"$f":"VALORACION!L278","v":{"$error":"#REF!"}},{"$f":"VALORACION!M278","v":{"$error":"#REF!"}},{"$f":"VALORACION!N278","v":{"$error":"#REF!"}},null,{"$error":"#REF!"}]
[{"$f":"VALORACION!A279","v":{"$error":"#REF!"}},null,null,{"$f":"VALORACION!G279","v":{"$error":"#REF!"}},{"$f":"VALORACION!H279","v":{"$error":"#REF!"}},{"$f":"VALORACION!I279","v":{"$error":"#REF!"}},{"$f":"VALORACION!J279","v":{"$error":"#REF!"}},{"$f":"VALORACION!K279","v":{"$error":"#REF!"}},{"$f":"VALORACION!L279","v":{"$error":"#REF!"}},{"$f":"VALORACION!M279","v":{"$error":"#REF!"}},{"$f":"VALORACION!N279","v":{"$error":"#REF!"}},null,{"$error":"#REF!"}]
[{"$f":"VALORACION!A280","v":{"$error":"#REF!"}},null,null,{"$f":"VALORACION!G280","v":{"$error":"#REF!"}},{"$f":"VALORACION!H280","v":{"$error":"#REF!"}},{"$f":"VALORACION!I280","v":{"$error":"#REF!"}},{"$f":"VALORACION!J280","v":{"$error":"#REF!"}},{"$f":"VALORACION!K280","v":{"$error":"#REF!"}},{"$f":"VALORACION!L280","v":{"$error":"#REF!"}},{"$f":"VALORACION!M280","v":{"$error":"#REF!"}},{"$f":"VALORACION!N280","v":{"$error":"#REF!"}},null,{"$error":"#REF!"}]
[{"$f":"VALORACION!A281","v":{"$error":"#REF!"}},null,null,{"$f":"VALORACION!G281","v":{"$error":"#REF!"}},{"$f":"VALORACION!H281","v":{"$error":"#REF!"}},{"$f":"VALORACION!I281","v":{"$error":"#REF!"}},{"$f":"VALORACION!J281","v":{"$error":"#REF!"}},{"$f":"VALORACION!K281","v":{"$error":"#REF!"}},{"$f":"VALORACION!L281","v":{"$error":"#REF!"}},{"$f":"VALORACION!M281","v":{"$error":"#REF!"}},{"$f":"VALORACION!N281","v":{"$error":"#REF!"}},null,{"$error":"#REF!"}]
[{"$f":"VALORACION!A282","v":{"$error":"#REF!"}},null,null,{"$f":"VALORACION!G282","v":{"$error":"#REF!"}},{"$f":"VALORACION!H282","v":{"$error":"#REF!"}},{"$f":"VALORACION!I282","v":{"$error":"#REF!"}},{"$f":"VALORACION!J282","v":{"$error":"#REF!"}},{"$f":"VALORACION!K282","v":{"$error":"#REF!"}},{"$f":"VALORACION!L282","v":{"$error":"#REF!"}},{"$f":"VALORACION!M282","v":{"$error":"#REF!"}},{"$f":"VALORACION!N282","v":{"$error":"#REF!"}},null,{"$error":"#REF!"}]
[{"$f":"VALORACION!A283","v":{"$error":"#REF!"}},null,null,{"$f":"VALORACION!G283","v":{"$error":"#REF!"}},{"$f":"VALORACION!H283","v":{"$error":"#REF!"}},{"$f":"VALORACION!I283","v":{"$error":"#REF!"}},{"$f":"VALORACION!J283","v":{"$error":"#REF!"}},{"$f":"VALORACION!K283","v":{"$error":"#REF!"}},{"$f":"VALORACION!L283","v":{"$error":"#REF!"}},{"$f":"VALORACION!M283","v":{"$error":"#REF!"}},{"$f":"VALORACION!N283","v":{"$error":"#REF!"}},null,{"$error":"#REF!"}]
[{"$f":"VALORACION!A284","v":{"$error":"#REF!"}},null,null,{"$f":"VALORACION!G284","v":{"$error":"#REF!"}},{"$f":"VALORACION!H284","v":{"$error":"#REF!"}},{"$f":"VALORACION!I284","v":{"$error":"#REF!"}},{"$f":"VALORACION!J284","v":{"$error":"#REF!"}},{"$f":"VALORACION!K284","v":{"$error":"#REF!"}},{"$f":"VALORACION!L284","v":{"$error":"#REF!"}},{"$f":"VALORACION!M284","v":{"$error":"#REF!"}},{"$f":"VALORACION!N284","v":{"$error":"#REF!"}},null,{"$error":"#REF!"}]
[{"$f":"VALORACION!A285","v":{"$error":"#REF!"}},null,null,{"$f":"VALORACION!G285","v":{"$error":"#REF!"}},{"$f":"VALORACION!H285","v":{"$error":"#REF!"}},{"$f":"VALORACION!I285","v":{"$error":"#REF!"}},{"$f":"VALORACION!J285","v":{"$error":"#REF!"}},{"$f":"VALORACION!K285","v":{"$error":"#REF!"}},{"$f":"VALORACION!L285","v":{"$error":"#REF!"}},{"$f":"VALORACION!M285","v":{"$error":"#REF!"}},{"$f":"VALORACION!N285","v":{"$error":"#REF!"}},null,{"$error":"#REF!"}]
[{"$f":"VALORACION!A286","v":{"$error":"#REF!"}},null,null,{"$f":"VALORACION!G286","v":{"$error":"#REF!"}},{"$f":"VALORACION!H286","v":{"$error":"#REF!"}},{"$f":"VALORACION!I286","v":{"$error":"#REF!"}},{"$f":"VALORACION!J286","v":{"$error":"#REF!"}},{"$f":"VALORACION!K286","v":{"$error":"#REF!"}},{"$f":"VALORACION!L286","v":{"$error":"#REF!"}},{"$f":"VALORACION!M286","v":{"$error":"#REF!"}},{"$f":"VALORACION!N286","v":{"$error":"#REF!"}},null,{"$error":"#REF!"}]
[{"$f":"VALORACION!A287","v":{"$error":"#REF!"}},null,null,{"$f":"VALORACION!G287","v":{"$error":"#REF!"}},{"$f":"VALORACION!H287","v":{"$error":"#REF!"}},{"$f":"VALORACION!I287","v":{"$error":"#REF!"}},{"$f":"VALORACION!J287","v":{"$error":"#REF!"}},{"$f":"VALORACION!K287","v":{"$error":"#REF!"}},{"$f":"VALORACION!L287","v":{"$error":"#REF!"}},{"$f":"VALORACION!M287","v":{"$error":"#REF!"}},{"$f":"VALORACION!N287","v":{"$error":"#REF!"}},null,{"$error":"#REF!"}]
[{"$f":"VALORACION!A288","v":{"$error":"#REF!"}},null,null,{"$f":"VALORACION!G288","v":{"$error":"#REF!"}},{"$f":"VALORACION!H288","v":{"$error":"#REF!"}},{"$f":"VALORACION!I288","v":{"$error":"#REF!"}},{"$f":"VALORACION!J288","v":{"$error":"#REF!"}},{"$f":"VALORACION!K288","v":{"$error":"#REF!"}},{"$f":"VALORACION!L288","v":{"$error":"#REF!"}},{"$f":"VALORACION!M288","v":{"$error":"#REF!"}},{"$f":"VALORACION!N288","v":{"$error":"#REF!"}},null,{"$error":"#REF!"}]
[{"$f":"VALORACION!A289","v":{"$error":"#REF!"}},null,null,{"$f":"VALORACION!G289","v":{"$error":"#REF!"}},{"$f":"VALORACION!H289","v":{"$error":"#REF!"}},{"$f":"VALORACION!I289","v":{"$error":"#REF!"}},{"$f":"VALORACION!J289","v":{"$error":"#REF!"}},{"$f":"VALORACION!K289","v":{"$error":"#REF!"}},{"$f":"VALORACION!L289","v":{"$error":"#REF!"}},{"$f":"VALORACION!M289","v":{"$error":"#REF!"}},{"$f":"VALORACION!N289","v":{"$error":"#REF!"}},null,{"$error":"#REF!"}]
[{"$f":"VALORACION!A290","v":{"$error":"#REF!"}},null,null,{"$f":"VALORACION!G290","v":{"$error":"#REF!"}},{"$f":"VALORACION!H290","v":{"$error":"#REF!"}},{"$f":"VALORACION!I290","v":{"$error":"#REF!"}},{"$f":"VALORACION!J290","v":{"$error":"#REF!"}},{"$f":"VALORACION!K290","v":{"$error":"#REF!"}},{"$f":"VALORACION!L290","v":{"$error":"#REF!"}},{"$f":"VALORACION!M290","v":{"$error":"#REF!"}},{"$f":"VALORACION!N290","v":{"$error":"#REF!"}},null,{"$error":"#REF!"}]
[{"$f":"VALORACION!A291","v":{"$error":"#REF!"}},null,null,{"$f":"VALORACION!G291","v":{"$error":"#REF!"}},{"$f":"VALORACION!H291","v":{"$error":"#REF!"}},{"$f":"VALORACION!I291","v":{"$error":"#REF!"}},{"$f":"VALORACION!J291","v":{"$error":"#REF!"}},{"$f":"VALORACION!K291","v":{"$error":"#REF!"}},{"$f":"VALORACION!L291","v":{"$error":"#REF!"}},{"$f":"VALORACION!M291","v":{"$error":"#REF!"}},{"$f":"VALORACION!N291","v":{"$error":"#REF!"}},null,{"$error":"#REF!"}]
[{"$f":"VALORACION!A292","v":{"$error":"#REF!"}},null,null,{"$f":"VALORACION!G292","v":{"$error":"#REF!"}},{"$f":"VALORACION!H292","v":{"$error":"#REF!"}},{"$f":"VALORACION!I292","v":{"$error":"#REF!"}},{"$f":"VALORACION!J292","v":{"$error":"#REF!"}},{"$f":"VALORACION!K292","v":{"$error":"#REF!"}},{"$f":"VALORACION!L292","v":{"$error":"#REF!"}},{"$f":"VALORACION!M292","v":{"$error":"#REF!"}},{"$f":"VALORACION!N292","v":{"$error":"#REF!"}},null,{"$error":"#REF!"}]
[{"$f":"VALORACION!A293","v":{"$error":"#REF!"}},null,null,{"$f":"VALORACION!G293","v":{"$error":"#REF!"}},{"$f":"VALORACION!H293","v":{"$error":"#REF!"}},{"$f":"VALORACION!I293","v":{"$error":"#REF!"}},{"$f":"VALORACION!J293","v":{"$error":"#REF!"}},{"$f":"VALORACION!K293","v":{"$error":"#REF!"}},{"$f":"VALORACION!L293","v":{"$error":"#REF!"}},{"$f":"VALORACION!M293","v":{"$error":"#REF!"}},{"$f":"VALORACION!N293","v":{"$error":"#REF!"}},null,{"$error":"#REF!"}]
[{"$f":"VALORACION!A294","v":{"$error":"#REF!"}},null,null,{"$f":"VALORACION!G294","v":{"$error":"#REF!"}},{"$f":"VALORACION!H294","v":{"$error":"#REF!"}},{"$f":"VALORACION!I294","v":{"$error":"#REF!"}},{"$f":"VALORACION!J294","v":{"$error":"#REF!"}},{"$f":"VALORACION!K294","v":{"$error":"#REF!"}},{"$f":"VALORACION!L294","v":{"$error":"#REF!"}},{"$f":"VALORACION!M294","v":{"$error":"#REF!"}},{"$f":"VALORACION!N294","v":{"$error":"#REF!"}},null,{"$error":"#REF!"}]
[{"$f":"VALORACION!A295","v":{"$error":"#REF!"}},null,null,{"$f":"VALORACION!G295","v":{"$error":"#REF!"}},{"$f":"VALORACION!H295","v":{"$error":"#REF!"}},{"$f":"VALORACION!I295","v":{"$error":"#REF!"}},{"$f":"VALORACION!J295","v":{"$error":"#REF!"}},{"$f":"VALORACION!K295","v":{"$error":"#REF!"}},{"$f":"VALORACION!L295","v":{"$error":"#REF!"}},{"$f":"VALORACION!M295","v":{"$error":"#REF!"}},{"$f":"VALORACION!N295","v":{"$error":"#REF!"}},null,{"$error":"#REF!"}]
[{"$f":"VALORACION!A296","v":{"$error":"#REF!"}},null,null,{"$f":"VALORACION!G296","v":{"$error":"#REF!"}},{"$f":"VALORACION!H296","v":{"$error":"#REF!"}},{"$f":"VALORACION!I296","v":{"$error":"#REF!"}},{"$f":"VALORACION!J296","v":{"$error":"#REF!"}},{"$f":"VALORACION!K296","v":{"$error":"#REF!"}},{"$f":"VALORACION!L296","v":{"$error":"#REF!"}},{"$f":"VALORACION!M296","v":{"$error":"#REF!"}},{"$f":"VALORACION!N296","v":{"$error":"#REF!"}},null,{"$error":"#REF!"}]
[{"$f":"VALORACION!A297","v":{"$error":"#REF!"}},null,null,{"$f":"VALORACION!G297","v":{"$error":"#REF!"}},{"$f":"VALORACION!H297","v":{"$error":"#REF!"}},{"$f":"VALORACION!I297","v":{"$error":"#REF!"}},{"$f":"VALORACION!J297","v":{"$error":"#REF!"}},{"$f":"VALORACION!K297","v":{"$error":"#REF!"}},{"$f":"VALORACION!L297","v":{"$error":"#REF!"}},{"$f":"VALORACION!M297","v":{"$error":"#REF!"}},{"$f":"VALORACION!N297","v":{"$error":"#REF!"}},null,{"$error":"#REF!"}]
[{"$f":"VALORACION!A298","v":{"$error":"#REF!"}},null,null,{"$f":"VALORACION!G298","v":{"$error":"#REF!"}},{"$f":"VALORACION!H298","v":{"$error":"#REF!"}},{"$f":"VALORACION!I298","v":{"$error":"#REF!"}},{"$f":"VALORACION!J298","v":{"$error":"#REF!"}},{"$f":"VALORACION!K298","v":{"$error":"#REF!"}},{"$f":"VALORACION!L298","v":{"$error":"#REF!"}},{"$f":"VALORACION!M298","v":{"$error":"#REF!"}},{"$f":"VALORACION!N298","v":{"$error":"#REF!"}},null,{"$error":"#REF!"}]
[{"$f":"VALORACION!A299","v":{"$error":"#REF!"}},null,null,{"$f":"VALORACION!G299","v":{"$error":"#REF!"}},{"$f":"VALORACION!H299","v":{"$error":"#REF!"}},{"$f":"VALORACION!I299","v":{"$error":"#REF!"}},{"$f":"VALORACION!J299","v":{"$error":"#REF!"}},{"$f":"VALORACION!K299","v":{"$error":"#REF!"}},{"$f":"VALORACION!L299","v":{"$error":"#REF!"}},{"$f":"VALORACION!M299","v":{"$error":"#REF!"}},{"$f":"VALORACION!N299","v":{"$error":"#REF!"}},null,{"$error":"#REF!"}]
[{"$f":"VALORACION!A300","v":{"$error":"#REF!"}},null,null,{"$f":"VALORACION!G300","v":{"$error":"#REF!"}},{"$f":"VALORACION!H300","v":{"$error":"#REF!"}},{"$f":"VALORACION!I300","v":{"$error":"#REF!"}},{"$f":"VALORACION!J300","v":{"$error":"#REF!"}},{"$f":"VALORACION!K300","v":{"$error":"#REF!"}},{"$f":"VALORACION!L300","v":{"$error":"#REF!"}},{"$f":"VALORACION!M300","v":{"$error":"#REF!"}},{"$f":"VALORACION!N300","v":{"$error":"#REF!"}},null,{"$error":"#REF!"}]
[{"$f":"VALORACION!A301","v":{"$error":"#REF!"}},null,null,{"$f":"VALORACION!G301","v":{"$error":"#REF!"}},{"$f":"VALORACION!H301","v":{"$error":"#REF!"}},{"$f":"VALORACION!I301","v":{"$error":"#REF!"}},{"$f":"VALORACION!J301","v":{"$error":"#REF!"}},{"$f":"VALORACION!K301","v":{"$error":"#REF!"}},{"$f":"VALORACION!L301","v":{"$error":"#REF!"}},{"$f":"VALORACION!M301","v":{"$error":"#REF!"}},{"$f":"VALORACION!N301","v":{"$error":"#REF!"}},null,{"$error":"#REF!"}]
[{"$f":"VALORACION!A302","v":{"$error":"#REF!"}},null,null,{"$f":"VALORACION!G302","v":{"$error":"#REF!"}},{"$f":"VALORACION!H302","v":{"$error":"#REF!"}},{"$f":"VALORACION!I302","v":{"$error":"#REF!"}},{"$f":"VALORACION!J302","v":{"$error":"#REF!"}},{"$f":"VALORACION!K302","v":{"$error":"#REF!"}},{"$f":"VALORACION!L302","v":{"$error":"#REF!"}},{"$f":"VALORACION!M302","v":{"$error":"#REF!"}},{"$f":"VALORACION!N302","v":{"$error":"#REF!"}},null,{"$error":"#REF!"}]
[{"$f":"VALORACION!A303","v":{"$error":"#REF!"}},null,null,{"$f":"VALORACION!G303","v":{"$error":"#REF!"}},{"$f":"VALORACION!H303","v":{"$error":"#REF!"}},{"$f":"VALORACION!I303","v":{"$error":"#REF!"}},{"$f":"VALORACION!J303","v":{"$error":"#REF!"}},{"$f":"VALORACION!K303","v":{"$error":"#REF!"}},{"$f":"VALORACION!L303","v":{"$error":"#REF!"}},{"$f":"VALORACION!M303","v":{"$error":"#REF!"}},{"$f":"VALORACION!N303","v":{"$error":"#REF!"}},null,{"$error":"#REF!"}]
[{"$f":"VALORACION!A304","v":{"$error":"#REF!"}},null,null,{"$f":"VALORACION!G304","v":{"$error":"#REF!"}},{"$f":"VALORACION!H304","v":{"$error":"#REF!"}},{"$f":"VALORACION!I304","v":{"$error":"#REF!"}},{"$f":"VALORACION!J304","v":{"$error":"#REF!"}},{"$f":"VALORACION!K304","v":{"$error":"#REF!"}},{"$f":"VALORACION!L304","v":{"$error":"#REF!"}},{"$f":"VALORACION!M304","v":{"$error":"#REF!"}},{"$f":"VALORACION!N304","v":{"$error":"#REF!"}},null,{"$error":"#REF!"}]
[{"$f":"VALORACION!A305","v":{"$error":"#REF!"}},null,null,{"$f":"VALORACION!G305","v":{"$error":"#REF!"}},{"$f":"VALORACION!H305","v":{"$error":"#REF!"}},{"$f":"VALORACION!I305","v":{"$error":"#REF!"}},{"$f":"VALORACION!J305","v":{"$error":"#REF!"}},{"$f":"VALORACION!K305","v":{"$error":"#REF!"}},{"$f":"VALORACION!L305","v":{"$error":"#REF!"}},{"$f":"VALORACION!M305","v":{"$error":"#REF!"}},{"$f":"VALORACION!N305","v":{"$error":"#REF!"}},null,{"$error":"#REF!"}]
["TOTAL",null,null,{"$f":"VALORACION!G306","v":{"$error":"#REF!"}},{"$f":"VALORACION!H306","v":{"$error":"#REF!"}},{"$f":"VALORACION!I306","v":{"$error":"#REF!"}},{"$f":"VALORACION!J306","v":{"$error":"#REF!"}},{"$f":"VALORACION!K306","v":{"$error":"#REF!"}},{"$f":"VALORACION!L306","v":{"$error":"#REF!"}},{"$f":"VALORACION!M306","v":{"$error":"#REF!"}},{"$f":"VALORACION!N306","v":{"$error":"#REF!"}}]
[]
["OTROS COSTES",null,null,"Periodo 1",null,"Periodo 2",null,"Periodo 3",null,"Total "]
[null,null,null,"Solicitado","Aceptado","Solicitado","Aceptado","Solicitado","Aceptado","Solicitado","Aceptado"]
[{"$f":"VALORACION!A335","v":{"$error":"#REF!"}},null,null,{"$f":"VALORACION!F335","v":{"$error":"#REF!"}},{"$f":"VALORACION!G335","v":{"$error":"#REF!"}},{"$f":"VALORACION!H335","v":{"$error":"#REF!"}},{"$f":"VALORACION!I335","v":{"$error":"#REF!"}},{"$f":"VALORACION!J335","v":{"$error":"#REF!"}},{"$f":"VALORACION!K335","v":{"$error":"#REF!"}},{"$f":"VALORACION!L335","v":{"$error":"#REF!"}},{"$f":"VALORACION!M335","v":{"$error":"#REF!"}},null,{"$error":"#REF!"}]
[{"$f":"VALORACION!A336","v":{"$error":"#REF!"}},null,null,{"$f":"VALORACION!F336","v":{"$error":"#REF!"}},{"$f":"VALORACION!G336","v":{"$error":"#REF!"}},{"$f":"VALORACION!H336","v":{"$error":"#REF!"}},{"$f":"VALORACION!I336","v":{"$error":"#REF!"}},{"$f":"VALORACION!J336","v":{"$error":"#REF!"}},{"$f":"VALORACION!K336","v":{"$error":"#REF!"}},{"$f":"VALORACION!L336","v":{"$error":"#REF!"}},{"$f":"VALORACION!M336","v":{"$error":"#REF!"}},null,{"$error":"#REF!"}]
[{"$f":"VALORACION!A337","v":{"$error":"#REF!"}},null,null,{"$f":"VALORACION!F337","v":{"$error":"#REF!"}},{"$f":"VALORACION!G337","v":{"$error":"#REF!"}},{"$f":"VALORACION!H337","v":{"$error":"#REF!"}},{"$f":"VALORACION!I337","v":{"$error":"#REF!"}},{"$f":"VALORACION!J337","v":{"$error":"#REF!"}},{"$f":"VALORACION!K337","v":{"$error":"#REF!"}},{"$f":"VALORACION!L337","v":{"$error":"#REF!"}},{"$f":"VALORACION!M337","v":{"$error":"#REF!"}},null,{"$error":"#REF!"}]
[{"$f":"VALORACION!A338","v":{"$error":"#REF!"}},null,null,{"$f":"VALORACION!F338","v":{"$error":"#REF!"}},{"$f":"VALORACION!G338","v":{"$error":"#REF!"}},{"$f":"VALORACION!H338","v":{"$error":"#REF!"}},{"$f":"VALORACION!I338","v":{"$error":"#REF!"}},{"$f":"VALORACION!J338","v":{"$error":"#REF!"}},{"$f":"VALORACION!K338","v":{"$error":"#REF!"}},{"$f":"VALORACION!L338","v":{"$error":"#REF!"}},{"$f":"VALORACION!M338","v":{"$error":"#REF!"}},null,{"$error":"#REF!"}]
[{"$f":"VALORACION!A339","v":{"$error":"#REF!"}},null,null,{"$f":"VALORACION!F339","v":{"$error":"#REF!"}},{"$f":"VALORACION!G339","v":{"$error":"#REF!"}},{"$f":"VALORACION!H339","v":{"$error":"#REF!"}},{"$f":"VALORACION!I339","v":{"$error":"#REF!"}},{"$f":"VALORACION!J339","v":{"$error":"#REF!"}},{"$f":"VALORACION!K339","v":{"$error":"#REF!"}},{"$f":"VALORACION!L339","v":{"$error":"#REF!"}},{"$f":"VALORACION!M339","v":{"$error":"#REF!"}},null,{"$error":"#REF!"}]
[{"$f":"VALORACION!A340","v":{"$error":"#REF!"}},null,null,{"$f":"VALORACION!F340","v":{"$error":"#REF!"}},{"$f":"VALORACION!G340","v":{"$error":"#REF!"}},{"$f":"VALORACION!H340","v":{"$error":"#REF!"}},{"$f":"VALORACION!I340","v":{"$error":"#REF!"}},{"$f":"VALORACION!J340","v":{"$error":"#REF!"}},{"$f":"VALORACION!K340","v":{"$error":"#REF!"}},{"$f":"VALORACION!L340","v":{"$error":"#REF!"}},{"$f":"VALORACION!M340","v":{"$error":"#REF!"}},null,{"$error":"#REF!"}]
["TOTAL",null,null,{"$f":"VALORACION!F341","v":{"$error":"#REF!"}},{"$f":"VALORACION!G341","v":{"$error":"#REF!"}},{"$f":"VALORACION!H341","v":{"$error":"#REF!"}},{"$f":"VALORACION!I341","v":{"$error":"#REF!"}},{"$f":"VALORACION!J341","v":{"$error":"#REF!"}},{"$f":"VALORACION!K341","v":{"$error":"#REF!"}},{"$f":"VALORACION!L341","v":{"$error":"#REF!"}},{"$f":"VALORACION!M341","v":{"$error":"#REF!"}}]
[]
["COSTES INDIRECTOS",null,null,"Periodo 1",null,"Periodo 2",null,"Periodo 3",null,"Total "]
[null,null,null,"Solicitado","Aceptado","Solicitado","Aceptado","Solicitado","Aceptado","Solicitado","Aceptado"]
["TOTAL",null,null,{"$f":"D22","v":{"$error":"#REF!"}},{"$error":"#REF!"},null,null,{"$error":"#REF!"},{"$error":"#REF!"},{"$error":"#REF!"},{"$error":"#REF!"}]
[]
[null,null,null,"Horas de personal"]
[]
["PERSONAL",null,null,"Periodo 1",null,"Periodo 2",null,"Periodo 3",null,"Total "]
[null,null,null,"Solicitado","Aceptado","Solicitado","Aceptado","Solicitado","Aceptado","Solicitadas","Aceptadas"]
[{"$f":"VALORACION!A117","v":{"$error":"#REF!"}},null,null,{"$f":"Presupuesto!#REF!","v":{"$error":"#REF!"}},{"$f":"VALORACION!L117","v":{"$error":"#REF!"}},{"$f":"Presupuesto!#REF!","v":{"$error":"#REF!"}},{"$f":"VALORACION!M117","v":{"$error":"#REF!"}},{"$f":"Presupuesto!#REF!","v":{"$error":"#REF!"}},{"$f":"VALORACION!N117","v":{"$error":"#REF!"}},{"$f":"VALORACION!O117","v":{"$error":"#REF!"}},{"$f":"VALORACION!P117","v":{"$error":"#REF!"}},null,{"$error":"#REF!"}]
[{"$f":"VALORACION!A118","v":{"$error":"#REF!"}},null,null,{"$f":"Presupuesto!#REF!","v":{"$error":"#REF!"}},{"$f":"VALORACION!L118","v":{"$error":"#REF!"}},{"$f":"Presupuesto!#REF!","v":{"$error":"#REF!"}},{"$f":"VALORACION!M118","v":{"$error":"#REF!"}},{"$f":"Presupuesto!#REF!","v":{"$error":"#REF!"}},{"$f":"VALORACION!N118","v":{"$error":"#REF!"}},{"$f":"VALORACION!O118","v":{"$error":"#REF!"}},{"$f":"VALORACION!P118","v":{"$error":"#REF!"}},null,{"$error":"#REF!"}]
[{"$f":"VALORACION!A119","v":{"$error":"#REF!"}},null,null,{"$f":"Presupuesto!#REF!","v":{"$error":"#REF!"}},{"$f":"VALORACION!L119","v":{"$error":"#REF!"}},{"$f":"Presupuesto!#REF!","v":{"$error":"#REF!"}},{"$f":"VALORACION!M119","v":{"$error":"#REF!"}},{"$f":"Presupuesto!#REF!","v":{"$error":"#REF!"}},{"$f":"VALORACION!N119","v":{"$error":"#REF!"}},{"$f":"VALORACION!O119","v":{"$error":"#REF!"}},{"$f":"VALORACION!P119","v":{"$error":"#REF!"}},null,{"$error":"#REF!"}]
[{"$f":"VALORACION!A120","v":{"$error":"#REF!"}},null,null,{"$f":"Presupuesto!#REF!","v":{"$error":"#REF!"}},{"$f":"VALORACION!L120","v":{"$error":"#REF!"}},{"$f":"Presupuesto!#REF!","v":{"$error":"#REF!"}},{"$f":"VALORACION!M120","v":{"$error":"#REF!"}},{"$f":"Presupuesto!#REF!","v":{"$error":"#REF!"}},{"$f":"VALORACION!N120","v":{"$error":"#REF!"}},{"$f":"VALORACION!O120","v":{"$error":"#REF!"}},{"$f":"VALORACION!P120","v":{"$error":"#REF!"}},null,{"$error":"#REF!"}]
[{"$f":"VALORACION!A121","v":{"$error":"#REF!"}},null,null,{"$f":"Presupuesto!#REF!","v":{"$error":"#REF!"}},{"$f":"VALORACION!L121","v":{"$error":"#REF!"}},{"$f":"Presupuesto!#REF!","v":{"$error":"#REF!"}},{"$f":"VALORACION!M121","v":{"$error":"#REF!"}},{"$f":"Presupuesto!#REF!","v":{"$error":"#REF!"}},{"$f":"VALORACION!N121","v":{"$error":"#REF!"}},{"$f":"VALORACION!O121","v":{"$error":"#REF!"}},{"$f":"VALORACION!P121","v":{"$error":"#REF!"}},null,{"$error":"#REF!"}]
[{"$f":"VALORACION!A122","v":{"$error":"#REF!"}},null,null,{"$f":"Presupuesto!#REF!","v":{"$error":"#REF!"}},{"$f":"VALORACION!L122","v":{"$error":"#REF!"}},{"$f":"Presupuesto!#REF!","v":{"$error":"#REF!"}},{"$f":"VALORACION!M122","v":{"$error":"#REF!"}},{"$f":"Presupuesto!#REF!","v":{"$error":"#REF!"}},{"$f":"VALORACION!N122","v":{"$error":"#REF!"}},{"$f":"VALORACION!O122","v":{"$error":"#REF!"}},{"$f":"VALORACION!P122","v":{"$error":"#REF!"}},null,{"$error":"#REF!"}]
[{"$f":"VALORACION!A123","v":{"$error":"#REF!"}},null,null,{"$f":"Presupuesto!#REF!","v":{"$error":"#REF!"}},{"$f":"VALORACION!L123","v":{"$error":"#REF!"}},{"$f":"Presupuesto!#REF!","v":{"$error":"#REF!"}},{"$f":"VALORACION!M123","v":{"$error":"#REF!"}},{"$f":"Presupuesto!#REF!","v":{"$error":"#REF!"}},{"$f":"VALORACION!N123","v":{"$error":"#REF!"}},{"$f":"VALORACION!O123","v":{"$error":"#REF!"}},{"$f":"VALORACION!P123","v":{"$error":"#REF!"}},null,{"$error":"#REF!"}]
[{"$f":"VALORACION!A124","v":{"$error":"#REF!"}},null,null,{"$f":"Presupuesto!#REF!","v":{"$error":"#REF!"}},{"$f":"VALORACION!L124","v":{"$error":"#REF!"}},{"$f":"Presupuesto!#REF!","v":{"$error":"#REF!"}},{"$f":"VALORACION!M124","v":{"$error":"#REF!"}},{"$f":"Presupuesto!#REF!","v":{"$error":"#REF!"}},{"$f":"VALORACION!N124","v":{"$error":"#REF!"}},{"$f":"VALORACION!O124","v":{"$error":"#REF!"}},{"$f":"VALORACION!P124","v":{"$error":"#REF!"}},null,{"$error":"#REF!"}]
[{"$f":"VALORACION!A125","v":{"$error":"#REF!"}},null,null,{"$f":"Presupuesto!#REF!","v":{"$error":"#REF!"}},{"$f":"VALORACION!L125","v":{"$error":"#REF!"}},{"$f":"Presupuesto!#REF!","v":{"$error":"#REF!"}},{"$f":"VALORACION!M125","v":{"$error":"#REF!"}},{"$f":"Presupuesto!#REF!","v":{"$error":"#REF!"}},{"$f":"VALORACION!N125","v":{"$error":"#REF!"}},{"$f":"VALORACION!O125","v":{"$error":"#REF!"}},{"$f":"VALORACION!P125","v":{"$error":"#REF!"}},null,{"$error":"#REF!"}]
[{"$f":"VALORACION!A126","v":{"$error":"#REF!"}},null,null,{"$f":"Presupuesto!#REF!","v":{"$error":"#REF!"}},{"$f":"VALORACION!L126","v":{"$error":"#REF!"}},{"$f":"Presupuesto!#REF!","v":{"$error":"#REF!"}},{"$f":"VALORACION!M126","v":{"$error":"#REF!"}},{"$f":"Presupuesto!#REF!","v":{"$error":"#REF!"}},{"$f":"VALORACION!N126","v":{"$error":"#REF!"}},{"$f":"VALORACION!O126","v":{"$error":"#REF!"}},{"$f":"VALORACION!P126","v":{"$error":"#REF!"}},null,{"$error":"#REF!"}]
[{"$f":"VALORACION!A127","v":{"$error":"#REF!"}},null,null,{"$f":"Presupuesto!#REF!","v":{"$error":"#REF!"}},{"$f":"VALORACION!L127","v":{"$error":"#REF!"}},{"$f":"Presupuesto!#REF!","v":{"$error":"#REF!"}},{"$f":"VALORACION!M127","v":{"$error":"#REF!"}},{"$f":"Presupuesto!#REF!","v":{"$error":"#REF!"}},{"$f":"VALORACION!N127","v":{"$error":"#REF!"}},{"$f":"VALORACION!O127","v":{"$error":"#REF!"}},{"$f":"VALORACION!P127","v":{"$error":"#REF!"}},null,{"$error":"#REF!"}]
[{"$f":"VALORACION!A128","v":{"$error":"#REF!"}},null,null,{"$f":"Presupuesto!#REF!","v":{"$error":"#REF!"}},{"$f":"VALORACION!L128","v":{"$error":"#REF!"}},{"$f":"Presupuesto!#REF!","v":{"$error":"#REF!"}},{"$f":"VALORACION!M128","v":{"$error":"#REF!"}},{"$f":"Presupuesto!#REF!","v":{"$error":"#REF!"}},{"$f":"VALORACION!N128","v":{"$error":"#REF!"}},{"$f":"VALORACION!O128","v":{"$error":"#REF!"}},{"$f":"VALORACION!P128","v":{"$error":"#REF!"}},null,{"$error":"#REF!"}]
[{"$f":"VALORACION!A129","v":{"$error":"#REF!"}},null,null,{"$f":"Presupuesto!#REF!","v":{"$error":"#REF!"}},{"$f":"VALORACION!L129","v":{"$error":"#REF!"}},{"$f":"Presupuesto!#REF!","v":{"$error":"#REF!"}},{"$f":"VALORACION!M129","v":{"$error":"#REF!"}},{"$f":"Presupuesto!#REF!","v":{"$error":"#REF!"}},{"$f":"VALORACION!N129","v":{"$error":"#REF!"}},{"$f":"VALORACION!O129","v":{"$error":"#REF!"}},{"$f":"VALORACION!P129","v":{"$error":"#REF!"}},null,{"$error":"#REF!"}]
[{"$f":"VALORACION!A130","v":{"$error":"#REF!"}},null,null,{"$f":"Presupuesto!#REF!","v":{"$error":"#REF!"}},{"$f":"VALORACION!L130","v":{"$error":"#REF!"}},{"$f":"Presupuesto!#REF!","v":{"$error":"#REF!"}},{"$f":"VALORACION!M130","v":{"$error":"#REF!"}},{"$f":"Presupuesto!#REF!","v":{"$error":"#REF!"}},{"$f":"VALORACION!N130","v":{"$error":"#REF!"}},{"$f":"VALORACION!O130","v":{"$error":"#REF!"}},{"$f":"VALORACION!P130","v":{"$error":"#REF!"}},null,{"$error":"#REF!"}]
[{"$f":"VALORACION!A131","v":{"$error":"#REF!"}},null,null,{"$f":"Presupuesto!#REF!","v":{"$error":"#REF!"}},{"$f":"VALORACION!L131","v":{"$error":"#REF!"}},{"$f":"Presupuesto!#REF!","v":{"$error":"#REF!"}},{"$f":"VALORACION!M131","v":{"$error":"#REF!"}},{"$f":"Presupuesto!#REF!","v":{"$error":"#REF!"}},{"$f":"VALORACION!N131","v":{"$error":"#REF!"}},{"$f":"VALORACION!O131","v":{"$error":"#REF!"}},{"$f":"VALORACION!P131","v":{"$error":"#REF!"}},null,{"$f":"IF(A156=0,\"Ocultar fila\",\"\")","v":{"$error":"#REF!"}}]
[{"$f":"VALORACION!A132","v":{"$error":"#REF!"}},null,null,{"$f":"Presupuesto!#REF!","v":{"$error":"#REF!"}},{"$f":"VALORACION!L132","v":{"$error":"#REF!"}},{"$f":"Presupuesto!#REF!","v":{"$error":"#REF!"}},{"$f":"VALORACION!M132","v":{"$error":"#REF!"}},{"$f":"Presupuesto!#REF!","v":{"$error":"#REF!"}},{"$f":"VALORACION!N132","v":{"$error":"#REF!"}},{"$f":"VALORACION!O132","v":{"$error":"#REF!"}},{"$f":"VALORACION!P132","v":{"$error":"#REF!"}},null,{"$error":"#REF!"}]
[{"$f":"VALORACION!A133","v":{"$error":"#REF!"}},null,null,{"$f":"Presupuesto!#REF!","v":{"$error":"#REF!"}},{"$f":"VALORACION!L133","v":{"$error":"#REF!"}},{"$f":"Presupuesto!#REF!","v":{"$error":"#REF!"}},{"$f":"VALORACION!M133","v":{"$error":"#REF!"}},{"$f":"Presupuesto!#REF!","v":{"$error":"#REF!"}},{"$f":"VALORACION!N133","v":{"$error":"#REF!"}},{"$f":"VALORACION!O133","v":{"$error":"#REF!"}},{"$f":"VALORACION!P133","v":{"$error":"#REF!"}},null,{"$error":"#REF!"}]
[{"$f":"VALORACION!A134","v":{"$error":"#REF!"}},null,null,{"$f":"Presupuesto!#REF!","v":{"$error":"#REF!"}},{"$f":"VALORACION!L134","v":{"$error":"#REF!"}},{"$f":"Presupuesto!#REF!","v":{"$error":"#REF!"}},{"$f":"VALORACION!M134","v":{"$error":"#REF!"}},{"$f":"Presupuesto!#REF!","v":{"$error":"#REF!"}},{"$f":"VALORACION!N134","v":{"$error":"#REF!"}},{"$f":"VALORACION!O134","v":{"$error":"#REF!"}},{"$f":"VALORACION!P134","v":{"$error":"#REF!"}},null,{"$error":"#REF!"}]
[{"$f":"VALORACION!A135","v":{"$error":"#REF!"}},null,null,{"$f":"Presupuesto!#REF!","v":{"$error":"#REF!"}},{"$f":"VALORACION!L135","v":{"$error":"#REF!"}},{"$f":"Presupuesto!#REF!","v":{"$error":"#REF!"}},{"$f":"VALORACION!M135","v":{"$error":"#REF!"}},{"$f":"Presupuesto!#REF!","v":{"$error":"#REF!"}},{"$f":"VALORACION!N135","v":{"$error":"#REF!"}},{"$f":"VALORACION!O135","v":{"$error":"#REF!"}},{"$f":"VALORACION!P135","v":{"$error":"#REF!"}},null,{"$error":"#REF!"}]
[{"$f":"VALORACION!A136","v":{"$error":"#REF!"}},null,null,{"$f":"Presupuesto!#REF!","v":{"$error":"#REF!"}},{"$f":"VALORACION!L136","v":{"$error":"#REF!"}},{"$f":"Presupuesto!#REF!","v":{"$error":"#REF!"}},{"$f":"VALORACION!M136","v":{"$error":"#REF!"}},{"$f":"Presupuesto!#REF!","v":{"$error":"#REF!"}},{"$f":"VALORACION!N136","v":{"$error":"#REF!"}},{"$f":"VALORACION!O136","v":{"$error":"#REF!"}},{"$f":"VALORACION!P136","v":{"$error":"#REF!"}},null,{"$error":"#REF!"}]
[{"$f":"VALORACION!A137","v":{"$error":"#REF!"}},null,null,{"$f":"Presupuesto!#REF!","v":{"$error":"#REF!"}},{"$f":"VALORACION!L137","v":{"$error":"#REF!"}},{"$f":"Presupuesto!#REF!","v":{"$error":"#REF!"}},{"$f":"VALORACION!M137","v":{"$error":"#REF!"}},{"$f":"Presupuesto!#REF!","v":{"$error":"#REF!"}},{"$f":"VALORACION!N137","v":{"$error":"#REF!"}},{"$f":"VALORACION!O137","v":{"$error":"#REF!"}},{"$f":"VALORACION!P137","v":{"$error":"#REF!"}},null,{"$error":"#REF!"}]
[{"$f":"VALORACION!A138","v":{"$error":"#REF!"}},null,null,{"$f":"Presupuesto!#REF!","v":{"$error":"#REF!"}},{"$f":"VALORACION!L138","v":{"$error":"#REF!"}},{"$f":"Presupuesto!#REF!","v":{"$error":"#REF!"}},{"$f":"VALORACION!M138","v":{"$error":"#REF!"}},{"$f":"Presupuesto!#REF!","v":{"$error":"#REF!"}},{"$f":"VALORACION!N138","v":{"$error":"#REF!"}},{"$f":"VALORACION!O138","v":{"$error":"#REF!"}},{"$f":"VALORACION!P138","v":{"$error":"#REF!"}},null,{"$error":"#REF!"}]
[{"$f":"VALORACION!A139","v":{"$error":"#REF!"}},null,null,{"$f":"Presupuesto!#REF!","v":{"$error":"#REF!"}},{"$f":"VALORACION!L139","v":{"$error":"#REF!"}},{"$f":"Presupuesto!#REF!","v":{"$error":"#REF!"}},{"$f":"VALORACION!M139","v":{"$error":"#REF!"}},{"$f":"Presupuesto!#REF!","v":{"$error":"#REF!"}},{"$f":"VALORACION!N139","v":{"$error":"#REF!"}},{"$f":"VALORACION!O139","v":{"$error":"#REF!"}},{"$f":"VALORACION!P139","v":{"$error":"#REF!"}},null,{"$error":"#REF!"}]
[{"$f":"VALORACION!A140","v":{"$error":"#REF!"}},null,null,{"$f":"Presupuesto!#REF!","v":{"$error":"#REF!"}},{"$f":"VALORACION!L140","v":{"$error":"#REF!"}},{"$f":"Presupuesto!#REF!","v":{"$error":"#REF!"}},{"$f":"VALORACION!M140","v":{"$error":"#REF!"}},{"$f":"Presupuesto!#REF!","v":{"$error":"#REF!"}},{"$f":"VALORACION!N140","v":{"$error":"#REF!"}},{"$f":"VALORACION!O140","v":{"$error":"#REF!"}},{"$f":"VALORACION!P140","v":{"$error":"#REF!"}},null,{"$error":"#REF!"}]
[{"$f":"VALORACION!A141","v":{"$error":"#REF!"}},null,null,{"$f":"Presupuesto!#REF!","v":{"$error":"#REF!"}},{"$f":"VALORACION!L141","v":{"$error":"#REF!"}},{"$f":"Presupuesto!#REF!","v":{"$error":"#REF!"}},{"$f":"VALORACION!M141","v":{"$error":"#REF!"}},{"$f":"Presupuesto!#REF!","v":{"$error":"#REF!"}},{"$f":"VALORACION!N141","v":{"$error":"#REF!"}},{"$f":"VALORACION!O141","v":{"$error":"#REF!"}},{"$f":"VALORACION!P141","v":{"$error":"#REF!"}},null,{"$error":"#REF!"}]
[{"$f":"VALORACION!A142","v":{"$error":"#REF!"}},null,null,{"$f":"Presupuesto!#REF!","v":{"$error":"#REF!"}},{"$f":"VALORACION!L142","v":{"$error":"#REF!"}},{"$f":"Presupuesto!#REF!","v":{"$error":"#REF!"}},{"$f":"VALORACION!M142","v":{"$error":"#REF!"}},{"$f":"Presupuesto!#REF!","v":{"$error":"#REF!"}},{"$f":"VALORACION!N142","v":{"$error":"#REF!"}},{"$f":"VALORACION!O142","v":{"$error":"#REF!"}},{"$f":"VALORACION!P142","v":{"$error":"#REF!"}},null,{"$error":"#REF!"}]
[{"$f":"VALORACION!A143","v":{"$error":"#REF!"}},null,null,{"$f":"Presupuesto!#REF!","v":{"$error":"#REF!"}},{"$f":"VALORACION!L143","v":{"$error":"#REF!"}},{"$f":"Presupuesto!#REF!","v":{"$error":"#REF!"}},{"$f":"VALORACION!M143","v":{"$error":"#REF!"}},{"$f":"Presupuesto!#REF!","v":{"$error":"#REF!"}},{"$f":"VALORACION!N143","v":{"$error":"#REF!"}},{"$f":"VALORACION!O143","v":{"$error":"#REF!"}},{"$f":"VALORACION!P143","v":{"$error":"#REF!"}},null,{"$error":"#REF!"}]
[{"$f":"VALORACION!A144","v":{"$error":"#REF!"}},null,null,{"$f":"Presupuesto!#REF!","v":{"$error":"#REF!"}},{"$f":"VALORACION!L144","v":{"$error":"#REF!"}},{"$f":"Presupuesto!#REF!","v":{"$error":"#REF!"}},{"$f":"VALORACION!M144","v":{"$error":"#REF!"}},{"$f":"Presupuesto!#REF!","v":{"$error":"#REF!"}},{"$f":"VALORACION!N144","v":{"$error":"#REF!"}},{"$f":"VALORACION!O144","v":{"$error":"#REF!"}},{"$f":"VALORACION!P144","v":{"$error":"#REF!"}},null,{"$error":"#REF!"}]
[{"$f":"VALORACION!A145","v":{"$error":"#REF!"}},null,null,{"$f":"Presupuesto!#REF!","v":{"$error":"#REF!"}},{"$f":"VALORACION!L145","v":{"$error":"#REF!"}},{"$f":"Presupuesto!#REF!","v":{"$error":"#REF!"}},{"$f":"VALORACION!M145","v":{"$error":"#REF!"}},{"$f":"Presupuesto!#REF!","v":{"$error":"#REF!"}},{"$f":"VALORACION!N145","v":{"$error":"#REF!"}},{"$f":"VALORACION!O145","v":{"$error":"#REF!"}},{"$f":"VALORACION!P145","v":{"$error":"#REF!"}},null,{"$error":"#REF!"}]
[{"$f":"VALORACION!A146","v":{"$error":"#REF!"}},null,null,{"$f":"Presupuesto!#REF!","v":{"$error":"#REF!"}},{"$f":"VALORACION!L146","v":{"$error":"#REF!"}},{"$f":"Presupuesto!#REF!","v":{"$error":"#REF!"}},{"$f":"VALORACION!M146","v":{"$error":"#REF!"}},{"$f":"Presupuesto!#REF!","v":{"$error":"#REF!"}},{"$f":"VALORACION!N146","v":{"$error":"#REF!"}},{"$f":"VALORACION!O146","v":{"$error":"#REF!"}},{"$f":"VALORACION!P146","v":{"$error":"#REF!"}},null,{"$error":"#REF!"}]
[{"$f":"VALORACION!A147","v":{"$error":"#REF!"}},null,null,{"$f":"Presupuesto!#REF!","v":{"$error":"#REF!"}},{"$f":"VALORACION!L147","v":{"$error":"#REF!"}},{"$f":"Presupuesto!#REF!","v":{"$error":"#REF!"}},{"$f":"VALORACION!M147","v":{"$error":"#REF!"}},{"$f":"Presupuesto!#REF!","v":{"$error":"#REF!"}},{"$f":"VALORACION!N147","v":{"$error":"#REF!"}},{"$f":"VALORACION!O147","v":{"$error":"#REF!"}},{"$f":"VALORACION!P147","v":{"$error":"#REF!"}},null,{"$error":"#REF!"}]
[{"$f":"VALORACION!A148","v":{"$error":"#REF!"}},null,null,{"$f":"Presupuesto!#REF!","v":{"$error":"#REF!"}},{"$f":"VALORACION!L148","v":{"$error":"#REF!"}},{"$f":"Presupuesto!#REF!","v":{"$error":"#REF!"}},{"$f":"VALORACION!M148","v":{"$error":"#REF!"}},{"$f":"Presupuesto!#REF!","v":{"$error":"#REF!"}},{"$f":"VALORACION!N148","v":{"$error":"#REF!"}},{"$f":"VALORACION!O148","v":{"$error":"#REF!"}},{"$f":"VALORACION!P148","v":{"$error":"#REF!"}},null,{"$error":"#REF!"}]
[{"$f":"VALORACION!A149","v":{"$error":"#REF!"}},null,null,{"$f":"Presupuesto!#REF!","v":{"$error":"#REF!"}},{"$f":"VALORACION!L149","v":{"$error":"#REF!"}},{"$f":"Presupuesto!#REF!","v":{"$error":"#REF!"}},{"$f":"VALORACION!M149","v":{"$error":"#REF!"}},{"$f":"Presupuesto!#REF!","v":{"$error":"#REF!"}},{"$f":"VALORACION!N149","v":{"$error":"#REF!"}},{"$f":"VALORACION!O149","v":{"$error":"#REF!"}},{"$f":"VALORACION!P149","v":{"$error":"#REF!"}},null,{"$error":"#REF!"}]
[{"$f":"VALORACION!A150","v":{"$error":"#REF!"}},null,null,{"$f":"Presupuesto!#REF!","v":{"$error":"#REF!"}},{"$f":"VALORACION!L150","v":{"$error":"#REF!"}},{"$f":"Presupuesto!#REF!","v":{"$error":"#REF!"}},{"$f":"VALORACION!M150","v":{"$error":"#REF!"}},{"$f":"Presupuesto!#REF!","v":{"$error":"#REF!"}},{"$f":"VALORACION!N150","v":{"$error":"#REF!"}},{"$f":"VALORACION!O150","v":{"$error":"#REF!"}},{"$f":"VALORACION!P150","v":{"$error":"#REF!"}},null,{"$error":"#REF!"}]
[{"$f":"VALORACION!A151","v":{"$error":"#REF!"}},null,null,{"$f":"Presupuesto!#REF!","v":{"$error":"#REF!"}},{"$f":"VALORACION!L151","v":{"$error":"#REF!"}},{"$f":"Presupuesto!#REF!","v":{"$error":"#REF!"}},{"$f":"VALORACION!M151","v":{"$error":"#REF!"}},{"$f":"Presupuesto!#REF!","v":{"$error":"#REF!"}},{"$f":"VALORACION!N151","v":{"$error":"#REF!"}},{"$f":"VALORACION!O151","v":{"$error":"#REF!"}},{"$f":"VALORACION!P151","v":{"$error":"#REF!"}},null,{"$error":"#REF!"}]
[{"$f":"VALORACION!A152","v":{"$error":"#REF!"}},null,null,{"$f":"Presupuesto!#REF!","v":{"$error":"#REF!"}},{"$f":"VALORACION!L152","v":{"$error":"#REF!"}},{"$f":"Presupuesto!#REF!","v":{"$error":"#REF!"}},{"$f":"VALORACION!M152","v":{"$error":"#REF!"}},{"$f":"Presupuesto!#REF!","v":{"$error":"#REF!"}},{"$f":"VALORACION!N152","v":{"$error":"#REF!"}},{"$f":"VALORACION!O152","v":{"$error":"#REF!"}},{"$f":"VALORACION!P152","v":{"$error":"#REF!"}},null,{"$error":"#REF!"}]
[{"$f":"VALORACION!A153","v":{"$error":"#REF!"}},null,null,{"$f":"Presupuesto!#REF!","v":{"$error":"#REF!"}},{"$f":"VALORACION!L153","v":{"$error":"#REF!"}},{"$f":"Presupuesto!#REF!","v":{"$error":"#REF!"}},{"$f":"VALORACION!M153","v":{"$error":"#REF!"}},{"$f":"Presupuesto!#REF!","v":{"$error":"#REF!"}},{"$f":"VALORACION!N153","v":{"$error":"#REF!"}},{"$f":"VALORACION!O153","v":{"$error":"#REF!"}},{"$f":"VALORACION!P153","v":{"$error":"#REF!"}},null,{"$error":"#REF!"}]
[{"$f":"VALORACION!A154","v":{"$error":"#REF!"}},null,null,{"$f":"Presupuesto!#REF!","v":{"$error":"#REF!"}},{"$f":"VALORACION!L154","v":{"$error":"#REF!"}},{"$f":"Presupuesto!#REF!","v":{"$error":"#REF!"}},{"$f":"VALORACION!M154","v":{"$error":"#REF!"}},{"$f":"Presupuesto!#REF!","v":{"$error":"#REF!"}},{"$f":"VALORACION!N154","v":{"$error":"#REF!"}},{"$f":"VALORACION!O154","v":{"$error":"#REF!"}},{"$f":"VALORACION!P154","v":{"$error":"#REF!"}},null,{"$error":"#REF!"}]
[{"$f":"VALORACION!A155","v":{"$error":"#REF!"}},null,null,{"$f":"Presupuesto!#REF!","v":{"$error":"#REF!"}},{"$f":"VALORACION!L155","v":{"$error":"#REF!"}},{"$f":"Presupuesto!#REF!","v":{"$error":"#REF!"}},{"$f":"VALORACION!M155","v":{"$error":"#REF!"}},{"$f":"Presupuesto!#REF!","v":{"$error":"#REF!"}},{"$f":"VALORACION!N155","v":{"$error":"#REF!"}},{"$f":"VALORACION!O155","v":{"$error":"#REF!"}},{"$f":"VALORACION!P155","v":{"$error":"#REF!"}},null,{"$error":"#REF!"}]
[{"$f":"VALORACION!A156","v":{"$error":"#REF!"}},null,null,{"$f":"Presupuesto!#REF!","v":{"$error":"#REF!"}},{"$f":"VALORACION!L156","v":{"$error":"#REF!"}},{"$f":"Presupuesto!#REF!","v":{"$error":"#REF!"}},{"$f":"VALORACION!M156","v":{"$error":"#REF!"}},{"$f":"Presupuesto!#REF!","v":{"$error":"#REF!"}},{"$f":"VALORACION!N156","v":{"$error":"#REF!"}},{"$f":"VALORACION!O156","v":{"$error":"#REF!"}},{"$f":"VALORACION!P156","v":{"$error":"#REF!"}},null,{"$error":"#REF!"}]
[{"$f":"VALORACION!A157","v":{"$error":"#REF!"}},null,null,{"$f":"Presupuesto!#REF!","v":{"$error":"#REF!"}},{"$f":"VALORACION!L157","v":{"$error":"#REF!"}},{"$f":"Presupuesto!#REF!","v":{"$error":"#REF!"}},{"$f":"VALORACION!M157","v":{"$error":"#REF!"}},{"$f":"Presupuesto!#REF!","v":{"$error":"#REF!"}},{"$f":"VALORACION!N157","v":{"$error":"#REF!"}},{"$f":"VALORACION!O157","v":{"$error":"#REF!"}},{"$f":"VALORACION!P157","v":{"$error":"#REF!"}},null,{"$error":"#REF!"}]
[{"$f":"VALORACION!A158","v":{"$error":"#REF!"}},null,null,{"$f":"Presupuesto!#REF!","v":{"$error":"#REF!"}},{"$f":"VALORACION!L158","v":{"$error":"#REF!"}},{"$f":"Presupuesto!#REF!","v":{"$error":"#REF!"}},{"$f":"VALORACION!M158","v":{"$error":"#REF!"}},{"$f":"Presupuesto!#REF!","v":{"$error":"#REF!"}},{"$f":"VALORACION!N158","v":{"$error":"#REF!"}},{"$f":"VALORACION!O158","v":{"$error":"#REF!"}},{"$f":"VALORACION!P158","v":{"$error":"#REF!"}},null,{"$error":"#REF!"}]
[{"$f":"VALORACION!A159","v":{"$error":"#REF!"}},null,null,{"$f":"Presupuesto!#REF!","v":{"$error":"#REF!"}},{"$f":"VALORACION!L159","v":{"$error":"#REF!"}},{"$f":"Presupuesto!#REF!","v":{"$error":"#REF!"}},{"$f":"VALORACION!M159","v":{"$error":"#REF!"}},{"$f":"Presupuesto!#REF!","v":{"$error":"#REF!"}},{"$f":"VALORACION!N159","v":{"$error":"#REF!"}},{"$f":"VALORACION!O159","v":{"$error":"#REF!"}},{"$f":"VALORACION!P159","v":{"$error":"#REF!"}},null,{"$error":"#REF!"}]
[{"$f":"VALORACION!A160","v":{"$error":"#REF!"}},null,null,{"$f":"Presupuesto!#REF!","v":{"$error":"#REF!"}},{"$f":"VALORACION!L160","v":{"$error":"#REF!"}},{"$f":"Presupuesto!#REF!","v":{"$error":"#REF!"}},{"$f":"VALORACION!M160","v":{"$error":"#REF!"}},{"$f":"Presupuesto!#REF!","v":{"$error":"#REF!"}},{"$f":"VALORACION!N160","v":{"$error":"#REF!"}},{"$f":"VALORACION!O160","v":{"$error":"#REF!"}},{"$f":"VALORACION!P160","v":{"$error":"#REF!"}},null,{"$error":"#REF!"}]
[{"$f":"VALORACION!A161","v":{"$error":"#REF!"}},null,null,{"$f":"Presupuesto!#REF!","v":{"$error":"#REF!"}},{"$f":"VALORACION!L161","v":{"$error":"#REF!"}},{"$f":"Presupuesto!#REF!","v":{"$error":"#REF!"}},{"$f":"VALORACION!M161","v":{"$error":"#REF!"}},{"$f":"Presupuesto!#REF!","v":{"$error":"#REF!"}},{"$f":"VALORACION!N161","v":{"$error":"#REF!"}},{"$f":"VALORACION!O161","v":{"$error":"#REF!"}},{"$f":"VALORACION!P161","v":{"$error":"#REF!"}},null,{"$error":"#REF!"}]
[{"$f":"VALORACION!A162","v":{"$error":"#REF!"}},null,null,{"$f":"Presupuesto!#REF!","v":{"$error":"#REF!"}},{"$f":"VALORACION!L162","v":{"$error":"#REF!"}},{"$f":"Presupuesto!#REF!","v":{"$error":"#REF!"}},{"$f":"VALORACION!M162","v":{"$error":"#REF!"}},{"$f":"Presupuesto!#REF!","v":{"$error":"#REF!"}},{"$f":"VALORACION!N162","v":{"$error":"#REF!"}},{"$f":"VALORACION!O162","v":{"$error":"#REF!"}},{"$f":"VALORACION!P162","v":{"$error":"#REF!"}},null,{"$error":"#REF!"}]
[{"$f":"VALORACION!A163","v":{"$error":"#REF!"}},null,null,{"$f":"Presupuesto!#REF!","v":{"$error":"#REF!"}},{"$f":"VALORACION!L163","v":{"$error":"#REF!"}},{"$f":"Presupuesto!#REF!","v":{"$error":"#REF!"}},{"$f":"VALORACION!M163","v":{"$error":"#REF!"}},{"$f":"Presupuesto!#REF!","v":{"$error":"#REF!"}},{"$f":"VALORACION!N163","v":{"$error":"#REF!"}},{"$f":"VALORACION!O163","v":{"$error":"#REF!"}},{"$f":"VALORACION!P163","v":{"$error":"#REF!"}},null,{"$error":"#REF!"}]
[{"$f":"VALORACION!A164","v":{"$error":"#REF!"}},null,null,{"$f":"Presupuesto!#REF!","v":{"$error":"#REF!"}},{"$f":"VALORACION!L164","v":{"$error":"#REF!"}},{"$f":"Presupuesto!#REF!","v":{"$error":"#REF!"}},{"$f":"VALORACION!M164","v":{"$error":"#REF!"}},{"$f":"Presupuesto!#REF!","v":{"$error":"#REF!"}},{"$f":"VALORACION!N164","v":{"$error":"#REF!"}},{"$f":"VALORACION!O164","v":{"$error":"#REF!"}},{"$f":"VALORACION!P164","v":{"$error":"#REF!"}},null,{"$error":"#REF!"}]
[{"$f":"VALORACION!A165","v":{"$error":"#REF!"}},null,null,{"$f":"Presupuesto!#REF!","v":{"$error":"#REF!"}},{"$f":"VALORACION!L165","v":{"$error":"#REF!"}},{"$f":"Presupuesto!#REF!","v":{"$error":"#REF!"}},{"$f":"VALORACION!M165","v":{"$error":"#REF!"}},{"$f":"Presupuesto!#REF!","v":{"$error":"#REF!"}},{"$f":"VALORACION!N165","v":{"$error":"#REF!"}},{"$f":"VALORACION!O165","v":{"$error":"#REF!"}},{"$f":"VALORACION!P165","v":{"$error":"#REF!"}},null,{"$error":"#REF!"}]
[{"$f":"VALORACION!A166","v":{"$error":"#REF!"}},null,null,{"$f":"Presupuesto!#REF!","v":{"$error":"#REF!"}},{"$f":"VALORACION!L166","v":{"$error":"#REF!"}},{"$f":"Presupuesto!#REF!","v":{"$error":"#REF!"}},{"$f":"VALORACION!M166","v":{"$error":"#REF!"}},{"$f":"Presupuesto!#REF!","v":{"$error":"#REF!"}},{"$f":"VALORACION!N166","v":{"$error":"#REF!"}},{"$f":"VALORACION!O166","v":{"$error":"#REF!"}},{"$f":"VALORACION!P166","v":{"$error":"#REF!"}},null,{"$error":"#REF!"}]
[{"$f":"VALORACION!A167","v":{"$error":"#REF!"}},null,null,{"$f":"Presupuesto!#REF!","v":{"$error":"#REF!"}},{"$f":"VALORACION!L167","v":{"$error":"#REF!"}},{"$f":"Presupuesto!#REF!","v":{"$error":"#REF!"}},{"$f":"VALORACION!M167","v":{"$error":"#REF!"}},{"$f":"Presupuesto!#REF!","v":{"$error":"#REF!"}},{"$f":"VALORACION!N167","v":{"$error":"#REF!"}},{"$f":"VALORACION!O167","v":{"$error":"#REF!"}},{"$f":"VALORACION!P167","v":{"$error":"#REF!"}},null,{"$error":"#REF!"}]
[{"$f":"VALORACION!A168","v":{"$error":"#REF!"}},null,null,{"$f":"Presupuesto!#REF!","v":{"$error":"#REF!"}},{"$f":"VALORACION!L168","v":{"$error":"#REF!"}},{"$f":"Presupuesto!#REF!","v":{"$error":"#REF!"}},{"$f":"VALORACION!M168","v":{"$error":"#REF!"}},{"$f":"Presupuesto!#REF!","v":{"$error":"#REF!"}},{"$f":"VALORACION!N168","v":{"$error":"#REF!"}},{"$f":"VALORACION!O168","v":{"$error":"#REF!"}},{"$f":"VALORACION!P168","v":{"$error":"#REF!"}},null,{"$error":"#REF!"}]
[{"$f":"VALORACION!A169","v":{"$error":"#REF!"}},null,null,{"$f":"Presupuesto!#REF!","v":{"$error":"#REF!"}},{"$f":"VALORACION!L169","v":{"$error":"#REF!"}},{"$f":"Presupuesto!#REF!","v":{"$error":"#REF!"}},{"$f":"VALORACION!M169","v":{"$error":"#REF!"}},{"$f":"Presupuesto!#REF!","v":{"$error":"#REF!"}},{"$f":"VALORACION!N169","v":{"$error":"#REF!"}},{"$f":"VALORACION!O169","v":{"$error":"#REF!"}},{"$f":"VALORACION!P169","v":{"$error":"#REF!"}},null,{"$error":"#REF!"}]
[{"$f":"VALORACION!A170","v":{"$error":"#REF!"}},null,null,{"$f":"Presupuesto!#REF!","v":{"$error":"#REF!"}},{"$f":"VALORACION!L170","v":{"$error":"#REF!"}},{"$f":"Presupuesto!#REF!","v":{"$error":"#REF!"}},{"$f":"VALORACION!M170","v":{"$error":"#REF!"}},{"$f":"Presupuesto!#REF!","v":{"$error":"#REF!"}},{"$f":"VALORACION!N170","v":{"$error":"#REF!"}},{"$f":"VALORACION!O170","v":{"$error":"#REF!"}},{"$f":"VALORACION!P170","v":{"$error":"#REF!"}},null,{"$error":"#REF!"}]
[{"$f":"VALORACION!A171","v":{"$error":"#REF!"}},null,null,{"$f":"Presupuesto!#REF!","v":{"$error":"#REF!"}},{"$f":"VALORACION!L171","v":{"$error":"#REF!"}},{"$f":"Presupuesto!#REF!","v":{"$error":"#REF!"}},{"$f":"VALORACION!M171","v":{"$error":"#REF!"}},{"$f":"Presupuesto!#REF!","v":{"$error":"#REF!"}},{"$f":"VALORACION!N171","v":{"$error":"#REF!"}},{"$f":"VALORACION!O171","v":{"$error":"#REF!"}},{"$f":"VALORACION!P171","v":{"$error":"#REF!"}},null,{"$error":"#REF!"}]
[{"$f":"VALORACION!A172","v":{"$error":"#REF!"}},null,null,{"$f":"Presupuesto!#REF!","v":{"$error":"#REF!"}},{"$f":"VALORACION!L172","v":{"$error":"#REF!"}},{"$f":"Presupuesto!#REF!","v":{"$error":"#REF!"}},{"$f":"VALORACION!M172","v":{"$error":"#REF!"}},{"$f":"Presupuesto!#REF!","v":{"$error":"#REF!"}},{"$f":"VALORACION!N172","v":{"$error":"#REF!"}},{"$f":"VALORACION!O172","v":{"$error":"#REF!"}},{"$f":"VALORACION!P172","v":{"$error":"#REF!"}},null,{"$error":"#REF!"}]
[{"$f":"VALORACION!A173","v":{"$error":"#REF!"}},null,null,{"$f":"Presupuesto!#REF!","v":{"$error":"#REF!"}},{"$f":"VALORACION!L173","v":{"$error":"#REF!"}},{"$f":"Presupuesto!#REF!","v":{"$error":"#REF!"}},{"$f":"VALORACION!M173","v":{"$error":"#REF!"}},{"$f":"Presupuesto!#REF!","v":{"$error":"#REF!"}},{"$f":"VALORACION!N173","v":{"$error":"#REF!"}},{"$f":"VALORACION!O173","v":{"$error":"#REF!"}},{"$f":"VALORACION!P173","v":{"$error":"#REF!"}},null,{"$error":"#REF!"}]
[{"$f":"VALORACION!A174","v":{"$error":"#REF!"}},null,null,{"$f":"Presupuesto!#REF!","v":{"$error":"#REF!"}},{"$f":"VALORACION!L174","v":{"$error":"#REF!"}},{"$f":"Presupuesto!#REF!","v":{"$error":"#REF!"}},{"$f":"VALORACION!M174","v":{"$error":"#REF!"}},{"$f":"Presupuesto!#REF!","v":{"$error":"#REF!"}},{"$f":"VALORACION!N174","v":{"$error":"#REF!"}},{"$f":"VALORACION!O174","v":{"$error":"#REF!"}},{"$f":"VALORACION!P174","v":{"$error":"#REF!"}},null,{"$error":"#REF!"}]
[{"$f":"VALORACION!A175","v":{"$error":"#REF!"}},null,null,{"$f":"Presupuesto!#REF!","v":{"$error":"#REF!"}},{"$f":"VALORACION!L175","v":{"$error":"#REF!"}},{"$f":"Presupuesto!#REF!","v":{"$error":"#REF!"}},{"$f":"VALORACION!M175","v":{"$error":"#REF!"}},{"$f":"Presupuesto!#REF!","v":{"$error":"#REF!"}},{"$f":"VALORACION!N175","v":{"$error":"#REF!"}},{"$f":"VALORACION!O175","v":{"$error":"#REF!"}},{"$f":"VALORACION!P175","v":{"$error":"#REF!"}},null,{"$error":"#REF!"}]
[{"$f":"VALORACION!A176","v":{"$error":"#REF!"}},null,null,{"$f":"Presupuesto!#REF!","v":{"$error":"#REF!"}},{"$f":"VALORACION!L176","v":{"$error":"#REF!"}},{"$f":"Presupuesto!#REF!","v":{"$error":"#REF!"}},{"$f":"VALORACION!M176","v":{"$error":"#REF!"}},{"$f":"Presupuesto!#REF!","v":{"$error":"#REF!"}},{"$f":"VALORACION!N176","v":{"$error":"#REF!"}},{"$f":"VALORACION!O176","v":{"$error":"#REF!"}},{"$f":"VALORACION!P176","v":{"$error":"#REF!"}},null,{"$error":"#REF!"}]
[{"$f":"VALORACION!A177","v":{"$error":"#REF!"}},null,null,{"$f":"Presupuesto!#REF!","v":{"$error":"#REF!"}},{"$f":"VALORACION!L177","v":{"$error":"#REF!"}},{"$f":"Presupuesto!#REF!","v":{"$error":"#REF!"}},{"$f":"VALORACION!M177","v":{"$error":"#REF!"}},{"$f":"Presupuesto!#REF!","v":{"$error":"#REF!"}},{"$f":"VALORACION!N177","v":{"$error":"#REF!"}},{"$f":"VALORACION!O177","v":{"$error":"#REF!"}},{"$f":"VALORACION!P177","v":{"$error":"#REF!"}},null,{"$error":"#REF!"}]
[{"$f":"VALORACION!A178","v":{"$error":"#REF!"}},null,null,{"$f":"Presupuesto!#REF!","v":{"$error":"#REF!"}},{"$f":"VALORACION!L178","v":{"$error":"#REF!"}},{"$f":"Presupuesto!#REF!","v":{"$error":"#REF!"}},{"$f":"VALORACION!M178","v":{"$error":"#REF!"}},{"$f":"Presupuesto!#REF!","v":{"$error":"#REF!"}},{"$f":"VALORACION!N178","v":{"$error":"#REF!"}},{"$f":"VALORACION!O178","v":{"$error":"#REF!"}},{"$f":"VALORACION!P178","v":{"$error":"#REF!"}},null,{"$error":"#REF!"}]
[{"$f":"VALORACION!A179","v":{"$error":"#REF!"}},null,null,{"$f":"Presupuesto!#REF!","v":{"$error":"#REF!"}},{"$f":"VALORACION!L179","v":{"$error":"#REF!"}},{"$f":"Presupuesto!#REF!","v":{"$error":"#REF!"}},{"$f":"VALORACION!M179","v":{"$error":"#REF!"}},{"$f":"Presupuesto!#REF!","v":{"$error":"#REF!"}},{"$f":"VALORACION!N179","v":{"$error":"#REF!"}},{"$f":"VALORACION!O179","v":{"$error":"#REF!"}},{"$f":"VALORACION!P179","v":{"$error":"#REF!"}},null,{"$error":"#REF!"}]
[{"$f":"VALORACION!A180","v":{"$error":"#REF!"}},null,null,{"$f":"Presupuesto!#REF!","v":{"$error":"#REF!"}},{"$f":"VALORACION!L180","v":{"$error":"#REF!"}},{"$f":"Presupuesto!#REF!","v":{"$error":"#REF!"}},{"$f":"VALORACION!M180","v":{"$error":"#REF!"}},{"$f":"Presupuesto!#REF!","v":{"$error":"#REF!"}},{"$f":"VALORACION!N180","v":{"$error":"#REF!"}},{"$f":"VALORACION!O180","v":{"$error":"#REF!"}},{"$f":"VALORACION!P180","v":{"$error":"#REF!"}},null,{"$error":"#REF!"}]
[{"$f":"VALORACION!A181","v":{"$error":"#REF!"}},null,null,{"$f":"Presupuesto!#REF!","v":{"$error":"#REF!"}},{"$f":"VALORACION!L181","v":{"$error":"#REF!"}},{"$f":"Presupuesto!#REF!","v":{"$error":"#REF!"}},{"$f":"VALORACION!M181","v":{"$error":"#REF!"}},{"$f":"Presupuesto!#REF!","v":{"$error":"#REF!"}},{"$f":"VALORACION!N181","v":{"$error":"#REF!"}},{"$f":"VALORACION!O181","v":{"$error":"#REF!"}},{"$f":"VALORACION!P181","v":{"$error":"#REF!"}},null,{"$error":"#REF!"}]
[{"$f":"VALORACION!A182","v":{"$error":"#REF!"}},null,null,{"$f":"Presupuesto!#REF!","v":{"$error":"#REF!"}},{"$f":"VALORACION!L182","v":{"$error":"#REF!"}},{"$f":"Presupuesto!#REF!","v":{"$error":"#REF!"}},{"$f":"VALORACION!M182","v":{"$error":"#REF!"}},{"$f":"Presupuesto!#REF!","v":{"$error":"#REF!"}},{"$f":"VALORACION!N182","v":{"$error":"#REF!"}},{"$f":"VALORACION!O182","v":{"$error":"#REF!"}},{"$f":"VALORACION!P182","v":{"$error":"#REF!"}},null,{"$error":"#REF!"}]
[{"$f":"VALORACION!A183","v":{"$error":"#REF!"}},null,null,{"$f":"Presupuesto!#REF!","v":{"$error":"#REF!"}},{"$f":"VALORACION!L183","v":{"$error":"#REF!"}},{"$f":"Presupuesto!#REF!","v":{"$error":"#REF!"}},{"$f":"VALORACION!M183","v":{"$error":"#REF!"}},{"$f":"Presupuesto!#REF!","v":{"$error":"#REF!"}},{"$f":"VALORACION!N183","v":{"$error":"#REF!"}},{"$f":"VALORACION!O183","v":{"$error":"#REF!"}},{"$f":"VALORACION!P183","v":{"$error":"#REF!"}},null,{"$error":"#REF!"}]
[{"$f":"VALORACION!A184","v":{"$error":"#REF!"}},null,null,{"$f":"Presupuesto!#REF!","v":{"$error":"#REF!"}},{"$f":"VALORACION!L184","v":{"$error":"#REF!"}},{"$f":"Presupuesto!#REF!","v":{"$error":"#REF!"}},{"$f":"VALORACION!M184","v":{"$error":"#REF!"}},{"$f":"Presupuesto!#REF!","v":{"$error":"#REF!"}},{"$f":"VALORACION!N184","v":{"$error":"#REF!"}},{"$f":"VALORACION!O184","v":{"$error":"#REF!"}},{"$f":"VALORACION!P184","v":{"$error":"#REF!"}},null,{"$error":"#REF!"}]
[{"$f":"VALORACION!A185","v":{"$error":"#REF!"}},null,null,{"$f":"Presupuesto!#REF!","v":{"$error":"#REF!"}},{"$f":"VALORACION!L185","v":{"$error":"#REF!"}},{"$f":"Presupuesto!#REF!","v":{"$error":"#REF!"}},{"$f":"VALORACION!M185","v":{"$error":"#REF!"}},{"$f":"Presupuesto!#REF!","v":{"$error":"#REF!"}},{"$f":"VALORACION!N185","v":{"$error":"#REF!"}},{"$f":"VALORACION!O185","v":{"$error":"#REF!"}},{"$f":"VALORACION!P185","v":{"$error":"#REF!"}},null,{"$error":"#REF!"}]
[{"$f":"VALORACION!A186","v":{"$error":"#REF!"}},null,null,{"$f":"Presupuesto!#REF!","v":{"$error":"#REF!"}},{"$f":"VALORACION!L186","v":{"$error":"#REF!"}},{"$f":"Presupuesto!#REF!","v":{"$error":"#REF!"}},{"$f":"VALORACION!M186","v":{"$error":"#REF!"}},{"$f":"Presupuesto!#REF!","v":{"$error":"#REF!"}},{"$f":"VALORACION!N186","v":{"$error":"#REF!"}},{"$f":"VALORACION!O186","v":{"$error":"#REF!"}},{"$f":"VALORACION!P186","v":{"$error":"#REF!"}},null,{"$error":"#REF!"}]
[{"$f":"VALORACION!A187","v":{"$error":"#REF!"}},null,null,{"$f":"Presupuesto!#REF!","v":{"$error":"#REF!"}},{"$f":"VALORACION!L187","v":{"$error":"#REF!"}},{"$f":"Presupuesto!#REF!","v":{"$error":"#REF!"}},{"$f":"VALORACION!M187","v":{"$error":"#REF!"}},{"$f":"Presupuesto!#REF!","v":{"$error":"#REF!"}},{"$f":"VALORACION!N187","v":{"$error":"#REF!"}},{"$f":"VALORACION!O187","v":{"$error":"#REF!"}},{"$f":"VALORACION!P187","v":{"$error":"#REF!"}},null,{"$error":"#REF!"}]
[{"$f":"VALORACION!A188","v":{"$error":"#REF!"}},null,null,{"$f":"Presupuesto!#REF!","v":{"$error":"#REF!"}},{"$f":"VALORACION!L188","v":{"$error":"#REF!"}},{"$f":"Presupuesto!#REF!","v":{"$error":"#REF!"}},{"$f":"VALORACION!M188","v":{"$error":"#REF!"}},{"$f":"Presupuesto!#REF!","v":{"$error":"#REF!"}},{"$f":"VALORACION!N188","v":{"$error":"#REF!"}},{"$f":"VALORACION!O188","v":{"$error":"#REF!"}},{"$f":"VALORACION!P188","v":{"$error":"#REF!"}},null,{"$error":"#REF!"}]
[{"$f":"VALORACION!A189","v":{"$error":"#REF!"}},null,null,{"$f":"Presupuesto!#REF!","v":{"$error":"#REF!"}},{"$f":"VALORACION!L189","v":{"$error":"#REF!"}},{"$f":"Presupuesto!#REF!","v":{"$error":"#REF!"}},{"$f":"VALORACION!M189","v":{"$error":"#REF!"}},{"$f":"Presupuesto!#REF!","v":{"$error":"#REF!"}},{"$f":"VALORACION!N189","v":{"$error":"#REF!"}},{"$f":"VALORACION!O189","v":{"$error":"#REF!"}},{"$f":"VALORACION!P189","v":{"$error":"#REF!"}},null,{"$error":"#REF!"}]
[{"$f":"VALORACION!A190","v":{"$error":"#REF!"}},null,null,{"$f":"Presupuesto!#REF!","v":{"$error":"#REF!"}},{"$f":"VALORACION!L190","v":{"$error":"#REF!"}},{"$f":"Presupuesto!#REF!","v":{"$error":"#REF!"}},{"$f":"VALORACION!M190","v":{"$error":"#REF!"}},{"$f":"Presupuesto!#REF!","v":{"$error":"#REF!"}},{"$f":"VALORACION!N190","v":{"$error":"#REF!"}},{"$f":"VALORACION!O190","v":{"$error":"#REF!"}},{"$f":"VALORACION!P190","v":{"$error":"#REF!"}},null,{"$error":"#REF!"}]
[{"$f":"VALORACION!A191","v":{"$error":"#REF!"}},null,null,{"$f":"Presupuesto!#REF!","v":{"$error":"#REF!"}},{"$f":"VALORACION!L191","v":{"$error":"#REF!"}},{"$f":"Presupuesto!#REF!","v":{"$error":"#REF!"}},{"$f":"VALORACION!M191","v":{"$error":"#REF!"}},{"$f":"Presupuesto!#REF!","v":{"$error":"#REF!"}},{"$f":"VALORACION!N191","v":{"$error":"#REF!"}},{"$f":"VALORACION!O191","v":{"$error":"#REF!"}},{"$f":"VALORACION!P191","v":{"$error":"#REF!"}},null,{"$error":"#REF!"}]
[{"$f":"VALORACION!A192","v":{"$error":"#REF!"}},null,null,{"$f":"Presupuesto!#REF!","v":{"$error":"#REF!"}},{"$f":"VALORACION!L192","v":{"$error":"#REF!"}},{"$f":"Presupuesto!#REF!","v":{"$error":"#REF!"}},{"$f":"VALORACION!M192","v":{"$error":"#REF!"}},{"$f":"Presupuesto!#REF!","v":{"$error":"#REF!"}},{"$f":"VALORACION!N192","v":{"$error":"#REF!"}},{"$f":"VALORACION!O192","v":{"$error":"#REF!"}},{"$f":"VALORACION!P192","v":{"$error":"#REF!"}},null,{"$error":"#REF!"}]
[{"$f":"VALORACION!A193","v":{"$error":"#REF!"}},null,null,{"$f":"Presupuesto!#REF!","v":{"$error":"#REF!"}},{"$f":"VALORACION!L193","v":{"$error":"#REF!"}},{"$f":"Presupuesto!#REF!","v":{"$error":"#REF!"}},{"$f":"VALORACION!M193","v":{"$error":"#REF!"}},{"$f":"Presupuesto!#REF!","v":{"$error":"#REF!"}},{"$f":"VALORACION!N193","v":{"$error":"#REF!"}},{"$f":"VALORACION!O193","v":{"$error":"#REF!"}},{"$f":"VALORACION!P193","v":{"$error":"#REF!"}},null,{"$error":"#REF!"}]
[{"$f":"VALORACION!A194","v":{"$error":"#REF!"}},null,null,{"$f":"Presupuesto!#REF!","v":{"$error":"#REF!"}},{"$f":"VALORACION!L194","v":{"$error":"#REF!"}},{"$f":"Presupuesto!#REF!","v":{"$error":"#REF!"}},{"$f":"VALORACION!M194","v":{"$error":"#REF!"}},{"$f":"Presupuesto!#REF!","v":{"$error":"#REF!"}},{"$f":"VALORACION!N194","v":{"$error":"#REF!"}},{"$f":"VALORACION!O194","v":{"$error":"#REF!"}},{"$f":"VALORACION!P194","v":{"$error":"#REF!"}},null,{"$error":"#REF!"}]
[{"$f":"VALORACION!A195","v":{"$error":"#REF!"}},null,null,{"$f":"Presupuesto!#REF!","v":{"$error":"#REF!"}},{"$f":"VALORACION!L195","v":{"$error":"#REF!"}},{"$f":"Presupuesto!#REF!","v":{"$error":"#REF!"}},{"$f":"VALORACION!M195","v":{"$error":"#REF!"}},{"$f":"Presupuesto!#REF!","v":{"$error":"#REF!"}},{"$f":"VALORACION!N195","v":{"$error":"#REF!"}},{"$f":"VALORACION!O195","v":{"$error":"#REF!"}},{"$f":"VALORACION!P195","v":{"$error":"#REF!"}},null,{"$f":"IF(A220=0,\"Ocultar fila\",\"\")","v":{"$error":"#REF!"}}]
[{"$f":"VALORACION!A196","v":{"$error":"#REF!"}},null,null,{"$f":"Presupuesto!#REF!","v":{"$error":"#REF!"}},{"$f":"VALORACION!L196","v":{"$error":"#REF!"}},{"$f":"Presupuesto!#REF!","v":{"$error":"#REF!"}},{"$f":"VALORACION!M196","v":{"$error":"#REF!"}},{"$f":"Presupuesto!#REF!","v":{"$error":"#REF!"}},{"$f":"VALORACION!N196","v":{"$error":"#REF!"}},{"$f":"VALORACION!O196","v":{"$error":"#REF!"}},{"$f":"VALORACION!P196","v":{"$error":"#REF!"}},null,{"$error":"#REF!"}]
[{"$f":"VALORACION!A197","v":{"$error":"#REF!"}},null,null,{"$f":"Presupuesto!#REF!","v":{"$error":"#REF!"}},{"$f":"VALORACION!L197","v":{"$error":"#REF!"}},{"$f":"Presupuesto!#REF!","v":{"$error":"#REF!"}},{"$f":"VALORACION!M197","v":{"$error":"#REF!"}},{"$f":"Presupuesto!#REF!","v":{"$error":"#REF!"}},{"$f":"VALORACION!N197","v":{"$error":"#REF!"}},{"$f":"VALORACION!O197","v":{"$error":"#REF!"}},{"$f":"VALORACION!P197","v":{"$error":"#REF!"}},null,{"$error":"#REF!"}]
[{"$f":"VALORACION!A198","v":{"$error":"#REF!"}},null,null,{"$f":"Presupuesto!#REF!","v":{"$error":"#REF!"}},{"$f":"VALORACION!L198","v":{"$error":"#REF!"}},{"$f":"Presupuesto!#REF!","v":{"$error":"#REF!"}},{"$f":"VALORACION!M198","v":{"$error":"#REF!"}},{"$f":"Presupuesto!#REF!","v":{"$error":"#REF!"}},{"$f":"VALORACION!N198","v":{"$error":"#REF!"}},{"$f":"VALORACION!O198","v":{"$error":"#REF!"}},{"$f":"VALORACION!P198","v":{"$error":"#REF!"}},null,{"$error":"#REF!"}]
[{"$f":"VALORACION!A199","v":{"$error":"#REF!"}},null,null,{"$f":"Presupuesto!#REF!","v":{"$error":"#REF!"}},{"$f":"VALORACION!L199","v":{"$error":"#REF!"}},{"$f":"Presupuesto!#REF!","v":{"$error":"#REF!"}},{"$f":"VALORACION!M199","v":{"$error":"#REF!"}},{"$f":"Presupuesto!#REF!","v":{"$error":"#REF!"}},{"$f":"VALORACION!N199","v":{"$error":"#REF!"}},{"$f":"VALORACION!O199","v":{"$error":"#REF!"}},{"$f":"VALORACION!P199","v":{"$error":"#REF!"}},null,{"$error":"#REF!"}]
[{"$f":"VALORACION!A200","v":{"$error":"#REF!"}},null,null,{"$f":"Presupuesto!#REF!","v":{"$error":"#REF!"}},{"$f":"VALORACION!L200","v":{"$error":"#REF!"}},{"$f":"Presupuesto!#REF!","v":{"$error":"#REF!"}},{"$f":"VALORACION!M200","v":{"$error":"#REF!"}},{"$f":"Presupuesto!#REF!","v":{"$error":"#REF!"}},{"$f":"VALORACION!N200","v":{"$error":"#REF!"}},{"$f":"VALORACION!O200","v":{"$error":"#REF!"}},{"$f":"VALORACION!P200","v":{"$error":"#REF!"}},null,{"$error":"#REF!"}]
[{"$f":"VALORACION!A201","v":{"$error":"#REF!"}},null,null,{"$f":"Presupuesto!#REF!","v":{"$error":"#REF!"}},{"$f":"VALORACION!L201","v":{"$error":"#REF!"}},{"$f":"Presupuesto!#REF!","v":{"$error":"#REF!"}},{"$f":"VALORACION!M201","v":{"$error":"#REF!"}},{"$f":"Presupuesto!#REF!","v":{"$error":"#REF!"}},{"$f":"VALORACION!N201","v":{"$error":"#REF!"}},{"$f":"VALORACION!O201","v":{"$error":"#REF!"}},{"$f":"VALORACION!P201","v":{"$error":"#REF!"}},null,{"$error":"#REF!"}]
[{"$f":"VALORACION!A202","v":{"$error":"#REF!"}},null,null,{"$f":"Presupuesto!#REF!","v":{"$error":"#REF!"}},{"$f":"VALORACION!L202","v":{"$error":"#REF!"}},{"$f":"Presupuesto!#REF!","v":{"$error":"#REF!"}},{"$f":"VALORACION!M202","v":{"$error":"#REF!"}},{"$f":"Presupuesto!#REF!","v":{"$error":"#REF!"}},{"$f":"VALORACION!N202","v":{"$error":"#REF!"}},{"$f":"VALORACION!O202","v":{"$error":"#REF!"}},{"$f":"VALORACION!P202","v":{"$error":"#REF!"}},null,{"$error":"#REF!"}]
[{"$f":"VALORACION!A203","v":{"$error":"#REF!"}},null,null,{"$f":"Presupuesto!#REF!","v":{"$error":"#REF!"}},{"$f":"VALORACION!L203","v":{"$error":"#REF!"}},{"$f":"Presupuesto!#REF!","v":{"$error":"#REF!"}},{"$f":"VALORACION!M203","v":{"$error":"#REF!"}},{"$f":"Presupuesto!#REF!","v":{"$error":"#REF!"}},{"$f":"VALORACION!N203","v":{"$error":"#REF!"}},{"$f":"VALORACION!O203","v":{"$error":"#REF!"}},{"$f":"VALORACION!P203","v":{"$error":"#REF!"}},null,{"$error":"#REF!"}]
[{"$f":"VALORACION!A204","v":{"$error":"#REF!"}},null,null,{"$f":"Presupuesto!#REF!","v":{"$error":"#REF!"}},{"$f":"VALORACION!L204","v":{"$error":"#REF!"}},{"$f":"Presupuesto!#REF!","v":{"$error":"#REF!"}},{"$f":"VALORACION!M204","v":{"$error":"#REF!"}},{"$f":"Presupuesto!#REF!","v":{"$error":"#REF!"}},{"$f":"VALORACION!N204","v":{"$error":"#REF!"}},{"$f":"VALORACION!O204","v":{"$error":"#REF!"}},{"$f":"VALORACION!P204","v":{"$error":"#REF!"}},null,{"$error":"#REF!"}]
[{"$f":"VALORACION!A205","v":{"$error":"#REF!"}},null,null,{"$f":"Presupuesto!#REF!","v":{"$error":"#REF!"}},{"$f":"VALORACION!L205","v":{"$error":"#REF!"}},{"$f":"Presupuesto!#REF!","v":{"$error":"#REF!"}},{"$f":"VALORACION!M205","v":{"$error":"#REF!"}},{"$f":"Presupuesto!#REF!","v":{"$error":"#REF!"}},{"$f":"VALORACION!N205","v":{"$error":"#REF!"}},{"$f":"VALORACION!O205","v":{"$error":"#REF!"}},{"$f":"VALORACION!P205","v":{"$error":"#REF!"}},null,{"$error":"#REF!"}]
["TOTAL",null,null,{"$f":"Presupuesto!#REF!","v":{"$error":"#REF!"}},{"$f":"VALORACION!L206","v":{"$error":"#REF!"}},{"$f":"Presupuesto!#REF!","v":{"$error":"#REF!"}},{"$f":"VALORACION!M206","v":{"$error":"#REF!"}},{"$f":"Presupuesto!#REF!","v":{"$error":"#REF!"}},{"$f":"VALORACION!N206","v":{"$error":"#REF!"}},{"$f":"VALORACION!O206","v":{"$error":"#REF!"}},{"$f":"VALORACION!P206","v":{"$error":"#REF!"}}]

{"sheet":"PUNTOS","index":2,"n_rows":103,"n_cols":29,"rows_kept":103,"cut":false,"hidden":true,"merged":[[21,13,21,16],[22,9,22,12],[44,7,44,8],[44,9,44,10],[19,9,19,12],[18,9,18,12],[18,13,18,16],[33,1,33,16],[22,13,22,16],[20,13,20,16],[19,13,19,16],[20,9,20,12],[21,9,21,12],[40,7,40,8],[37,1,37,16],[40,13,40,14],[44,11,44,12],[44,13,44,14],[41,7,41,8],[42,1,42,4],[41,9,41,10],[41,15,41,16],[41,11,41,12],[41,13,41,14],[17,9,17,12],[10,13,10,16],[9,9,9,12],[11,13,11,16],[16,9,16,12],[5,1,5,4],[8,9,8,12],[11,1,11,4],[8,1,8,4],[17,13,17,16],[15,9,15,12],[15,13,15,16],[16,13,16,16],[12,13,12,16],[1,13,1,16],[2,13,2,16],[1,9,1,12],[2,9,2,12],[7,9,7,12],[5,13,5,16],[6,13,6,16],[10,9,10,12],[12,9,12,12],[7,13,7,16],[3,9,3,12],[4,9,4,12],[5,9,5,12],[6,9,6,12],[11,9,11,12],[3,13,3,16],[4,13,4,16],[8,13,8,16],[9,13,9,16],[45,11,45,12],[44,4,44,6],[46,7,46,8],[46,9,46,10],[1,1,1,4],[2,1,2,4],[3,1,3,4],[24,1,24,4],[9,1,9,4],[10,1,10,4],[15,1,15,4],[18,1,18,4],[21,1,21,4],[17,1,17,4],[13,1,13,4],[6,1,6,4],[7,1,7,4],[12,1,12,4],[22,1,22,4],[19,1,19,4],[20,1,20,4],[23,1,23,4],[16,1,16,4],[4,1,4,4],[45,7,45,8],[45,15,45,16],[72,1,72,8],[73,1,73,8],[65,2,65,9],[64,11,64,17],[31,1,31,16],[39,1,39,16],[40,15,40,16],[32,1,32,16],[34,1,34,16],[45,13,45,14],[45,1,45,3],[47,15,47,16],[47,13,47,14],[45,4,45,6],[46,11,46,12],[44,1,44,3],[43,1,43,4],[40,9,40,10],[40,11,40,12],[41,1,41,6],[44,15,44,16],[45,9,45,10],[74,2,74,9],[46,1,46,3],[46,13,46,14],[47,7,47,8],[47,9,47,10],[46,15,46,16],[71,1,71,8],[55,3,55,5],[51,1,53,1],[54,1,55,2],[68,1,68,8],[69,1,69,8],[70,1,70,8],[59,2,59,9],[60,2,60,9],[61,2,61,9],[48,1,48,16],[47,4,47,6],[47,11,47,12],[46,4,46,6],[47,1,47,3]]}
[null,"VALORACIÓN DEL PROYECTO",null,null,null,null,null,null,null,null,null,null,null,null,null,null,null,null,null,"Referenciar los socios desde  Datos/Editar vínculos"]
[null,"Criterios de valoración",null,null,null,null,"Puntuación 1","Puntuación 2","Media","Comentarios evaluador 1",null,null,null,"Comentarios evaluador 2",null,null,null,"Mínimo",null,"CONJUNTA",{"$f":"IF(RIGHT($H$41,3)=\"lar\",\"Socio A\",CONCATENATE(\"Expte. \",RIGHT($H$41,3)))","v":"Expte. 000"},{"$f":"IF(RIGHT($J$41,3)=\"lar\",\"Socio B\",CONCATENATE(\"Expte. \",RIGHT($J$41,3)))","v":"Expte. 000"},{"$f":"IF(RIGHT($L$41,3)=\"lar\",\"Socio C\",CONCATENATE(\"Expte. \",RIGHT($L$41,3)))","v":"Expte. 000"},{"$f":"IF(RIGHT($N$41,3)=\"lar\",\"Socio D\",CONCATENATE(\"Expte. \",RIGHT($N$41,3)))","v":"Expte. 000"},{"$f":"IF(RIGHT($P$41,3)=\"lar\",\"Socio E\",CONCATENATE(\"Expte. \",RIGHT($P$41,3)))","v":"Expte. 000"},"ÉSTE"]
["a)","Alcance tecnológico del proyecto. DIFICULTAD TÉCNICA",null,null,null,"Máximo",{"$f":"SUM(G4:G6)","v":0},{"$f":"SUM(H4:H6)","v":0},{"$f":"IF(H3>0,AVERAGE(G3,H3),G3)","v":0},null,null,null,null,null,null,null,null,15,null,{"$f":"IFERROR(AVERAGEIFS(U3:Z3,U3:Z3,\">0\"),0)","v":0},{"$f":"IFERROR([1]PUNTOS!$I3,0)","v":0},{"$f":"IFERROR([2]PUNTOS!$I3,0)","v":0},{"$f":"IFERROR([3]PUNTOS!$I3,0)","v":0},{"$f":"IFERROR([4]PUNTOS!$I3,0)","v":0},{"$f":"IFERROR([5]PUNTOS!$I3,0)","v":0},{"$f":"I3","v":0}]
["a1","Riesgo tecnológico de lograr los objetivos propuestos, dificultad técnica.",null,null,null,12,null,null,0]
["a2","Deficiencia de las soluciones actuales y valoración tecnológica de la solución propuesta frente a otras posibles. ",null,null,null,10,null,null,0]
["a3","Problema a resolver y oportunidad en el mercado.",null,null,null,8,null,null,0]
["b)","Grado de novedad del proyecto ",null,null,null,"Máximo",{"$f":"G8","v":0},{"$f":"H8","v":0},0,null,null,null,null,null,null,null,null,10,null,{"$f":"IFERROR(AVERAGEIFS(U7:Z7,U7:Z7,\">0\"),0)","v":0},{"$f":"IFERROR([1]PUNTOS!$I7,0)","v":0},{"$f":"IFERROR([2]PUNTOS!$I7,0)","v":0},{"$f":"IFERROR([3]PUNTOS!$I7,0)","v":0},{"$f":"IFERROR([4]PUNTOS!$I7,0)","v":0},{"$f":"IFERROR([5]PUNTOS!$I7,0)","v":0},{"$f":"I7","v":0}]
["b","Novedad a nivel internacional, nacional o regional y su grado de relevancia",null,null,null,20,null,null,0]
["c)","Adecuación del presupuesto a las actividades.",null,null,null,"Máximo",{"$f":"G10","v":0},{"$f":"H10","v":0},0,null,null,null,null,null,null,null,null,5,null,{"$f":"IFERROR(AVERAGEIFS(U9:Z9,U9:Z9,\">0\"),0)","v":0},{"$f":"IFERROR([1]PUNTOS!$I9,0)","v":0},{"$f":"IFERROR([2]PUNTOS!$I9,0)","v":0},{"$f":"IFERROR([3]PUNTOS!$I9,0)","v":0},{"$f":"IFERROR([4]PUNTOS!$I9,0)","v":0},{"$f":"IFERROR([5]PUNTOS!$I9,0)","v":0},{"$f":"I9","v":0}]
["c","Descripción de todos los gastos imputados. Necesidad, estimación, tareas, cantidades",null,null,null,10,null,null,0]
["d)","Calidad de la memoria presentada",null,null,null,"Máximo",{"$f":"SUM(G12:G13)","v":0},{"$f":"SUM(H12:H13)","v":0},0,null,null,null,null,null,null,null,null,5,null,{"$f":"IFERROR(AVERAGEIFS(U11:Z11,U11:Z11,\">0\"),0)","v":0},{"$f":"IFERROR([1]PUNTOS!$I11,0)","v":0},{"$f":"IFERROR([2]PUNTOS!$I11,0)","v":0},{"$f":"IFERROR([3]PUNTOS!$I11,0)","v":0},{"$f":"IFERROR([4]PUNTOS!$I11,0)","v":0},{"$f":"IFERROR([5]PUNTOS!$I11,0)","v":0},{"$f":"I11","v":0}]
["d1","Calidad general de la memoria; claridad, descripción de los objetivos y metodología (acciones planificadas para conseguirlos)",null,null,null,5,null,null,0]
["d2","Definición de las tareas, cronograma de ejecución, asignación de recursos",null,null,null,5,null,null,0]
[null,"Valoración de la memoria",null,null,null,{"$f":"F4+F5+F6+F8+F10+F12+F13","v":70},{"$f":"G4+G5+G6+G8+G10+G12+G13","v":0},{"$f":"H4+H5+H6+H8+H10+H12+H13","v":0},{"$f":"I4+I5+I6+I8+I10+I12+I13","v":0},"*Valoración final en la fila T teniendo en cuenta las puntuaciones del resto de socios.",null,null,null,null,null,null,null,35,null,{"$f":"T3+T7+T9+T11","v":0}]
[]
["j)","Doctores en el equipo investigador",null,null,null,3,null,null,{"$f":"VLOOKUP($T$33,AB30:AC33,2,TRUE)","v":0},null,null,null,null,null,null,null,null,null,null,{"$f":"MAX(U16:Z16)","v":0},{"$f":"IFERROR([1]PUNTOS!$I16,0)","v":0},{"$f":"IFERROR([2]PUNTOS!$I16,0)","v":0},{"$f":"IFERROR([3]PUNTOS!$I16,0)","v":0},{"$f":"IFERROR([4]PUNTOS!$I16,0)","v":0},{"$f":"IFERROR([5]PUNTOS!$I16,0)","v":0},{"$f":"I16","v":0}]
["k)","Participación de mujeres en el equipo investigador",null,null,null,3,null,null,{"$f":"IF($T$39>=$AB$37,3,0)","v":0},null,null,null,null,null,null,null,null,null,null,0,{"$f":"IFERROR([1]PUNTOS!$I17,0)","v":0},{"$f":"IFERROR([2]PUNTOS!$I17,0)","v":0},{"$f":"IFERROR([3]PUNTOS!$I17,0)","v":0},{"$f":"IFERROR([4]PUNTOS!$I17,0)","v":0},{"$f":"IFERROR([5]PUNTOS!$I17,0)","v":0},0]
["e)","Alineación con las prioridades temáticas de la S4",null,null,null,10,null,null,{"$f":"B75","v":"Rellena C75"},null,null,null,null,null,null,null,null,null,null,0,{"$f":"IFERROR([1]PUNTOS!$I18,0)","v":"Rellena C75"},{"$f":"IFERROR([2]PUNTOS!$I18,0)","v":"Rellena C75"},{"$f":"IFERROR([3]PUNTOS!$I18,0)","v":"Rellena C75"},{"$f":"IFERROR([4]PUNTOS!$I18,0)","v":"Rellena C75"},{"$f":"IFERROR([5]PUNTOS!$I18,0)","v":"Rellena C75"},"Rellena C75"]
["l)","Patentes",null,null,null,3,null,null,{"$f":"VALORACION!$P$52","v":0},null,null,null,null,null,null,null,null,null,null,0,{"$f":"IFERROR([1]PUNTOS!$I19,0)","v":0},{"$f":"IFERROR([2]PUNTOS!$I19,0)","v":0},{"$f":"IFERROR([3]PUNTOS!$I19,0)","v":0},{"$f":"IFERROR([4]PUNTOS!$I19,0)","v":0},{"$f":"IFERROR([5]PUNTOS!$I19,0)","v":0},0]
["h)","Colaboración externa de agentes del SINAI en proyectos individuales o de colaboración entre empresas",null,null,null,2,null,null,{"$f":"IF(OR(VALORACION!$D$7=VALORACION!$V$15,VALORACION!$D$7=VALORACION!$V$16),B66,0)","v":{"$error":"#REF!"}},null,null,null,null,null,null,null,null,null,null,{"$error":"#REF!"},{"$f":"IFERROR([1]PUNTOS!$I20,0)","v":0},{"$f":"IFERROR([2]PUNTOS!$I20,0)","v":0},{"$f":"IFERROR([3]PUNTOS!$I20,0)","v":0},{"$f":"IFERROR([4]PUNTOS!$I20,0)","v":0},{"$f":"IFERROR([5]PUNTOS!$I20,0)","v":0},{"$error":"#REF!"}]
["f)","Fomento de la economía circular",null,null,null,4,null,null,{"$f":"B63","v":0},null,null,null,null,null,null,null,null,null,null,0,{"$f":"IFERROR([1]PUNTOS!$I21,0)","v":0},{"$f":"IFERROR([2]PUNTOS!$I21,0)","v":0},{"$f":"IFERROR([3]PUNTOS!$I21,0)","v":0},{"$f":"IFERROR([4]PUNTOS!$I21,0)","v":0},{"$f":"IFERROR([5]PUNTOS!$I21,0)","v":0},0]
["i)","Participación empresarial en transferencia",null,null,null,2,null,null,{"$f":"IF(VALORACION!D7=VALORACION!V17,IF(AND($T$45>=0.7,$T$45<=0.8),2,0),0)","v":{"$error":"#REF!"}},null,null,null,null,null,null,null,null,null,null,{"$error":"#REF!"},{"$f":"IFERROR([1]PUNTOS!$I22,0)","v":0},{"$f":"IFERROR([2]PUNTOS!$I22,0)","v":0},{"$f":"IFERROR([3]PUNTOS!$I22,0)","v":0},{"$f":"IFERROR([4]PUNTOS!$I22,0)","v":0},{"$f":"IFERROR([5]PUNTOS!$I22,0)","v":0},{"$error":"#REF!"}]
["g)","Primera vez que se presenta una empresa",null,null,null,3,null,null,{"$f":"IF(VALORACION!G30=VALORACION!V4,3,0)","v":0},null,null,null,null,null,null,null,null,null,null,0,{"$f":"IFERROR([1]PUNTOS!$I23,0)","v":0},{"$f":"IFERROR([2]PUNTOS!$I23,0)","v":0},{"$f":"IFERROR([3]PUNTOS!$I23,0)","v":0},{"$f":"IFERROR([4]PUNTOS!$I23,0)","v":0},{"$f":"IFERROR([5]PUNTOS!$I23,0)","v":0},0]
[null,"Valoración de aspectos adicionales",null,null,null,{"$f":"SUM(F16:F23)","v":30},null,null,{"$f":"SUM(I16:I23)","v":{"$error":"#REF!"}},null,null,null,null,null,null,null,null,0,null,{"$f":"SUM(T16:T23)","v":{"$error":"#REF!"}}]
[null,"VALORACIÓN TOTAL DEL PROYECTO",null,null,null,{"$f":"F4+F5+F6+F8+F10+F12+F13+F24","v":100},null,null,{"$f":"I14+I24","v":{"$error":"#REF!"}},null,null,null,null,null,null,null,null,45,null,{"$f":"T14+T24","v":{"$error":"#REF!"}},"puntos en conjunto para colaboración o transferencia"]
[]
[null,null,"VALORACIÓN:",{"$f":"ROUND(T25,2)","v":{"$error":"#REF!"}},"PUNTOS",{"$f":"IF(VALORACION!D7=VALORACION!V15,\"Como proyecto individual, según columna I\",\"Como proyecto de Colaboración o transferencia según columna T\")","v":{"$error":"#REF!"}}]
[]
[null,{"$f":"IF(OR(T3<R3,T7<R7,T9<R9,T11<R11),\"EL PROYECTO NO SUPERA ALGUNO DE LOS APARTADOS a), b), c) o d)\",IF(D27>=R25,\"EL PROYECTO ESTÁ APROBADO\",\"EL PROYECTO NO ALCANZA LA PUNTUACIÓN MÍNIMA\"))","v":"EL PROYECTO NO SUPERA ALGUNO DE LOS APARTADOS a), b), c) o d)"},null,null,null,null,null,null,{"$f":"IF(VALORACION!$D$7=VALORACION!$V$15,\"LA CALIFICACIÓN ES DEFINITIVA POR SER PROYECTO INDIVIDUAL\",\"PARA LA CALIFICACIÓN DEFINITIVA INTRODUCIR LOS SOCIOS A, B… D desde Datos/Editar vínculos\")","v":{"$error":"#REF!"}},null,null,null,null,null,null,null,null,null,null,"Calculo de puntuación por Doctores",null,null,null,null,null,null,null,"Doctores","ptos"]
[null,{"$f":"IF(AND(OR(VALORACION!D7=VALORACION!V16,VALORACION!D7=VALORACION!V17),SUM(U44:Y44)=0),\"ATENCIÓN: TODAVÍA NO SE HA VINCULADO NINGÚN SOCIO (Fila 94)\",\"\")","v":{"$error":"#REF!"}},null,null,null,null,null,null,{"$f":"IF(VALORACION!$D$7=VALORACION!$V$15,\"No hay que vincular ningún expediente\",\"Se mostrarán los números de expediente de los expedientes vinculados introducidos\")","v":{"$error":"#REF!"}},null,null,null,null,null,null,null,null,null,null,"CONJUNTA",{"$f":"IF(RIGHT($H$41,3)=\"lar\",\"Socio A\",CONCATENATE(\"Expte. \",RIGHT($H$41,3)))","v":"Expte. 000"},{"$f":"IF(RIGHT($J$41,3)=\"lar\",\"Socio B\",CONCATENATE(\"Expte. \",RIGHT($J$41,3)))","v":"Expte. 000"},{"$f":"IF(RIGHT($L$41,3)=\"lar\",\"Socio C\",CONCATENATE(\"Expte. \",RIGHT($L$41,3)))","v":"Expte. 000"},{"$f":"IF(RIGHT($N$41,3)=\"lar\",\"Socio D\",CONCATENATE(\"Expte. \",RIGHT($N$41,3)))","v":"Expte. 000"},{"$f":"IF(RIGHT($P$41,3)=\"lar\",\"Socio E\",CONCATENATE(\"Expte. \",RIGHT($P$41,3)))","v":"Expte. 000"},"ÉSTE",null,0,0]
[null,"Evaluador 1",null,null,null,null,null,null,null,null,null,null,null,null,null,null,null,null,"H. Doc.",{"$f":"SUMIFS(U31:Z31,U31:Z31,\">0\")","v":0},{"$f":"IFERROR([1]VALORACION!$F$208,0)","v":0},{"$f":"IFERROR([2]VALORACION!$F$208,0)","v":0},{"$f":"IFERROR([3]VALORACION!$F$208,0)","v":0},{"$f":"IFERROR([4]VALORACION!$F$208,0)","v":0},{"$f":"IFERROR([5]VALORACION!$F$208,0)","v":0},{"$f":"VALORACION!$F$208","v":0},null,0.03,1]
[null,"JUSTIFICACION DE LA CALIFICACION. Es el texto que expresa el motivo de la calificación en el futuro informe que se manda a la empresa.",null,null,null,null,null,null,null,null,null,null,null,null,null,null,null,null,"H. Totales",{"$f":"SUMIFS(U32:Z32,U32:Z32,\">0\")","v":0},{"$f":"IFERROR([1]VALORACION!$P$206,0)","v":0},{"$f":"IFERROR([2]VALORACION!$P$206,0)","v":0},{"$f":"IFERROR([3]VALORACION!$P$206,0)","v":0},{"$f":"IFERROR([4]VALORACION!$P$206,0)","v":0},{"$f":"IFERROR([5]VALORACION!$P$206,0)","v":0},{"$f":"VALORACION!$P$206","v":{"$error":"#REF!"}},null,0.25,2]
[null,null,null,null,null,null,null,null,null,null,null,null,null,null,null,null,null,null,"%",{"$f":"IFERROR(T31/T32,0)","v":0},0,0,0,0,0,0,null,0.5,3]
[null,"COMENTARIOS SOBRE LA EVALUACIÓN. Se exporta también a Extra, pero no se incluye en el informe"]
[null,null,null,null,null,null,null,null,null,null,null,null,null,null,null,null,null,null,null,"Calculo de puntuación por participación de mujeres"]
[null,"Evaluador 2",null,null,null,null,null,null,null,null,null,null,null,null,null,null,null,null,null,"CONJUNTA",{"$f":"IF(RIGHT($H$41,3)=\"lar\",\"Socio A\",CONCATENATE(\"Expte. \",RIGHT($H$41,3)))","v":"Expte. 000"},{"$f":"IF(RIGHT($J$41,3)=\"lar\",\"Socio B\",CONCATENATE(\"Expte. \",RIGHT($J$41,3)))","v":"Expte. 000"},{"$f":"IF(RIGHT($L$41,3)=\"lar\",\"Socio C\",CONCATENATE(\"Expte. \",RIGHT($L$41,3)))","v":"Expte. 000"},{"$f":"IF(RIGHT($N$41,3)=\"lar\",\"Socio D\",CONCATENATE(\"Expte. \",RIGHT($N$41,3)))","v":"Expte. 000"},{"$f":"IF(RIGHT($P$41,3)=\"lar\",\"Socio E\",CONCATENATE(\"Expte. \",RIGHT($P$41,3)))","v":"Expte. 000"},"ÉSTE",null,"Mujeres","ptos"]
[null,"JUSTIFICACION DE LA CALIFICACION",null,null,null,null,null,null,null,null,null,null,null,null,null,null,null,null,"H. Mujeres",{"$f":"SUMIFS(U37:Z37,U37:Z37,\">0\")","v":0},{"$f":"IFERROR([1]VALORACION!$B$208,0)","v":0},{"$f":"IFERROR([2]VALORACION!$B$208,0)","v":0},{"$f":"IFERROR([3]VALORACION!$B$208,0)","v":0},{"$f":"IFERROR([4]VALORACION!$B$208,0)","v":0},{"$f":"IFERROR([5]VALORACION!$B$208,0)","v":0},{"$f":"VALORACION!$B$208","v":0},null,0.5,3]
[null,null,null,null,null,null,null,null,null,null,null,null,null,null,null,null,null,null,"H. H + M",{"$f":"SUMIFS(U38:Z38,U38:Z38,\">0\")","v":0},{"$f":"IFERROR([1]VALORACION!$L$208,0)","v":0},{"$f":"IFERROR([2]VALORACION!$L$208,0)","v":0},{"$f":"IFERROR([3]VALORACION!$L$208,0)","v":0},{"$f":"IFERROR([4]VALORACION!$L$208,0)","v":0},{"$f":"IFERROR([5]VALORACION!$L$208,0)","v":0},{"$f":"VALORACION!$L$208","v":0}]
[null,"COMENTARIOS SOBRE LA EVALUACIÓN",null,null,null,null,null,null,null,null,null,null,null,null,null,null,null,null,"%",{"$f":"IFERROR(T37/T38,0)","v":0},0,0,0,0,0,0]
[]
[null,null,null,null,null,null,null,{"$f":"IFERROR([1]VALORACION!$D$2,\"Socio A sin vincular\")","v":"0011-1365-2024-000"},null,{"$f":"IFERROR([2]VALORACION!$D$2,\"Socio B sin vincular\")","v":"0011-1365-2024-000"},null,{"$f":"IFERROR([3]VALORACION!$D$2,\"Socio C sin vincular\")","v":"0011-1365-2024-000"},null,{"$f":"IFERROR([4]VALORACION!$D$2,\"Socio D sin vincular\")","v":"0011-1365-2024-000"},null,{"$f":"IFERROR([5]VALORACION!$D$2,\"Socio E sin vincular\")","v":"0011-1365-2024-000"},null,null,null,"Grado de participación empresarial en proyectos de transferencia del conocimiento"]
[null,"Desde Datos/editar vínculos sustituir exptes A, B… por los de los socios",null,null,null,null,null,{"$f":"IFERROR('[1]EMPRESA-DATOS GENERALES'!$F$4,\"\")","v":0},null,{"$f":"IFERROR('[2]EMPRESA-DATOS GENERALES'!$F$4,\"\")","v":0},null,{"$f":"IFERROR('[3]EMPRESA-DATOS GENERALES'!$F$4,\"\")","v":0},null,{"$f":"IFERROR('[4]EMPRESA-DATOS GENERALES'!$F$4,\"\")","v":0},null,{"$f":"IFERROR('[5]EMPRESA-DATOS GENERALES'!$F$4,\"\")","v":0},null,null,null,"CONJUNTA",{"$f":"IF(RIGHT($H$41,3)=\"lar\",\"Socio A\",CONCATENATE(\"Expte. \",RIGHT($H$41,3)))","v":"Expte. 000"},{"$f":"IF(RIGHT($J$41,3)=\"lar\",\"Socio B\",CONCATENATE(\"Expte. \",RIGHT($J$41,3)))","v":"Expte. 000"},{"$f":"IF(RIGHT($L$41,3)=\"lar\",\"Socio C\",CONCATENATE(\"Expte. \",RIGHT($L$41,3)))","v":"Expte. 000"},{"$f":"IF(RIGHT($N$41,3)=\"lar\",\"Socio D\",CONCATENATE(\"Expte. \",RIGHT($N$41,3)))","v":"Expte. 000"},{"$f":"IF(RIGHT($P$41,3)=\"lar\",\"Socio E\",CONCATENATE(\"Expte. \",RIGHT($P$41,3)))","v":"Expte. 000"},"ÉSTE",null,"P empresarial","ptos"]
[null,"En Col. y Transf poner: Código / Coordinador",null,null,null,null,{"$f":"#REF!","v":{"$error":"#REF!"}},{"$f":"IFERROR([1]PUNTOS!$F$43,\"\")","v":0},{"$f":"IFERROR([1]PUNTOS!$G$43,\"\")","v":0},{"$f":"IFERROR([2]PUNTOS!$F$43,\"\")","v":0},{"$f":"IFERROR([2]PUNTOS!$G$43,\"\")","v":0},{"$f":"IFERROR([3]PUNTOS!$F$43,\"\")","v":0},{"$f":"IFERROR([3]PUNTOS!$G$43,\"\")","v":0},{"$f":"IFERROR([4]PUNTOS!$F$43,\"\")","v":0},{"$f":"IFERROR([4]PUNTOS!$G$43,\"\")","v":0},{"$f":"IFERROR([5]PUNTOS!$F$43,\"\")","v":0},{"$f":"IFERROR([5]PUNTOS!$G$43,\"\")","v":0},null,"Empresa",{"$f":"SUMIFS(U44:Z44,U43:Z43,#REF!)","v":{"$error":"#REF!"}},{"$f":"IFERROR('[1]EMPRESA-DATOS GENERALES'!$F$3,0)","v":0},{"$f":"IFERROR('[2]EMPRESA-DATOS GENERALES'!$F$3,0)","v":0},{"$f":"IFERROR('[3]EMPRESA-DATOS GENERALES'!$F$3,0)","v":0},{"$f":"IFERROR('[4]EMPRESA-DATOS GENERALES'!$F$3,0)","v":0},{"$f":"IFERROR('[5]EMPRESA-DATOS GENERALES'!$F$3,0)","v":0},{"$f":"#REF!","v":{"$error":"#REF!"}},null,"<70%",0]
[null,"TRL de partida / TRL final",null,null,null,null,null,{"$f":"IFERROR([1]PUNTOS!$F$44,\"\")","v":0},{"$f":"IFERROR([1]PUNTOS!$G$44,\"\")","v":0},{"$f":"IFERROR([2]PUNTOS!$F$44,\"\")","v":0},{"$f":"IFERROR([2]PUNTOS!$G$44,\"\")","v":0},{"$f":"IFERROR([3]PUNTOS!$F$44,\"\")","v":0},{"$f":"IFERROR([3]PUNTOS!$G$44,\"\")","v":0},{"$f":"IFERROR([4]PUNTOS!$F$44,\"\")","v":0},{"$f":"IFERROR([4]PUNTOS!$G$44,\"\")","v":0},{"$f":"IFERROR([5]PUNTOS!$F$44,\"\")","v":0},{"$f":"IFERROR([5]PUNTOS!$G$44,\"\")","v":0},null,"Aceptado",{"$f":"SUMIFS(U44:Z44,U44:Z44,\">0\")","v":0},{"$f":"IFERROR([1]VALORACION!$K$357,0)","v":0},{"$f":"IFERROR([2]VALORACION!$K$357,0)","v":0},{"$f":"IFERROR([3]VALORACION!$K$357,0)","v":0},{"$f":"IFERROR([4]VALORACION!$K$357,0)","v":0},{"$f":"IFERROR([5]VALORACION!$K$357,0)","v":0},{"$f":"VALORACION!K359","v":{"$error":"#REF!"}},null,"≥70% Y ≤80%",2]
[null,"Otras ayudas solicitadas",null,null,{"$f":"#REF!","v":{"$error":"#REF!"}},null,null,{"$f":"IFERROR([1]PUNTOS!$E$45,\"\")","v":0},null,{"$f":"IFERROR([2]PUNTOS!$E$45,\"\")","v":0},null,{"$f":"IFERROR([3]PUNTOS!$E$45,\"\")","v":0},null,{"$f":"IFERROR([4]PUNTOS!$E$45,\"\")","v":0},null,{"$f":"IFERROR([5]PUNTOS!$E$45,\"\")","v":0},null,null,"%",{"$f":"IFERROR(ROUND(T43/T44,4),0)","v":0},{"$f":"IFERROR(ROUND(U44/$T$44,4),0)","v":0},0,0,0,0,0,null,">80%",0]
[null,"Calificación",null,null,null,null,null,{"$f":"IFERROR([1]PUNTOS!$E$46,\"\")","v":0},null,{"$f":"IFERROR([2]PUNTOS!$E$46,\"\")","v":0},null,{"$f":"IFERROR([3]PUNTOS!$E$46,\"\")","v":0},null,{"$f":"IFERROR([4]PUNTOS!$E$46,\"\")","v":0},null,{"$f":"IFERROR([5]PUNTOS!$E$46,\"\")","v":0}]
[null,"Resultado",null,null,null,null,null,{"$f":"IFERROR([1]PUNTOS!$E$47,\"\")","v":0},null,{"$f":"IFERROR([2]PUNTOS!$E$47,\"\")","v":0},null,{"$f":"IFERROR([3]PUNTOS!$E$47,\"\")","v":0},null,{"$f":"IFERROR([4]PUNTOS!$E$47,\"\")","v":0},null,{"$f":"IFERROR([5]PUNTOS!$E$47,\"\")","v":0},null,null,null,"Limite de ayuda de 500.000 euros por proyecto"]
[null,"Motivo de denegación",null,null,null,null,null,{"$f":"IFERROR([1]PUNTOS!$E$48,\"\")","v":0},null,{"$f":"IFERROR([2]PUNTOS!$E$48,\"\")","v":0},null,{"$f":"IFERROR([3]PUNTOS!$E$48,\"\")","v":0},null,{"$f":"IFERROR([4]PUNTOS!$E$48,\"\")","v":0},null,{"$f":"IFERROR([5]PUNTOS!$E$48,\"\")","v":0},null,null,null,"CONJUNTA",{"$f":"IF(RIGHT($H$41,3)=\"lar\",\"Socio A\",CONCATENATE(\"Expte. \",RIGHT($H$41,3)))","v":"Expte. 000"},{"$f":"IF(RIGHT($J$41,3)=\"lar\",\"Socio B\",CONCATENATE(\"Expte. \",RIGHT($J$41,3)))","v":"Expte. 000"},{"$f":"IF(RIGHT($L$41,3)=\"lar\",\"Socio C\",CONCATENATE(\"Expte. \",RIGHT($L$41,3)))","v":"Expte. 000"},{"$f":"IF(RIGHT($N$41,3)=\"lar\",\"Socio D\",CONCATENATE(\"Expte. \",RIGHT($N$41,3)))","v":"Expte. 000"},{"$f":"IF(RIGHT($P$41,3)=\"lar\",\"Socio E\",CONCATENATE(\"Expte. \",RIGHT($P$41,3)))","v":"Expte. 000"},"ÉSTE"]
[null,{"$f":"IFERROR(VLOOKUP(E48,B91:C103,2,FALSE),\"\")","v":""},null,null,null,null,null,null,null,null,null,null,null,null,null,null,null,null,"Pres. Final",{"$f":"SUMIFS(U49:Z49,U49:Z49,\">0\")","v":0},{"$f":"IFERROR([1]VALORACION!$K$359,0)","v":0},{"$f":"IFERROR([2]VALORACION!$K$359,0)","v":0},{"$f":"IFERROR([3]VALORACION!$K$359,0)","v":0},{"$f":"IFERROR([4]VALORACION!$K$359,0)","v":0},{"$f":"IFERROR([5]VALORACION!$K$359,0)","v":0},{"$f":"VALORACION!$K$361","v":{"$error":"#REF!"}}]
[]
[]
[null,"relevancia\nalcance","alto",15,17,20]
[null,null,"medio",12,15,17]
[null,null,"bajo",10,12,15]
[null,"Apartado b)\nNovedad",null,"regional","nacional","internacional"]
[null,null,null,"ámbito"]
[]
[]
[null,"Economía circular"]
[null,null,"La gestión sostenible del uso de recursos naturales y uso de materias primas secundarias: hasta 2 puntos."]
[null,null,"La mejora medioambiental: hasta 1 punto. "]
[null,null,"La gestión de residuos mediante, al menos, la reutilización o el reciclado generando nuevas materias primas que se usen en nuevos productos, excluido el uso para combustibles: hasta 1 punto."]
[null,{"$f":"SUM(B60:B62)","v":0},"PTOS"]
[null,null,null,null,null,null,null,null,null,null,null,"Ver hoja valoración, filas 276 a 305 y meter las colaboraciones con agentes del SINAI"]
[null,"Colaboración externa de agentes del SINAI",null,null,null,null,null,null,null,null,null,"Colaboraciones con Agentes del SINAI",null,null,null,null,null,null,"Presupuesto","%"]
[null,{"$f":"IF(T66<0.07,0,2)","v":0},"Colaboración externa de agentes del SINAI en proyectos individuales o de colaboración entre empresas. Se valora con 2 puntos cuando el presupuesto de la colaboración establecido en la resolución de concesión sobre el total del proyecto sea al menos el 7%. B65 señala la puntación que correspondería en función del %",null,null,null,null,null,null,null,null,null,null,null,null,null,null,{"$f":"SUM(L66:Q66)","v":0},{"$f":"SUM(U44:Z44)","v":{"$error":"#REF!"}},{"$f":"IFERROR(R66/S66,0)","v":0}]
[]
[null,"Alineación con las prioridades temáticas de la S4",null,null,null,null,null,null,null,null,null,"Registro de agentes del SINAI:",null,null,"https://www.navarra.es/es/tramites/on/-/line/Registro-de-agentes-de-ejecucion-del-Sistema-Navarro-de-I-D-i-SINAI"]
[null,"El proyecto contribuye específicamente a una prioridad temática S4 a través de las líneas de trabajo señaladas en esa prioridad o transición",null,null,null,null,null,null,null,10,null,"Listado completo en excel disponible en la carpeta"]
[null,"El proyecto no encaja con las líneas de trabajo de una prioridad temática S4, pero sí contribuye significativamente a la visión y/o los focos señalados en esa prioridad o transición. ",null,null,null,null,null,null,null,8]
[null,"El proyecto está alineado a las tendencias ligadas a la prioridad temática S4, si bien no contribuye específicamente a la visión/focos de esa prioridad o transición. ",null,null,null,null,null,null,null,6]
[null,"El proyecto está alineado a competencias tecnológicas ligadas a la prioridad temática S4, si bien no contribuye específicamente a la visión/focos de esa prioridad o transición. ",null,null,null,null,null,null,null,5]
[null,"El proyecto no contribuye a la visión y/o los focos señalados en una prioridad, pero su desarrollo facilita el impulso de una actividad que está alineada con la prioridad temática o transición .",null,null,null,null,null,null,null,4]
[null,"No es un proyecto que contribuye a ningún sector priorizado ni ninguna línea/foco/visión de la S4",null,null,null,null,null,null,null,0]
[null,{"$f":"IFERROR(VLOOKUP(C75,B69:J74,9,FALSE),\"Rellena C75\")","v":"Rellena C75"}]
[]
[]
[]
[null,"Calificación",null,"TRL","Aproximado",null,"VARIOS"]
[null,"Sin determinar",null,"TRL 1","Investigación Industrial",null,"SÍ"]
[null,"Investigación Industrial",null,"TRL 2","Investigación Industrial",null,"NO"]
[null,"Desarrollo Experimental",null,"TRL 3","Investigación Industrial",null,"No procede"]
[null,"No es I+D",null,"TRL 4","Desarrollo Experimental"]
[null,null,null,"TRL 5","Desarrollo Experimental",null,"P empresarial"]
[null,"Resultado",null,"TRL 6","Desarrollo Experimental",null,"CORRECTO"]
[null,"SIN DETERMINAR",null,"TRL 7","Desarrollo Experimental",null,"METER IMPORTE"]
[null,"Aprobado",null,"TRL 8","Innovación tecnológica"]
[null,"Desestimado",null,"TRL 9","Innovación tecnológica"]
[]
[null,"Motivo de denegación"]
[null,"SIN DETERMINAR","En cumplimiento de la normativa"]
[null,"Renuncia","El solicitante ha presentado renuncia"]
[null,"Base 1","El proyecto no cumple con la definición de \"Investigación Industrial\" ni de \"Desarrollo Experimental\" según se definen en los apartados 85) y 86) del artículo 2 del Reglamento (UE) número 651/2014, de la Comisión, de 17 de junio de 2014."]
[null,"Base 3.3","El proyecto no cumple las condiciones exigidas para ser considerado de \"Transferencia del Conocimiento\""]
[null,"Base 2","No cumple las condiciones para ser beneficiaria de las ayudas"]
[null,"Base 5","No cumple el efecto incentivador, la fecha de inicio del proyecto es anterior a la fecha de presentación de la solicitud."]
[null,"Base 8.1","Proyecto presentado fuera de plazo."]
[null,"Base 8.2","Proyecto no presentado telemáticamente"]
[]
[null,"Base 8.3.b","No se ha presentado la documentación exigida. Falta el formulario con datos de la solicitante y del proyecto."]
[null,"Base 8.3.c","No se ha presentado la documentación exigida. Falta la memoria técnica descriptiva del proyecto."]
[null,"Base 10.3","El proyecto no ha obtenido la puntuación mínima en alguno de los apartados a), b), c) o d) del artículo 10,1"]
[null,"Base 20","El proyecto no puede recibir subvención o financiación por un importe superior al coste de la actividad a desarrollar"]

{"sheet":"VALORACION","index":3,"n_rows":372,"n_cols":26,"rows_kept":372,"cut":false,"hidden":true,"merged":[[70,20,70,26],[69,18,69,19],[77,20,77,26],[80,20,80,26],[79,20,79,26],[71,20,71,26],[72,20,72,26],[69,14,69,17],[356,0,356,2],[146,0,146,1],[123,0,123,1],[136,3,136,4],[137,3,137,4],[143,0,143,1],[144,0,144,1],[144,3,144,4],[142,0,142,1],[78,0,78,2],[74,0,74,2],[128,0,128,1],[129,0,129,1],[274,18,274,24],[275,18,275,24],[130,0,130,1],[358,0,358,2],[345,9,345,10],[307,0,307,3],[351,0,351,2],[352,0,352,2],[321,0,330,11],[355,0,355,2],[345,3,345,4],[345,0,346,2],[339,0,339,4],[347,0,347,2],[348,0,348,2],[353,0,353,2],[354,0,354,2],[332,5,332,6],[310,4,310,5],[335,0,335,4],[336,0,336,4],[345,7,345,8],[312,4,312,5],[308,0,308,3],[357,0,357,2],[114,8,114,10],[58,0,67,13],[69,0,70,2],[69,3,70,3],[69,6,69,9],[124,0,124,1],[125,0,125,1],[69,10,69,13],[69,4,70,4],[69,5,70,5],[71,0,71,2],[79,0,79,2],[122,0,122,1],[96,10,96,11],[72,0,72,2],[122,3,122,4],[76,0,76,2],[77,0,77,2],[124,3,124,4],[87,0,87,2],[88,0,88,2],[119,0,119,1],[125,3,125,4],[121,3,121,4],[136,0,136,1],[139,0,139,1],[140,0,140,1],[130,3,130,4],[138,0,138,1],[141,0,141,1],[134,3,134,4],[135,3,135,4],[131,3,131,4],[132,0,132,1],[135,0,135,1],[131,0,131,1],[132,3,132,4],[133,3,133,4],[307,12,307,13],[315,4,315,5],[307,6,307,7],[307,10,307,11],[305,0,305,5],[306,0,306,3],[295,0,295,3],[303,0,303,3],[280,18,280,24],[290,18,290,24],[291,18,291,24],[292,18,292,24],[293,18,293,24],[285,18,285,24],[286,18,286,24],[298,0,298,3],[288,0,288,3],[292,0,292,3],[286,0,286,3],[283,0,283,3],[285,0,285,3],[313,4,313,5],[337,17,337,23],[301,18,301,24],[298,18,298,24],[299,18,299,24],[340,17,340,23],[302,18,302,24],[303,18,303,24],[304,18,304,24],[333,17,333,23],[339,17,339,23],[338,17,338,23],[334,17,334,23],[300,18,300,24],[249,16,249,22],[250,16,250,22],[273,15,273,17],[251,16,251,22],[252,16,252,22],[253,16,253,22],[254,16,254,22],[335,17,335,23],[336,17,336,23],[276,18,276,24],[289,18,289,24],[277,18,277,24],[278,18,278,24],[279,18,279,24],[281,18,281,24],[282,18,282,24],[283,18,283,24],[284,18,284,24],[287,18,287,24],[288,18,288,24],[294,18,294,24],[295,18,295,24],[296,18,296,24],[297,18,297,24],[204,25,204,31],[228,16,228,22],[229,16,229,22],[230,16,230,22],[231,16,231,22],[232,16,232,22],[198,25,198,31],[199,25,199,31],[200,25,200,31],[201,25,201,31],[202,25,202,31],[203,25,203,31],[192,25,192,31],[193,25,193,31],[194,25,194,31],[195,25,195,31],[196,25,196,31],[197,25,197,31],[186,25,186,31],[187,25,187,31],[188,25,188,31],[189,25,189,31],[190,25,190,31],[191,25,191,31],[180,25,180,31],[181,25,181,31],[182,25,182,31],[183,25,183,31],[184,25,184,31],[185,25,185,31],[174,25,174,31],[175,25,175,31],[176,25,176,31],[177,25,177,31],[178,25,178,31],[179,25,179,31],[168,25,168,31],[169,25,169,31],[170,25,170,31],[171,25,171,31],[172,25,172,31],[173,25,173,31],[162,25,162,31],[163,25,163,31],[164,25,164,31],[165,25,165,31],[166,25,166,31],[167,25,167,31],[156,25,156,31],[157,25,157,31],[158,25,158,31],[159,25,159,31],[160,25,160,31],[161,25,161,31],[150,25,150,31],[151,25,151,31],[152,25,152,31],[153,25,153,31],[154,25,154,31],[155,25,155,31],[144,25,144,31],[145,25,145,31],[146,25,146,31],[147,25,147,31],[148,25,148,31],[149,25,149,31],[138,25,138,31],[139,25,139,31],[140,25,140,31],[141,25,141,31],[142,25,142,31],[143,25,143,31],[132,25,132,31],[133,25,133,31],[134,25,134,31],[135,25,135,31],[136,25,136,31],[137,25,137,31],[126,25,126,31],[127,25,127,31],[128,25,128,31],[129,25,129,31],[130,25,130,31],[131,25,131,31],[122,25,122,31],[123,25,123,31],[124,25,124,31],[125,25,125,31],[118,25,118,31],[119,25,119,31],[91,20,91,26],[92,20,92,26],[93,20,93,26],[94,20,94,26],[95,20,95,26],[96,20,96,26],[114,22,114,24],[114,19,114,20],[116,25,116,31],[117,25,117,31],[341,17,341,23],[114,16,114,18],[115,25,115,31],[83,20,83,26],[78,20,78,26],[273,12,273,13],[227,10,227,11],[209,8,209,10],[330,13,330,14],[329,13,329,14],[307,8,307,9],[84,20,84,26],[85,20,85,26],[86,20,86,26],[87,20,87,26],[89,20,89,26],[90,20,90,26],[88,20,88,26],[103,0,112,20],[114,6,115,6],[114,7,115,7],[114,11,114,15],[86,0,86,2],[120,25,120,31],[73,20,73,26],[74,20,74,26],[75,20,75,26],[76,20,76,26],[81,20,81,26],[121,25,121,31],[114,5,115,5],[94,0,94,2],[93,0,93,2],[114,0,115,1],[114,2,115,2],[118,0,118,1],[116,0,116,1],[121,0,121,1],[95,0,95,2],[114,3,115,4],[120,0,120,1],[82,20,82,26],[80,0,80,2],[81,0,81,2],[82,0,82,2],[85,0,85,2],[83,0,83,2],[84,0,84,2],[175,0,175,1],[159,0,159,1],[160,0,160,1],[161,0,161,1],[162,0,162,1],[158,0,158,1],[233,16,233,22],[332,9,332,10],[332,11,332,12],[240,16,240,22],[241,16,241,22],[242,16,242,22],[243,16,243,22],[244,16,244,22],[245,16,245,22],[234,16,234,22],[235,16,235,22],[236,16,236,22],[237,16,237,22],[238,16,238,22],[239,16,239,22],[246,16,246,22],[247,16,247,22],[248,16,248,22],[1,3,1,5],[2,3,2,5],[3,3,3,5],[126,0,126,1],[127,0,127,1],[133,0,133,1],[134,0,134,1],[157,0,157,1],[137,0,137,1],[150,0,150,1],[151,0,151,1],[128,3,128,4],[145,3,145,4],[146,3,146,4],[152,0,152,1],[153,0,153,1],[156,0,156,1],[145,0,145,1],[149,0,149,1],[154,0,154,1],[155,0,155,1],[147,0,147,1],[148,0,148,1],[117,0,117,1],[1,0,1,2],[2,0,2,2],[3,0,3,2],[5,0,5,2],[6,0,6,2],[11,0,11,2],[4,0,4,2],[8,0,8,2],[9,0,9,2],[10,0,10,2],[7,0,7,2],[4,3,4,5],[5,3,5,5],[17,7,17,9],[13,0,13,2],[12,0,12,2],[14,0,14,2],[14,3,14,5],[73,0,73,2],[75,0,75,2],[22,0,22,2],[22,3,22,5],[6,3,6,5],[7,3,7,5],[8,3,8,5],[9,3,9,5],[11,3,11,5],[10,3,10,5],[12,3,12,5],[16,0,16,2],[8,7,8,9],[16,3,16,5],[17,0,17,2],[17,3,17,5],[15,7,15,9],[116,3,116,4],[117,3,117,4],[118,3,118,4],[119,3,119,4],[120,3,120,4],[126,3,126,4],[123,3,123,4],[127,3,127,4],[129,3,129,4],[191,0,191,1],[192,0,192,1],[181,0,181,1],[183,0,183,1],[184,0,184,1],[185,0,185,1],[170,0,170,1],[164,0,164,1],[165,0,165,1],[166,0,166,1],[167,0,167,1],[168,0,168,1],[189,0,189,1],[176,0,176,1],[188,0,188,1],[177,0,177,1],[178,0,178,1],[179,0,179,1],[180,0,180,1],[187,0,187,1],[171,0,171,1],[172,0,172,1],[173,0,173,1],[174,0,174,1],[161,3,161,4],[176,3,176,4],[177,3,177,4],[182,3,182,4],[183,3,183,4],[186,0,186,1],[187,3,187,4],[188,3,188,4],[151,3,151,4],[152,3,152,4],[153,3,153,4],[154,3,154,4],[155,3,155,4],[156,3,156,4],[157,3,157,4],[158,3,158,4],[159,3,159,4],[169,0,169,1],[182,0,182,1],[162,3,162,4],[163,3,163,4],[164,3,164,4],[165,3,165,4],[163,0,163,1],[237,0,237,3],[189,3,189,4],[178,3,178,4],[179,3,179,4],[180,3,180,4],[181,3,181,4],[138,3,138,4],[139,3,139,4],[140,3,140,4],[141,3,141,4],[148,3,148,4],[149,3,149,4],[142,3,142,4],[147,3,147,4],[150,3,150,4],[143,3,143,4],[166,3,166,4],[167,3,167,4],[168,3,168,4],[169,3,169,4],[170,3,170,4],[171,3,171,4],[172,3,172,4],[160,3,160,4],[275,0,275,3],[249,0,249,3],[250,0,250,3],[242,0,242,3],[248,0,248,3],[244,0,244,3],[245,0,245,3],[246,0,246,3],[278,0,278,3],[243,0,243,3],[262,0,271,14],[273,0,274,3],[190,3,190,4],[191,3,191,4],[241,0,241,3],[204,3,204,4],[216,0,225,12],[297,0,297,3],[273,10,273,11],[304,0,304,3],[299,0,299,3],[227,6,227,7],[240,0,240,3],[199,3,199,4],[200,3,200,4],[239,0,239,3],[301,0,301,3],[201,0,201,1],[247,0,247,3],[202,3,202,4],[203,3,203,4],[277,0,277,3],[254,0,254,3],[280,0,280,3],[281,0,281,3],[276,0,276,3],[198,0,198,1],[207,8,207,10],[208,8,208,10],[227,8,227,9],[282,0,282,3],[287,0,287,3],[290,0,290,3],[273,8,273,9],[193,3,193,4],[194,3,194,4],[197,0,197,1],[198,3,198,4],[196,3,196,4],[195,3,195,4],[199,0,199,1],[200,0,200,1],[289,0,289,3],[273,4,274,4],[230,0,230,3],[234,0,234,3],[235,0,235,3],[231,0,231,3],[232,0,232,3],[233,0,233,3],[3,10,3,11],[3,14,3,15],[3,12,3,13],[7,7,7,9],[22,6,22,8],[38,14,38,16],[34,14,34,16],[3,16,3,17],[3,7,4,9],[5,7,5,9],[6,7,6,9],[9,7,9,9],[10,7,10,9],[13,7,13,9],[14,7,14,9],[16,7,16,9],[32,17,32,19],[32,14,33,16],[35,14,35,16],[11,7,11,9],[12,7,12,9],[36,14,36,16],[37,14,37,16],[369,1,369,2],[359,0,359,2],[273,5,274,5],[341,0,341,4],[345,5,345,6],[349,0,349,2],[360,0,360,2],[350,0,350,2],[368,1,368,2],[273,6,273,7],[309,4,309,5],[294,0,294,3],[332,0,333,4],[300,0,300,3],[314,4,314,5],[291,0,291,3],[296,0,296,3],[279,0,279,3],[362,1,362,2],[334,0,334,4],[309,0,315,3],[302,0,302,3],[293,0,293,3],[284,0,284,3],[0,1,0,5],[332,7,332,8],[332,14,332,16],[204,0,204,1],[236,0,236,3],[331,13,331,14],[202,0,202,1],[92,0,92,2],[32,13,33,13],[96,14,96,15],[96,0,96,5],[96,6,96,7],[89,0,89,2],[203,0,203,1],[34,13,36,13],[227,0,228,3],[21,13,21,16],[90,0,90,2],[39,14,39,16],[185,3,185,4],[184,3,184,4],[173,3,173,4],[174,3,174,4],[175,3,175,4],[227,13,227,15],[201,3,201,4],[37,13,39,13],[227,4,227,5],[238,0,238,3],[366,0,366,2],[340,0,340,4],[311,4,311,5],[337,0,337,4],[338,0,338,4],[186,3,186,4],[253,0,253,3],[190,0,190,1],[195,0,195,1],[196,0,196,1],[193,0,193,1],[194,0,194,1],[197,3,197,4],[192,3,192,4],[229,0,229,3],[252,0,252,3],[255,0,255,3],[251,0,251,3],[91,0,91,2]]}
["Titular:",{"$f":"IF(#REF!=\"\",\"\",#REF!)","v":{"$error":"#REF!"}},null,null,null,null,null,null,null,null,null,null,null,null,null,null,"Versión:","V2",2024]
["Número de expediente",null,null,"0011-1411-2024-000",null,null,null,"CUMPLE TODOS LOS  REQUISITOS:",null,null,{"$f":"IF(AND(D4=$V$3,R22=$V$3,OR(D8=$V$3,D8=$V$5)),$V$3,$V$4)","v":{"$error":"#REF!"}},"PUNTUACIÓN:",null,{"$f":"PUNTOS!D27","v":{"$error":"#REF!"}},null,null,null,null,null,null,null,"VARIOS",null,"Renuncia al pago a cuenta"]
["Fecha de solicitud",null,null,{"$f":"G28","v":""},null,null,null,{"$f":"PUNTOS!B29","v":"EL PROYECTO NO SUPERA ALGUNO DE LOS APARTADOS a), b), c) o d)"},null,null,null,null,null,null,null,null,null,null,null,null,null,"SÍ",null,"Renuncio al primer pago a cuenta"]
["CUMPLE efecto incentivador (Art. 5)",null,null,{"$f":"IF(G27>D3,V3,V4)","v":{"$error":"#REF!"}},null,null,null,"PRESUPUESTO TOTAL DEL PROYECTO (€) ",null,null,"Periodo 1",null,"Periodo 2",null,"Periodo 3",null,"Total ",null,null,null,null,"NO",null,"No renuncio al primer pago a cuenta"]
[null,null,null,{"$f":"IFERROR(IF(D4=V4,\"Ver fecha inicio del proyecto en G30\",\"\"),\"\")","v":""},null,null,null,null,null,null,"Solicitado","Aceptado","Solicitado","Aceptado","Solicitado","Aceptado","Solicitado","Aceptado",null,null,null,"No procede",null,"A criterio de la administración"]
["Tamaño empresa aceptado",null,null,{"$f":"G39","v":{"$error":"#REF!"}},null,null,null,"AMORTIZACIONES ACTIVOS ",null,null,{"$f":"D348","v":{"$error":"#REF!"}},{"$f":"IF($D$12=$V$28,0,E348)","v":{"$error":"#REF!"}},{"$error":"#REF!"},{"$f":"IF($D$12=$V$28,0,G348)","v":{"$error":"#REF!"}},{"$f":"H348","v":{"$error":"#REF!"}},{"$f":"IF($D$12=$V$28,0,I348)","v":{"$error":"#REF!"}},{"$f":"J348","v":{"$error":"#REF!"}},{"$f":"IF($D$12=$V$28,0,K348)","v":{"$error":"#REF!"}},null,null,null,"Requerir tras concesión"]
["Tipo de proyecto",null,null,{"$f":"G40","v":{"$error":"#REF!"}},null,null,null,"PERSONAL ",null,null,{"$error":"#REF!"},{"$f":"IF($D$12=$V$28,0,E349)","v":{"$error":"#REF!"}},{"$error":"#REF!"},{"$f":"IF($D$12=$V$28,0,G349)","v":{"$error":"#REF!"}},{"$error":"#REF!"},{"$f":"IF($D$12=$V$28,0,I349)","v":{"$error":"#REF!"}},{"$error":"#REF!"},{"$f":"IF($D$12=$V$28,0,K349)","v":{"$error":"#REF!"}},null,null,null,null,null,null,null,"CDTI"]
["CUMPLE  % Transferencia / Colabor.",null,null,null,null,null,null,"Personal dedicado en exclusiva a I+D",null,null,{"$error":"#REF!"},0,{"$error":"#REF!"},0,{"$error":"#REF!"},0,{"$error":"#REF!"},0,null,null,null,"Tamaño de empresa",null,"% CDTI",null,"Concedido"]
["Es el coordinador",null,null,{"$f":"PUNTOS!G43","v":{"$error":"#REF!"}},null,null,null,"Otro personal de I+D",null,null,{"$error":"#REF!"},{"$error":"#REF!"},{"$error":"#REF!"},{"$error":"#REF!"},{"$error":"#REF!"},{"$error":"#REF!"},{"$error":"#REF!"},{"$error":"#REF!"},null,null,null,"Agente del SINAI",null,1,null,"Denegado"]
["Código si es Col. o Transf.",null,null,{"$f":"PUNTOS!F43","v":0},null,null,null,"MATERIALES ",null,null,{"$error":"#REF!"},{"$error":"#REF!"},{"$error":"#REF!"},{"$error":"#REF!"},{"$error":"#REF!"},{"$error":"#REF!"},{"$error":"#REF!"},{"$error":"#REF!"},null,null,null,"Grande",6,0.05,null,"No procede"]
["Calificación",null,null,{"$f":"PUNTOS!E46","v":0},null,null,null,"COLABORACIONES EXTERNAS ",null,null,{"$error":"#REF!"},{"$error":"#REF!"},{"$error":"#REF!"},{"$error":"#REF!"},{"$error":"#REF!"},{"$error":"#REF!"},{"$error":"#REF!"},{"$error":"#REF!"},null,null,null,"Mediana",5,0.1,null,"No solicitado"]
["Resultado",null,null,{"$f":"PUNTOS!E47","v":0},null,null,null,"Universidades + CCTT + OPI+ Unidades de I+D+i empresarial",null,null,{"$error":"#REF!"},0,{"$error":"#REF!"},0,{"$error":"#REF!"},0,{"$error":"#REF!"},0,null,null,null,"Pequeña",4,0.15,null,"Pendiente de comprobar"]
["Otras ayudas solicitadas",null,null,{"$f":"G44","v":0},null,null,null,"Otras colaboraciones (empresas)",null,null,{"$error":"#REF!"},0,{"$error":"#REF!"},0,{"$error":"#REF!"},0,{"$error":"#REF!"},0]
["Fecha de concesión/compatible/ %",null,null,{"$f":"G45","v":{"$error":"#N/A"}},null,null,null,"OTROS COSTES",null,null,{"$error":"#REF!"},{"$error":"#REF!"},{"$error":"#REF!"},{"$error":"#REF!"},{"$error":"#REF!"},{"$error":"#REF!"},{"$error":"#REF!"},{"$error":"#REF!"},null,null,null,"Tipo",null,null,null,"Patentes"]
["Ayudas CDTI",null,null,null,null,null,null,"COSTES INDIRECTOS",null,null,{"$error":"#REF!"},{"$error":"#REF!"},{"$error":"#REF!"},{"$error":"#REF!"},{"$error":"#REF!"},{"$error":"#REF!"},{"$error":"#REF!"},{"$error":"#REF!"},null,null,null,"Individual",null,null,null,"Ninguna"]
["Unidad de I+D+i  empresarial individual, se añade % siguiente",null,null,null,null,{"$f":"IF(AND(D7=V15,D6=V11,#REF!=#REF!),0.1,IF(AND(D7=V15,D6=V10,#REF!=#REF!),0.15,0))","v":{"$error":"#REF!"}},null,"INGRESOS DEL PROYECTO",null,null,{"$f":"D358","v":{"$error":"#REF!"}},0,{"$f":"F358","v":{"$error":"#REF!"}},0,{"$f":"H358","v":{"$error":"#REF!"}},0,{"$f":"J358","v":{"$error":"#REF!"}},0,null,null,null,"Colaboración entre empresas",null,null,null,"Patente europea"]
["Evaluador",null,null,null,null,null,null,"TOTAL",null,null,{"$f":"D359","v":{"$error":"#REF!"}},{"$error":"#REF!"},{"$f":"F359","v":{"$error":"#REF!"}},{"$error":"#REF!"},{"$f":"H359","v":{"$error":"#REF!"}},{"$error":"#REF!"},{"$f":"J359","v":{"$error":"#REF!"}},{"$error":"#REF!"},null,null,null,"Transferencia del conocimiento",null,null,null,"Patente nacional"]
["Fecha de evaluación",null,null,null,null,null,null,"IMPORTE SUBVENCIÓN ",null,null,null,{"$f":"IF($D$12=$V$28,0,E367)","v":{"$error":"#REF!"}},null,{"$f":"IF($D$12=$V$28,0,G367)","v":{"$error":"#REF!"}},null,{"$f":"IF($D$12=$V$28,0,I367)","v":{"$error":"#REF!"}},null,{"$f":"IF($D$12=$V$28,0,K367)","v":{"$error":"#REF!"}},null,null,null,null,null,null,null,"Patente en terceros países"]
[null,null,null,null,null,null,null,null,null,null,"AYUDA",null,null,null,null,null,null,{"$f":"IF(OR(D370<1,D363<1),\"Ver celdas D361 y D368\",\"\")","v":""},null,null,null,"Calificación",null,null,null,"Modelo de utilidad"]
[null,null,null,null,null,null,null,"INTENSIDAD MÁXIMA:",null,{"$f":"IF(OR(D11=V20,D11=V23),0,IF(D6=V9,1,IF(D11=V21,VLOOKUP(D7,O35:T37,VLOOKUP(D6,V10:W12,2,FALSE),FALSE),IF(D11=V22,VLOOKUP(D7,O38:T40,VLOOKUP(D6,V10:W12,2,FALSE),FALSE),0))))","v":{"$error":"#REF!"}},2025,{"$f":"L18","v":{"$error":"#REF!"}},2026,{"$f":"N18+P18","v":{"$error":"#REF!"}},null,null,null,{"$f":"IF(OR(D370<1,D363<1),\"Ayuda recortada por máximos. 7.2\",\"\")","v":""},null,null,null,"Sin determinar",null,null,null,"Certificado complementario"]
[null,null,null,null,null,null,null,"INTENSIDAD DE AYUDA:",null,{"$f":"ROUND(IF(PUNTOS!B29=\"EL PROYECTO ESTÁ APROBADO\",IF(D6=V9,1,IF(D15=Z8,MIN(VLOOKUP(D6,V10:X12,3,FALSE),(J20+F16)),(J20+F16))),0),4)","v":0},null,null,null,null,null,null,null,null,null,null,null,"Investigación Industrial"]
["Para cambiar archivo de referencia: Datos/Editar vínculos",null,null,null,null,null,null,null,null,null,null,null,null,"CUMPLE REVISIÓN ADMINISTRATIVA ",null,null,null,{"$f":" IF(AND(R23=V3,R24=V3,R25=V3,OR(R26=V3,R26=V5),OR(R27=V3,R27=V5,R27=V6),OR(R28=V3,R28=V5,R28=V6)),V3,V4)","v":{"$error":"#N/A"}},null,null,null,"Desarrollo Experimental",null,null,null,"Tipo de solicitante. La misma lista en EMPRESA-DATOS GENERALES, debe coincidir"]
["DESDE ARCHIVO DE EXTRA",null,null,{"$f":"VLOOKUP($D$2,[6]Hoja1!$A$2:$AE$1000,1,FALSE)","v":{"$error":"#N/A"}},null,null,"EXCEL Y VALORACIÓN",null,null,null,null,null,null,"Formulario con datos del proyecto y de la empresa",null,null,null,null,null,null,null,"No es I+D+i",null,null,null,"Empresa"]
["Titular principal",null,null,{"$f":"VLOOKUP($D$2,[6]Hoja1!$A$2:$AE$1000,3,FALSE)","v":{"$error":"#N/A"}},null,null,{"$f":"#REF!","v":{"$error":"#REF!"}},null,null,"Verificar que coinciden extra y formulario",null,null,null,"Memoria técnica descriptiva del proyecto",null,null,null,null,null,null,null,null,null,null,null,"Universidad"]
["CIF",null,null,{"$f":"VLOOKUP($D$2,[6]Hoja1!$A$2:$AE$1000,2,FALSE)","v":{"$error":"#N/A"}},null,null,{"$f":"#REF!","v":{"$error":"#REF!"}},null,null,"Verificar que coinciden extra y formulario",null,null,null,"Formulario con la dedicación del personal (Subs)",null,null,null,null,null,null,null,"Resultado",null,null,null,"Centro de Investigación"]
["TituloProyecto",null,null,{"$f":"VLOOKUP($D$2,[6]Hoja1!$A$2:$AE$1000,6,FALSE)","v":{"$error":"#N/A"}},null,null,{"$f":"#REF!","v":{"$error":"#REF!"}},null,null,null,null,null,null,"Cuentas 3 últimos ejercicios.PYME (SUBSANABLE)",null,null,null,null,null,null,null,"SIN DETERMINAR",null,null,null,"Instituto de Investigación Sanitaria"]
["FechaComienzoProyecto",null,null,{"$f":"VLOOKUP($D$2,[6]Hoja1!$A$2:$AE$1000,8,FALSE)","v":{"$error":"#N/A"}},null,null,{"$f":"#REF!","v":{"$error":"#REF!"}},null,null,"Verificar que coinciden extra y formulario",null,null,null,"Acuerdo (SUBSANABLE)- Individual no procede",null,null,null,null,null,null,null,"Aprobado",null,null,null,"Centro tecnológico"]
["FX_ENTRADA_REGISTRA",null,null,{"$f":"VLOOKUP($D$2,[6]Hoja1!$A$2:$AE$1000,4,FALSE)","v":{"$error":"#N/A"}},null,null,{"$f":"IFERROR(MID(D28,1,10)+1-1,\"\")","v":""},null,null,null,null,null,null,"Certificado auditor Morosisdad (SUBSANABLE) *",null,null,null,{"$f":"IF(OR(G42=$V$3,G42=$V$5),V3,\"\")","v":{"$error":"#N/A"}},"Verificar antes G42",null,null,"Desestimado",null,null,null,"Unidad de I+D+i empresarial"]
["FechaFinProyecto",null,null,{"$f":"VLOOKUP($D$2,[6]Hoja1!$A$2:$AE$1000,9,FALSE)","v":{"$error":"#N/A"}},null,null,{"$f":"#REF!","v":{"$error":"#REF!"}},null,null,"Verificar que coinciden extra y formulario",null,null,null,null,null,null,null,null,null,null,null,null,null,null,null,"Entidad singular"]
["Ha recibido ayudas en la convocatoria",null,null,{"$f":"VLOOKUP($D$2,[6]Hoja1!$A$2:$AE$1000,27,FALSE)","v":{"$error":"#N/A"}},null,null,null,null,null,"Verificar y valorar en hoja PUNTOS",null,null,null,null,null,null,null,null,null,null,null,"Prioridades temáticas de la S4: ",null,null,null,"Coordinador de agentes de ejecución"]
["Prioridad temática",null,null,{"$f":"VLOOKUP($D$2,[6]Hoja1!$A$2:$AE$1000,28,FALSE)","v":{"$error":"#N/A"}},null,null,null,null,null,"Verificar y valorar en hoja PUNTOS",null,null,null,null,null,null,null,null,null,null,null,"Ninguna"]
["Transición",null,null,{"$f":"VLOOKUP($D$2,[6]Hoja1!$A$2:$AE$1000,29,FALSE)","v":{"$error":"#N/A"}},null,null,null,null,null,"Verificar y valorar en hoja PUNTOS",null,null,null,"Intensidad máxima para empresas",null,null,null,null,null,null,null,"Movilidad eléctrica y conectada."]
["Participación Navarra Zircular",null,null,{"$f":"VLOOKUP($D$2,[6]Hoja1!$A$2:$AE$1000,11,FALSE)","v":{"$error":"#N/A"}},null,null,null,null,null,"Verificar y valorar en hoja PUNTOS",null,null,null,"Calificación","TIPO",null,null,"TAMAÑO",null,null,null,"Alimentación saludable y sostenible."]
["Diagnóstico Navarra Zircular",null,null,{"$f":"VLOOKUP($D$2,[6]Hoja1!$A$2:$AE$1000,12,FALSE)","v":{"$error":"#N/A"}},null,null,null,null,null,"Verificar y valorar en hoja PUNTOS",null,null,null,null,null,null,null,"PEQUEÑA","MEDIANA","GRANDE",null,"Industria de la energía verde."]
["Medidas reducción mat primas",null,null,{"$f":"VLOOKUP($D$2,[6]Hoja1!$A$2:$AE$1000,13,FALSE)","v":{"$error":"#N/A"}},null,null,null,null,null,"Verificar y valorar en hoja PUNTOS",null,null,null,"Investigación Industrial","Individual",null,null,0.7,0.5,0.35,null,"Medicina personalizada."]
["Medidas aumento tiempo recursos",null,null,{"$f":"VLOOKUP($D$2,[6]Hoja1!$A$2:$AE$1000,14,FALSE)","v":{"$error":"#N/A"}},null,null,null,null,null,"Verificar y valorar en hoja PUNTOS",null,null,null,null,"Colaboración entre empresas",null,null,0.8,0.65,0.5,null,"Turismo sostenible."]
["Medidas gestión residuos",null,null,{"$f":"VLOOKUP($D$2,[6]Hoja1!$A$2:$AE$1000,15,FALSE)","v":{"$error":"#N/A"}},null,null,null,null,null,"Verificar y valorar en hoja PUNTOS",null,null,null,null,"Transferencia del conocimiento",null,null,0.8,0.65,0.5,null,"Industria audiovisual."]
["TipoSolicitante",null,null,{"$f":"VLOOKUP($D$2,[6]Hoja1!$A$2:$AE$1000,16,FALSE)","v":{"$error":"#N/A"}},null,null,{"$f":"#REF!","v":{"$error":"#REF!"}},null,null,"Verificar que coinciden extra y formulario",null,null,null,"Desarrollo experimental","Individual",null,null,0.45,0.25,0.1]
["TamanoEmpresa",null,null,{"$f":"VLOOKUP($D$2,[6]Hoja1!$A$2:$AE$1000,17,FALSE)","v":{"$error":"#N/A"}},null,null,{"$f":"#REF!","v":{"$error":"#REF!"}},null,null,"Verificar extra, formulario y aceptar tamaño",null,null,null,null,"Colaboración entre empresas",null,null,0.6,0.4,0.25,null,"Transiciones de la S4:"]
["TipoProyecto",null,null,{"$f":"VLOOKUP($D$2,[6]Hoja1!$A$2:$AE$1000,18,FALSE)","v":{"$error":"#N/A"}},null,null,{"$f":"#REF!","v":{"$error":"#REF!"}},null,null,"Verificar que coinciden extra y formulario",null,null,null,null,"Transferencia del conocimiento",null,null,0.6,0.4,0.25,null,"Ninguna"]
["Es socio o coordinador",null,null,{"$f":"VLOOKUP($D$2,[6]Hoja1!$A$2:$AE$1000,30,FALSE)","v":{"$error":"#N/A"}},null,null,{"$f":"#REF!","v":{"$error":"#REF!"}},null,null,"Verificar. Dejar Coordinador, o el núm del coordinador",null,null,null,null,null,null,null,null,null,null,null,"Transición ecológica."]
["Morosidad, puede presentar abrev.",null,null,{"$f":"VLOOKUP($D$2,[6]Hoja1!$A$2:$AE$1000,31,FALSE)","v":{"$error":"#N/A"}},null,null,{"$f":"D42","v":{"$error":"#N/A"}},null,null,"Verificar si no procede. <30.000 € de ayuda y agentes SINAI",null,null,null,null,null,null,null,null,null,null,null,"Transición digital."]
["Patentes",null,null,{"$f":"VLOOKUP($D$2,[6]Hoja1!$A$2:$AE$1000,22,FALSE)","v":{"$error":"#N/A"}},null,null,null,null,null,"Verificar con la memoria"]
["OtrasAyudas",null,null,{"$f":"VLOOKUP($D$2,[6]Hoja1!$A$2:$AE$1000,23,FALSE)","v":{"$error":"#N/A"}},null,null,null,null,null,"Verificar y poner SI o NO"]
["FechaOtraAyuda",null,null,{"$f":"VLOOKUP($D$2,[6]Hoja1!$A$2:$AE$1000,24,FALSE)","v":{"$error":"#N/A"}},null,null,{"$f":"D45","v":{"$error":"#N/A"}},null,null,"Verificar que coinciden extra y formulario",null,null,null,"Patentes",null,"ptos"]
["OrganismoOtraAyuda",null,null,{"$f":"VLOOKUP($D$2,[6]Hoja1!$A$2:$AE$1000,25,FALSE)","v":{"$error":"#N/A"}},null,null,{"$f":"#REF!","v":{"$error":"#REF!"}},null,null,null,null,null,null,"Ninguna",null,0]
["InscritoRegistroIndustrial",null,null,{"$f":"VLOOKUP($D$2,[6]Hoja1!$A$2:$AE$1000,19,FALSE)","v":{"$error":"#N/A"}},null,null,{"$f":"#REF!","v":{"$error":"#REF!"}},null,null,null,null,null,null,"Patente europea",null,2]
["MotivoRegistroIndustrial",null,null,{"$f":"VLOOKUP($D$2,[6]Hoja1!$A$2:$AE$1000,20,FALSE)","v":{"$error":"#N/A"}},null,null,null,null,null,null,null,null,null,"Patente nacional",null,2]
["Correo electrónico de contacto",null,null,{"$f":"VLOOKUP($D$2,[6]Hoja1!$A$2:$AE$1000,10,FALSE)","v":{"$error":"#N/A"}},null,null,{"$f":"#REF!","v":{"$error":"#REF!"}},null,null,null,null,null,null,"Patente en terceros países",null,2]
["PresupuestoPresentado",null,null,{"$f":"VLOOKUP($D$2,[6]Hoja1!$A$2:$AE$1000,7,FALSE)","v":{"$error":"#N/A"}},null,null,{"$f":"#REF!","v":{"$error":"#REF!"}},null,null,null,null,null,null,"Modelo de utilidad",null,1]
["Autoriza consulta de datos",null,null,{"$f":"VLOOKUP($D$2,[6]Hoja1!$A$2:$AE$1000,21,FALSE)","v":{"$error":"#N/A"}},null,null,null,null,null,null,null,null,null,"Certificado complementario",null,1]
["Tipo de solicitud",null,null,{"$f":"VLOOKUP($D$2,[6]Hoja1!$A$2:$AE$1000,26,FALSE)","v":{"$error":"#N/A"}},null,null,null,null,null,null,null,null,null,"Patentes y publicaciones",null,{"$f":"IFERROR(VLOOKUP(G43,$N$46:$P$51,3,FALSE),0)","v":0}]
["Sustituye a a num justificante",null,null,{"$f":"VLOOKUP($D$2,[6]Hoja1!$A$2:$AE$1000,5,FALSE)","v":{"$error":"#N/A"}}]
[]
[null,"VALORACIÓN DE ACTIVOS"]
["Resaltar las casillas modificadas en amarillo. Tiene formato condicional"]
["Para salto de línea dentro de la misma celda Alt+Intro. No usar el punto y coma."]
[null,null,null,null,null,"JUSTIFICACIÓN DE LAS REDUCCIONES"]
[]
[]
[]
[]
[]
[]
[]
[]
[]
[]
[]
["Denominación equipo",null,null,"Importe de adquisición","Fecha inicio amortización","Cuota anual amortización","Periodo 1",null,null,null,"Periodo 2",null,null,null,"Periodo 3",null,null,null,"TOTAL"]
[null,null,null,null,null,null,"% Dedicación"," Meses Imputables","Importe\nSolicitado","Importe Aceptado","% Dedicación"," Meses Imputables","Importe\nSolicitado","Importe Aceptado","% Dedicación"," Meses Imputables","Importe\nSolicitado","Importe Aceptado","Importe Solicitado","Importe Aceptado","OBSERVACIONES INTERNAS"]
[{"$f":"#REF!","v":{"$error":"#REF!"}},null,null,{"$f":"#REF!","v":{"$error":"#REF!"}},{"$f":"#REF!","v":{"$error":"#REF!"}},{"$f":"#REF!","v":{"$error":"#REF!"}},{"$f":"#REF!","v":{"$error":"#REF!"}},{"$f":"#REF!","v":{"$error":"#REF!"}},{"$f":"#REF!","v":{"$error":"#REF!"}},{"$f":"ROUND($F72*G72*H72/12,2)","v":{"$error":"#REF!"}},{"$f":"#REF!","v":{"$error":"#REF!"}},{"$f":"#REF!","v":{"$error":"#REF!"}},{"$f":"#REF!","v":{"$error":"#REF!"}},{"$f":"ROUND($F72*K72*L72/12,2)","v":{"$error":"#REF!"}},{"$f":"#REF!","v":{"$error":"#REF!"}},{"$f":"#REF!","v":{"$error":"#REF!"}},{"$f":"#REF!","v":{"$error":"#REF!"}},{"$f":"ROUND($F72*O72*P72/12,2)","v":{"$error":"#REF!"}},{"$f":"#REF!","v":{"$error":"#REF!"}},{"$f":"J72+N72+R72","v":{"$error":"#REF!"}}]
[{"$f":"#REF!","v":{"$error":"#REF!"}},null,null,{"$f":"#REF!","v":{"$error":"#REF!"}},{"$f":"#REF!","v":{"$error":"#REF!"}},{"$f":"#REF!","v":{"$error":"#REF!"}},{"$f":"#REF!","v":{"$error":"#REF!"}},{"$f":"#REF!","v":{"$error":"#REF!"}},{"$f":"#REF!","v":{"$error":"#REF!"}},{"$f":"ROUND($F73*G73*H73/12,2)","v":{"$error":"#REF!"}},{"$f":"#REF!","v":{"$error":"#REF!"}},{"$f":"#REF!","v":{"$error":"#REF!"}},{"$f":"#REF!","v":{"$error":"#REF!"}},{"$f":"ROUND($F73*K73*L73/12,2)","v":{"$error":"#REF!"}},{"$f":"#REF!","v":{"$error":"#REF!"}},{"$f":"#REF!","v":{"$error":"#REF!"}},{"$f":"#REF!","v":{"$error":"#REF!"}},{"$f":"ROUND($F73*O73*P73/12,2)","v":{"$error":"#REF!"}},{"$f":"#REF!","v":{"$error":"#REF!"}},{"$f":"J73+N73+R73","v":{"$error":"#REF!"}}]
[{"$f":"#REF!","v":{"$error":"#REF!"}},null,null,{"$f":"#REF!","v":{"$error":"#REF!"}},{"$f":"#REF!","v":{"$error":"#REF!"}},{"$f":"#REF!","v":{"$error":"#REF!"}},{"$f":"#REF!","v":{"$error":"#REF!"}},{"$f":"#REF!","v":{"$error":"#REF!"}},{"$f":"#REF!","v":{"$error":"#REF!"}},{"$error":"#REF!"},{"$f":"#REF!","v":{"$error":"#REF!"}},{"$f":"#REF!","v":{"$error":"#REF!"}},{"$f":"#REF!","v":{"$error":"#REF!"}},{"$error":"#REF!"},{"$f":"#REF!","v":{"$error":"#REF!"}},{"$f":"#REF!","v":{"$error":"#REF!"}},{"$f":"#REF!","v":{"$error":"#REF!"}},{"$error":"#REF!"},{"$f":"#REF!","v":{"$error":"#REF!"}},{"$error":"#REF!"}]
[{"$f":"#REF!","v":{"$error":"#REF!"}},null,null,{"$f":"#REF!","v":{"$error":"#REF!"}},{"$f":"#REF!","v":{"$error":"#REF!"}},{"$f":"#REF!","v":{"$error":"#REF!"}},{"$f":"#REF!","v":{"$error":"#REF!"}},{"$f":"#REF!","v":{"$error":"#REF!"}},{"$f":"#REF!","v":{"$error":"#REF!"}},{"$error":"#REF!"},{"$f":"#REF!","v":{"$error":"#REF!"}},{"$f":"#REF!","v":{"$error":"#REF!"}},{"$f":"#REF!","v":{"$error":"#REF!"}},{"$error":"#REF!"},{"$f":"#REF!","v":{"$error":"#REF!"}},{"$f":"#REF!","v":{"$error":"#REF!"}},{"$f":"#REF!","v":{"$error":"#REF!"}},{"$error":"#REF!"},{"$f":"#REF!","v":{"$error":"#REF!"}},{"$error":"#REF!"}]
[{"$f":"#REF!","v":{"$error":"#REF!"}},null,null,{"$f":"#REF!","v":{"$error":"#REF!"}},{"$f":"#REF!","v":{"$error":"#REF!"}},{"$f":"#REF!","v":{"$error":"#REF!"}},{"$f":"#REF!","v":{"$error":"#REF!"}},{"$f":"#REF!","v":{"$error":"#REF!"}},{"$f":"#REF!","v":{"$error":"#REF!"}},{"$error":"#REF!"},{"$f":"#REF!","v":{"$error":"#REF!"}},{"$f":"#REF!","v":{"$error":"#REF!"}},{"$f":"#REF!","v":{"$error":"#REF!"}},{"$error":"#REF!"},{"$f":"#REF!","v":{"$error":"#REF!"}},{"$f":"#REF!","v":{"$error":"#REF!"}},{"$f":"#REF!","v":{"$error":"#REF!"}},{"$error":"#REF!"},{"$f":"#REF!","v":{"$error":"#REF!"}},{"$error":"#REF!"}]
[{"$f":"#REF!","v":{"$error":"#REF!"}},null,null,{"$f":"#REF!","v":{"$error":"#REF!"}},{"$f":"#REF!","v":{"$error":"#REF!"}},{"$f":"#REF!","v":{"$error":"#REF!"}},{"$f":"#REF!","v":{"$error":"#REF!"}},{"$f":"#REF!","v":{"$error":"#REF!"}},{"$f":"#REF!","v":{"$error":"#REF!"}},{"$error":"#REF!"},{"$f":"#REF!","v":{"$error":"#REF!"}},{"$f":"#REF!","v":{"$error":"#REF!"}},{"$f":"#REF!","v":{"$error":"#REF!"}},{"$error":"#REF!"},{"$f":"#REF!","v":{"$error":"#REF!"}},{"$f":"#REF!","v":{"$error":"#REF!"}},{"$f":"#REF!","v":{"$error":"#REF!"}},{"$error":"#REF!"},{"$f":"#REF!","v":{"$error":"#REF!"}},{"$error":"#REF!"}]
[{"$f":"#REF!","v":{"$error":"#REF!"}},null,null,{"$f":"#REF!","v":{"$error":"#REF!"}},{"$f":"#REF!","v":{"$error":"#REF!"}},{"$f":"#REF!","v":{"$error":"#REF!"}},{"$f":"#REF!","v":{"$error":"#REF!"}},{"$f":"#REF!","v":{"$error":"#REF!"}},{"$f":"#REF!","v":{"$error":"#REF!"}},{"$error":"#REF!"},{"$f":"#REF!","v":{"$error":"#REF!"}},{"$f":"#REF!","v":{"$error":"#REF!"}},{"$f":"#REF!","v":{"$error":"#REF!"}},{"$error":"#REF!"},{"$f":"#REF!","v":{"$error":"#REF!"}},{"$f":"#REF!","v":{"$error":"#REF!"}},{"$f":"#REF!","v":{"$error":"#REF!"}},{"$f":"ROUND($F78*O78*P78/12,2)","v":{"$error":"#REF!"}},{"$f":"#REF!","v":{"$error":"#REF!"}},{"$error":"#REF!"}]
[{"$f":"#REF!","v":{"$error":"#REF!"}},null,null,{"$f":"#REF!","v":{"$error":"#REF!"}},{"$f":"#REF!","v":{"$error":"#REF!"}},{"$f":"#REF!","v":{"$error":"#REF!"}},{"$f":"#REF!","v":{"$error":"#REF!"}},{"$f":"#REF!","v":{"$error":"#REF!"}},{"$f":"#REF!","v":{"$error":"#REF!"}},{"$error":"#REF!"},{"$f":"#REF!","v":{"$error":"#REF!"}},{"$f":"#REF!","v":{"$error":"#REF!"}},{"$f":"#REF!","v":{"$error":"#REF!"}},{"$error":"#REF!"},{"$f":"#REF!","v":{"$error":"#REF!"}},{"$f":"#REF!","v":{"$error":"#REF!"}},{"$f":"#REF!","v":{"$error":"#REF!"}},{"$error":"#REF!"},{"$f":"#REF!","v":{"$error":"#REF!"}},{"$error":"#REF!"}]
[{"$f":"#REF!","v":{"$error":"#REF!"}},null,null,{"$f":"#REF!","v":{"$error":"#REF!"}},{"$f":"#REF!","v":{"$error":"#REF!"}},{"$f":"#REF!","v":{"$error":"#REF!"}},{"$f":"#REF!","v":{"$error":"#REF!"}},{"$f":"#REF!","v":{"$error":"#REF!"}},{"$f":"#REF!","v":{"$error":"#REF!"}},{"$error":"#REF!"},{"$f":"#REF!","v":{"$error":"#REF!"}},{"$f":"#REF!","v":{"$error":"#REF!"}},{"$f":"#REF!","v":{"$error":"#REF!"}},{"$error":"#REF!"},{"$f":"#REF!","v":{"$error":"#REF!"}},{"$f":"#REF!","v":{"$error":"#REF!"}},{"$f":"#REF!","v":{"$error":"#REF!"}},{"$error":"#REF!"},{"$f":"#REF!","v":{"$error":"#REF!"}},{"$error":"#REF!"}]
[{"$f":"#REF!","v":{"$error":"#REF!"}},null,null,{"$f":"#REF!","v":{"$error":"#REF!"}},{"$f":"#REF!","v":{"$error":"#REF!"}},{"$f":"#REF!","v":{"$error":"#REF!"}},{"$f":"#REF!","v":{"$error":"#REF!"}},{"$f":"#REF!","v":{"$error":"#REF!"}},{"$f":"#REF!","v":{"$error":"#REF!"}},{"$error":"#REF!"},{"$f":"#REF!","v":{"$error":"#REF!"}},{"$f":"#REF!","v":{"$error":"#REF!"}},{"$f":"#REF!","v":{"$error":"#REF!"}},{"$error":"#REF!"},{"$f":"#REF!","v":{"$error":"#REF!"}},{"$f":"#REF!","v":{"$error":"#REF!"}},{"$f":"#REF!","v":{"$error":"#REF!"}},{"$error":"#REF!"},{"$f":"#REF!","v":{"$error":"#REF!"}},{"$error":"#REF!"}]
[{"$f":"#REF!","v":{"$error":"#REF!"}},null,null,{"$f":"#REF!","v":{"$error":"#REF!"}},{"$f":"#REF!","v":{"$error":"#REF!"}},{"$f":"#REF!","v":{"$error":"#REF!"}},{"$f":"#REF!","v":{"$error":"#REF!"}},{"$f":"#REF!","v":{"$error":"#REF!"}},{"$f":"#REF!","v":{"$error":"#REF!"}},{"$error":"#REF!"},{"$f":"#REF!","v":{"$error":"#REF!"}},{"$f":"#REF!","v":{"$error":"#REF!"}},{"$f":"#REF!","v":{"$error":"#REF!"}},{"$error":"#REF!"},{"$f":"#REF!","v":{"$error":"#REF!"}},{"$f":"#REF!","v":{"$error":"#REF!"}},{"$f":"#REF!","v":{"$error":"#REF!"}},{"$error":"#REF!"},{"$f":"#REF!","v":{"$error":"#REF!"}},{"$error":"#REF!"}]
[{"$f":"#REF!","v":{"$error":"#REF!"}},null,null,{"$f":"#REF!","v":{"$error":"#REF!"}},{"$f":"#REF!","v":{"$error":"#REF!"}},{"$f":"#REF!","v":{"$error":"#REF!"}},{"$f":"#REF!","v":{"$error":"#REF!"}},{"$f":"#REF!","v":{"$error":"#REF!"}},{"$f":"#REF!","v":{"$error":"#REF!"}},{"$error":"#REF!"},{"$f":"#REF!","v":{"$error":"#REF!"}},{"$f":"#REF!","v":{"$error":"#REF!"}},{"$f":"#REF!","v":{"$error":"#REF!"}},{"$error":"#REF!"},{"$f":"#REF!","v":{"$error":"#REF!"}},{"$f":"#REF!","v":{"$error":"#REF!"}},{"$f":"#REF!","v":{"$error":"#REF!"}},{"$error":"#REF!"},{"$f":"#REF!","v":{"$error":"#REF!"}},{"$error":"#REF!"}]
[{"$f":"#REF!","v":{"$error":"#REF!"}},null,null,{"$f":"#REF!","v":{"$error":"#REF!"}},{"$f":"#REF!","v":{"$error":"#REF!"}},{"$f":"#REF!","v":{"$error":"#REF!"}},{"$f":"#REF!","v":{"$error":"#REF!"}},{"$f":"#REF!","v":{"$error":"#REF!"}},{"$f":"#REF!","v":{"$error":"#REF!"}},{"$error":"#REF!"},{"$f":"#REF!","v":{"$error":"#REF!"}},{"$f":"#REF!","v":{"$error":"#REF!"}},{"$f":"#REF!","v":{"$error":"#REF!"}},{"$error":"#REF!"},{"$f":"#REF!","v":{"$error":"#REF!"}},{"$f":"#REF!","v":{"$error":"#REF!"}},{"$f":"#REF!","v":{"$error":"#REF!"}},{"$error":"#REF!"},{"$f":"#REF!","v":{"$error":"#REF!"}},{"$error":"#REF!"}]
[{"$f":"#REF!","v":{"$error":"#REF!"}},null,null,{"$f":"#REF!","v":{"$error":"#REF!"}},{"$f":"#REF!","v":{"$error":"#REF!"}},{"$f":"#REF!","v":{"$error":"#REF!"}},{"$f":"#REF!","v":{"$error":"#REF!"}},{"$f":"#REF!","v":{"$error":"#REF!"}},{"$f":"#REF!","v":{"$error":"#REF!"}},{"$error":"#REF!"},{"$f":"#REF!","v":{"$error":"#REF!"}},{"$f":"#REF!","v":{"$error":"#REF!"}},{"$f":"#REF!","v":{"$error":"#REF!"}},{"$error":"#REF!"},{"$f":"#REF!","v":{"$error":"#REF!"}},{"$f":"#REF!","v":{"$error":"#REF!"}},{"$f":"#REF!","v":{"$error":"#REF!"}},{"$error":"#REF!"},{"$f":"#REF!","v":{"$error":"#REF!"}},{"$error":"#REF!"}]
[{"$f":"#REF!","v":{"$error":"#REF!"}},null,null,{"$f":"#REF!","v":{"$error":"#REF!"}},{"$f":"#REF!","v":{"$error":"#REF!"}},{"$f":"#REF!","v":{"$error":"#REF!"}},{"$f":"#REF!","v":{"$error":"#REF!"}},{"$f":"#REF!","v":{"$error":"#REF!"}},{"$f":"#REF!","v":{"$error":"#REF!"}},{"$error":"#REF!"},{"$f":"#REF!","v":{"$error":"#REF!"}},{"$f":"#REF!","v":{"$error":"#REF!"}},{"$f":"#REF!","v":{"$error":"#REF!"}},{"$f":"ROUND($F86*K86*L86/12,2)","v":{"$error":"#REF!"}},{"$f":"#REF!","v":{"$error":"#REF!"}},{"$f":"#REF!","v":{"$error":"#REF!"}},{"$f":"#REF!","v":{"$error":"#REF!"}},{"$error":"#REF!"},{"$f":"#REF!","v":{"$error":"#REF!"}},{"$error":"#REF!"}]
[{"$f":"#REF!","v":{"$error":"#REF!"}},null,null,{"$f":"#REF!","v":{"$error":"#REF!"}},{"$f":"#REF!","v":{"$error":"#REF!"}},{"$f":"#REF!","v":{"$error":"#REF!"}},{"$f":"#REF!","v":{"$error":"#REF!"}},{"$f":"#REF!","v":{"$error":"#REF!"}},{"$f":"#REF!","v":{"$error":"#REF!"}},{"$error":"#REF!"},{"$f":"#REF!","v":{"$error":"#REF!"}},{"$f":"#REF!","v":{"$error":"#REF!"}},{"$f":"#REF!","v":{"$error":"#REF!"}},{"$error":"#REF!"},{"$f":"#REF!","v":{"$error":"#REF!"}},{"$f":"#REF!","v":{"$error":"#REF!"}},{"$f":"#REF!","v":{"$error":"#REF!"}},{"$error":"#REF!"},{"$f":"#REF!","v":{"$error":"#REF!"}},{"$error":"#REF!"}]
[{"$f":"#REF!","v":{"$error":"#REF!"}},null,null,{"$f":"#REF!","v":{"$error":"#REF!"}},{"$f":"#REF!","v":{"$error":"#REF!"}},{"$f":"#REF!","v":{"$error":"#REF!"}},{"$f":"#REF!","v":{"$error":"#REF!"}},{"$f":"#REF!","v":{"$error":"#REF!"}},{"$f":"#REF!","v":{"$error":"#REF!"}},{"$error":"#REF!"},{"$f":"#REF!","v":{"$error":"#REF!"}},{"$f":"#REF!","v":{"$error":"#REF!"}},{"$f":"#REF!","v":{"$error":"#REF!"}},{"$error":"#REF!"},{"$f":"#REF!","v":{"$error":"#REF!"}},{"$f":"#REF!","v":{"$error":"#REF!"}},{"$f":"#REF!","v":{"$error":"#REF!"}},{"$error":"#REF!"},{"$f":"#REF!","v":{"$error":"#REF!"}},{"$error":"#REF!"}]
[{"$f":"#REF!","v":{"$error":"#REF!"}},null,null,{"$f":"#REF!","v":{"$error":"#REF!"}},{"$f":"#REF!","v":{"$error":"#REF!"}},{"$f":"#REF!","v":{"$error":"#REF!"}},{"$f":"#REF!","v":{"$error":"#REF!"}},{"$f":"#REF!","v":{"$error":"#REF!"}},{"$f":"#REF!","v":{"$error":"#REF!"}},{"$error":"#REF!"},{"$f":"#REF!","v":{"$error":"#REF!"}},{"$f":"#REF!","v":{"$error":"#REF!"}},{"$f":"#REF!","v":{"$error":"#REF!"}},{"$error":"#REF!"},{"$f":"#REF!","v":{"$error":"#REF!"}},{"$f":"#REF!","v":{"$error":"#REF!"}},{"$f":"#REF!","v":{"$error":"#REF!"}},{"$error":"#REF!"},{"$f":"#REF!","v":{"$error":"#REF!"}},{"$error":"#REF!"}]
[{"$f":"#REF!","v":{"$error":"#REF!"}},null,null,{"$f":"#REF!","v":{"$error":"#REF!"}},{"$f":"#REF!","v":{"$error":"#REF!"}},{"$f":"#REF!","v":{"$error":"#REF!"}},{"$f":"#REF!","v":{"$error":"#REF!"}},{"$f":"#REF!","v":{"$error":"#REF!"}},{"$f":"#REF!","v":{"$error":"#REF!"}},{"$error":"#REF!"},{"$f":"#REF!","v":{"$error":"#REF!"}},{"$f":"#REF!","v":{"$error":"#REF!"}},{"$f":"#REF!","v":{"$error":"#REF!"}},{"$error":"#REF!"},{"$f":"#REF!","v":{"$error":"#REF!"}},{"$f":"#REF!","v":{"$error":"#REF!"}},{"$f":"#REF!","v":{"$error":"#REF!"}},{"$error":"#REF!"},{"$f":"#REF!","v":{"$error":"#REF!"}},{"$error":"#REF!"}]
[{"$f":"#REF!","v":{"$error":"#REF!"}},null,null,{"$f":"#REF!","v":{"$error":"#REF!"}},{"$f":"#REF!","v":{"$error":"#REF!"}},{"$f":"#REF!","v":{"$error":"#REF!"}},{"$f":"#REF!","v":{"$error":"#REF!"}},{"$f":"#REF!","v":{"$error":"#REF!"}},{"$f":"#REF!","v":{"$error":"#REF!"}},{"$error":"#REF!"},{"$f":"#REF!","v":{"$error":"#REF!"}},{"$f":"#REF!","v":{"$error":"#REF!"}},{"$f":"#REF!","v":{"$error":"#REF!"}},{"$error":"#REF!"},{"$f":"#REF!","v":{"$error":"#REF!"}},{"$f":"#REF!","v":{"$error":"#REF!"}},{"$f":"#REF!","v":{"$error":"#REF!"}},{"$error":"#REF!"},{"$f":"#REF!","v":{"$error":"#REF!"}},{"$error":"#REF!"}]
[{"$f":"#REF!","v":{"$error":"#REF!"}},null,null,{"$f":"#REF!","v":{"$error":"#REF!"}},{"$f":"#REF!","v":{"$error":"#REF!"}},{"$f":"#REF!","v":{"$error":"#REF!"}},{"$f":"#REF!","v":{"$error":"#REF!"}},{"$f":"#REF!","v":{"$error":"#REF!"}},{"$f":"#REF!","v":{"$error":"#REF!"}},{"$error":"#REF!"},{"$f":"#REF!","v":{"$error":"#REF!"}},{"$f":"#REF!","v":{"$error":"#REF!"}},{"$f":"#REF!","v":{"$error":"#REF!"}},{"$error":"#REF!"},{"$f":"#REF!","v":{"$error":"#REF!"}},{"$f":"#REF!","v":{"$error":"#REF!"}},{"$f":"#REF!","v":{"$error":"#REF!"}},{"$error":"#REF!"},{"$f":"#REF!","v":{"$error":"#REF!"}},{"$error":"#REF!"}]
[{"$f":"#REF!","v":{"$error":"#REF!"}},null,null,{"$f":"#REF!","v":{"$error":"#REF!"}},{"$f":"#REF!","v":{"$error":"#REF!"}},{"$f":"#REF!","v":{"$error":"#REF!"}},{"$f":"#REF!","v":{"$error":"#REF!"}},{"$f":"#REF!","v":{"$error":"#REF!"}},{"$f":"#REF!","v":{"$error":"#REF!"}},{"$error":"#REF!"},{"$f":"#REF!","v":{"$error":"#REF!"}},{"$f":"#REF!","v":{"$error":"#REF!"}},{"$f":"#REF!","v":{"$error":"#REF!"}},{"$error":"#REF!"},{"$f":"#REF!","v":{"$error":"#REF!"}},{"$f":"#REF!","v":{"$error":"#REF!"}},{"$f":"#REF!","v":{"$error":"#REF!"}},{"$error":"#REF!"},{"$f":"#REF!","v":{"$error":"#REF!"}},{"$error":"#REF!"}]
[{"$f":"#REF!","v":{"$error":"#REF!"}},null,null,{"$f":"#REF!","v":{"$error":"#REF!"}},{"$f":"#REF!","v":{"$error":"#REF!"}},{"$f":"#REF!","v":{"$error":"#REF!"}},{"$f":"#REF!","v":{"$error":"#REF!"}},{"$f":"#REF!","v":{"$error":"#REF!"}},{"$f":"#REF!","v":{"$error":"#REF!"}},{"$error":"#REF!"},{"$f":"#REF!","v":{"$error":"#REF!"}},{"$f":"#REF!","v":{"$error":"#REF!"}},{"$f":"#REF!","v":{"$error":"#REF!"}},{"$error":"#REF!"},{"$f":"#REF!","v":{"$error":"#REF!"}},{"$f":"#REF!","v":{"$error":"#REF!"}},{"$f":"#REF!","v":{"$error":"#REF!"}},{"$error":"#REF!"},{"$f":"#REF!","v":{"$error":"#REF!"}},{"$error":"#REF!"}]
[{"$f":"#REF!","v":{"$error":"#REF!"}},null,null,{"$f":"#REF!","v":{"$error":"#REF!"}},{"$f":"#REF!","v":{"$error":"#REF!"}},{"$f":"#REF!","v":{"$error":"#REF!"}},{"$f":"#REF!","v":{"$error":"#REF!"}},{"$f":"#REF!","v":{"$error":"#REF!"}},{"$f":"#REF!","v":{"$error":"#REF!"}},{"$error":"#REF!"},{"$f":"#REF!","v":{"$error":"#REF!"}},{"$f":"#REF!","v":{"$error":"#REF!"}},{"$f":"#REF!","v":{"$error":"#REF!"}},{"$error":"#REF!"},{"$f":"#REF!","v":{"$error":"#REF!"}},{"$f":"#REF!","v":{"$error":"#REF!"}},{"$f":"#REF!","v":{"$error":"#REF!"}},{"$error":"#REF!"},{"$f":"#REF!","v":{"$error":"#REF!"}},{"$error":"#REF!"}]
[{"$f":"#REF!","v":{"$error":"#REF!"}},null,null,{"$f":"#REF!","v":{"$error":"#REF!"}},{"$f":"#REF!","v":{"$error":"#REF!"}},{"$f":"#REF!","v":{"$error":"#REF!"}},{"$f":"#REF!","v":{"$error":"#REF!"}},{"$f":"#REF!","v":{"$error":"#REF!"}},{"$f":"#REF!","v":{"$error":"#REF!"}},{"$error":"#REF!"},{"$f":"#REF!","v":{"$error":"#REF!"}},{"$f":"#REF!","v":{"$error":"#REF!"}},{"$f":"#REF!","v":{"$error":"#REF!"}},{"$error":"#REF!"},{"$f":"#REF!","v":{"$error":"#REF!"}},{"$f":"#REF!","v":{"$error":"#REF!"}},{"$f":"#REF!","v":{"$error":"#REF!"}},{"$error":"#REF!"},{"$f":"#REF!","v":{"$error":"#REF!"}},{"$error":"#REF!"}]
[{"$f":"#REF!","v":{"$error":"#REF!"}},null,null,null,null,null,null,null,{"$f":"#REF!","v":{"$error":"#REF!"}},{"$f":"SUM(J72:J96)","v":{"$error":"#REF!"}},null,null,{"$f":"#REF!","v":{"$error":"#REF!"}},{"$f":"SUM(N72:N96)","v":{"$error":"#REF!"}},null,null,{"$f":"#REF!","v":{"$error":"#REF!"}},{"$f":"SUM(R72:R96)","v":{"$error":"#REF!"}},{"$f":"#REF!","v":{"$error":"#REF!"}},{"$error":"#REF!"}]
[]
[null,"VALORACIÓN DE PERSONAL"]
[]
["Resaltar las casillas modificadas en amarillo. Tiene formato condicional"]
["Para salto de línea dentro de la misma celda Alt+Intro. No usar el punto y coma.",null,null,null,null,null,null,null,null,"A la derecha se puede establecer el % de aceptación de horas, que minora  consecuentemente también los totales"]
[null,null,null,null,null,"JUSTIFICACIÓN DE LAS REDUCCIONES"]
[]
[]
[]
[]
[]
[]
[]
[]
[]
[]
[]
["Nombre y apellidos",null,"Cargo","Función en el proyecto  (*)",null,"Hombre/Mujer (H/M)","Titulado universitario","Dedicado en exclusiva a I+D (Sí/No)","Coste hora (€/h.) **",null,null,"Horas de dedicación",null,null,null,null,"Presupuesto (€) = Coste hora x nº horas",null,null,"PRESUPUESTO TOTAL",null,null,"INSERTAR % HORAS ACEPTADAS"]
[null,null,null,null,null,null,null,null,"Periodo 1","Periodo 2","Periodo 3","Periodo 1","Periodo 2","Periodo 3","Solicitadas","Aceptadas","Periodo 1","Periodo 2","Periodo 3","Solicitado","Aceptado",null,"Periodo 1","Periodo 2","Periodo 3","OBSERVACIONES INTERNAS"]
[{"$f":"Presupuesto!#REF!","v":{"$error":"#REF!"}},null,{"$f":"Presupuesto!#REF!","v":{"$error":"#REF!"}},{"$f":"Presupuesto!#REF!","v":{"$error":"#REF!"}},null,{"$f":"Presupuesto!#REF!","v":{"$error":"#REF!"}},{"$f":"Presupuesto!#REF!","v":{"$error":"#REF!"}},{"$f":"Presupuesto!#REF!","v":{"$error":"#REF!"}},{"$f":"IF(Presupuesto!#REF!>40,40,Presupuesto!#REF!)","v":{"$error":"#REF!"}},{"$f":"IF(Presupuesto!#REF!>40,40,Presupuesto!#REF!)","v":{"$error":"#REF!"}},{"$f":"IF(Presupuesto!#REF!>40,40,Presupuesto!#REF!)","v":{"$error":"#REF!"}},{"$f":"ROUND(Presupuesto!#REF!*W117,2)","v":{"$error":"#REF!"}},{"$f":"ROUND(Presupuesto!#REF!*X117,2)","v":{"$error":"#REF!"}},{"$f":"ROUND(Presupuesto!#REF!*Y117,2)","v":{"$error":"#REF!"}},{"$f":"Presupuesto!#REF!","v":{"$error":"#REF!"}},{"$f":"SUM(L117:N117)","v":{"$error":"#REF!"}},{"$f":"ROUND(I117*L117,2)","v":{"$error":"#REF!"}},{"$f":"ROUND(J117*M117,2)","v":{"$error":"#REF!"}},{"$f":"ROUND(K117*N117,2)","v":{"$error":"#REF!"}},{"$f":"Presupuesto!#REF!","v":{"$error":"#REF!"}},{"$f":"SUM(Q117:S117)","v":{"$error":"#REF!"}},null,1,1,1]
[{"$f":"Presupuesto!#REF!","v":{"$error":"#REF!"}},null,{"$f":"Presupuesto!#REF!","v":{"$error":"#REF!"}},{"$f":"Presupuesto!#REF!","v":{"$error":"#REF!"}},null,{"$f":"Presupuesto!#REF!","v":{"$error":"#REF!"}},{"$f":"Presupuesto!#REF!","v":{"$error":"#REF!"}},{"$f":"Presupuesto!#REF!","v":{"$error":"#REF!"}},{"$f":"IF(Presupuesto!#REF!>40,40,Presupuesto!#REF!)","v":{"$error":"#REF!"}},{"$f":"IF(Presupuesto!#REF!>40,40,Presupuesto!#REF!)","v":{"$error":"#REF!"}},{"$f":"IF(Presupuesto!#REF!>40,40,Presupuesto!#REF!)","v":{"$error":"#REF!"}},{"$f":"ROUND(Presupuesto!#REF!*W118,2)","v":{"$error":"#REF!"}},{"$f":"ROUND(Presupuesto!#REF!*X118,2)","v":{"$error":"#REF!"}},{"$f":"ROUND(Presupuesto!#REF!*Y118,2)","v":{"$error":"#REF!"}},{"$f":"Presupuesto!#REF!","v":{"$error":"#REF!"}},{"$error":"#REF!"},{"$f":"ROUND(I118*L118,2)","v":{"$error":"#REF!"}},{"$f":"ROUND(J118*M118,2)","v":{"$error":"#REF!"}},{"$f":"ROUND(K118*N118,2)","v":{"$error":"#REF!"}},{"$f":"Presupuesto!#REF!","v":{"$error":"#REF!"}},{"$error":"#REF!"},null,1,1,1]
[{"$f":"Presupuesto!#REF!","v":{"$error":"#REF!"}},null,{"$f":"Presupuesto!#REF!","v":{"$error":"#REF!"}},{"$f":"Presupuesto!#REF!","v":{"$error":"#REF!"}},null,{"$f":"Presupuesto!#REF!","v":{"$error":"#REF!"}},{"$f":"Presupuesto!#REF!","v":{"$error":"#REF!"}},{"$f":"Presupuesto!#REF!","v":{"$error":"#REF!"}},{"$f":"IF(Presupuesto!#REF!>40,40,Presupuesto!#REF!)","v":{"$error":"#REF!"}},{"$f":"IF(Presupuesto!#REF!>40,40,Presupuesto!#REF!)","v":{"$error":"#REF!"}},{"$f":"IF(Presupuesto!#REF!>40,40,Presupuesto!#REF!)","v":{"$error":"#REF!"}},{"$f":"ROUND(Presupuesto!#REF!*W119,2)","v":{"$error":"#REF!"}},{"$f":"ROUND(Presupuesto!#REF!*X119,2)","v":{"$error":"#REF!"}},{"$f":"ROUND(Presupuesto!#REF!*Y119,2)","v":{"$error":"#REF!"}},{"$f":"Presupuesto!#REF!","v":{"$error":"#REF!"}},{"$error":"#REF!"},{"$error":"#REF!"},{"$error":"#REF!"},{"$error":"#REF!"},{"$f":"Presupuesto!#REF!","v":{"$error":"#REF!"}},{"$error":"#REF!"},null,1,1,1]
[{"$f":"Presupuesto!#REF!","v":{"$error":"#REF!"}},null,{"$f":"Presupuesto!#REF!","v":{"$error":"#REF!"}},{"$f":"Presupuesto!#REF!","v":{"$error":"#REF!"}},null,{"$f":"Presupuesto!#REF!","v":{"$error":"#REF!"}},{"$f":"Presupuesto!#REF!","v":{"$error":"#REF!"}},{"$f":"Presupuesto!#REF!","v":{"$error":"#REF!"}},{"$f":"IF(Presupuesto!#REF!>40,40,Presupuesto!#REF!)","v":{"$error":"#REF!"}},{"$f":"IF(Presupuesto!#REF!>40,40,Presupuesto!#REF!)","v":{"$error":"#REF!"}},{"$f":"IF(Presupuesto!#REF!>40,40,Presupuesto!#REF!)","v":{"$error":"#REF!"}},{"$f":"ROUND(Presupuesto!#REF!*W120,2)","v":{"$error":"#REF!"}},{"$f":"ROUND(Presupuesto!#REF!*X120,2)","v":{"$error":"#REF!"}},{"$f":"ROUND(Presupuesto!#REF!*Y120,2)","v":{"$error":"#REF!"}},{"$f":"Presupuesto!#REF!","v":{"$error":"#REF!"}},{"$error":"#REF!"},{"$error":"#REF!"},{"$error":"#REF!"},{"$error":"#REF!"},{"$f":"Presupuesto!#REF!","v":{"$error":"#REF!"}},{"$error":"#REF!"},null,1,1,1]
[{"$f":"Presupuesto!#REF!","v":{"$error":"#REF!"}},null,{"$f":"Presupuesto!#REF!","v":{"$error":"#REF!"}},{"$f":"Presupuesto!#REF!","v":{"$error":"#REF!"}},null,{"$f":"Presupuesto!#REF!","v":{"$error":"#REF!"}},{"$f":"Presupuesto!#REF!","v":{"$error":"#REF!"}},{"$f":"Presupuesto!#REF!","v":{"$error":"#REF!"}},{"$f":"IF(Presupuesto!#REF!>40,40,Presupuesto!#REF!)","v":{"$error":"#REF!"}},{"$f":"IF(Presupuesto!#REF!>40,40,Presupuesto!#REF!)","v":{"$error":"#REF!"}},{"$f":"IF(Presupuesto!#REF!>40,40,Presupuesto!#REF!)","v":{"$error":"#REF!"}},{"$f":"ROUND(Presupuesto!#REF!*W121,2)","v":{"$error":"#REF!"}},{"$f":"ROUND(Presupuesto!#REF!*X121,2)","v":{"$error":"#REF!"}},{"$f":"ROUND(Presupuesto!#REF!*Y121,2)","v":{"$error":"#REF!"}},{"$f":"Presupuesto!#REF!","v":{"$error":"#REF!"}},{"$error":"#REF!"},{"$error":"#REF!"},{"$error":"#REF!"},{"$error":"#REF!"},{"$f":"Presupuesto!#REF!","v":{"$error":"#REF!"}},{"$error":"#REF!"},null,1,1,1]
[{"$f":"Presupuesto!#REF!","v":{"$error":"#REF!"}},null,{"$f":"Presupuesto!#REF!","v":{"$error":"#REF!"}},{"$f":"Presupuesto!#REF!","v":{"$error":"#REF!"}},null,{"$f":"Presupuesto!#REF!","v":{"$error":"#REF!"}},{"$f":"Presupuesto!#REF!","v":{"$error":"#REF!"}},{"$f":"Presupuesto!#REF!","v":{"$error":"#REF!"}},{"$f":"IF(Presupuesto!#REF!>40,40,Presupuesto!#REF!)","v":{"$error":"#REF!"}},{"$f":"IF(Presupuesto!#REF!>40,40,Presupuesto!#REF!)","v":{"$error":"#REF!"}},{"$f":"IF(Presupuesto!#REF!>40,40,Presupuesto!#REF!)","v":{"$error":"#REF!"}},{"$f":"ROUND(Presupuesto!#REF!*W122,2)","v":{"$error":"#REF!"}},{"$f":"ROUND(Presupuesto!#REF!*X122,2)","v":{"$error":"#REF!"}},{"$f":"ROUND(Presupuesto!#REF!*Y122,2)","v":{"$error":"#REF!"}},{"$f":"Presupuesto!#REF!","v":{"$error":"#REF!"}},{"$error":"#REF!"},{"$error":"#REF!"},{"$error":"#REF!"},{"$error":"#REF!"},{"$f":"Presupuesto!#REF!","v":{"$error":"#REF!"}},{"$error":"#REF!"},null,1,1,1]
[{"$f":"Presupuesto!#REF!","v":{"$error":"#REF!"}},null,{"$f":"Presupuesto!#REF!","v":{"$error":"#REF!"}},{"$f":"Presupuesto!#REF!","v":{"$error":"#REF!"}},null,{"$f":"Presupuesto!#REF!","v":{"$error":"#REF!"}},{"$f":"Presupuesto!#REF!","v":{"$error":"#REF!"}},{"$f":"Presupuesto!#REF!","v":{"$error":"#REF!"}},{"$f":"IF(Presupuesto!#REF!>40,40,Presupuesto!#REF!)","v":{"$error":"#REF!"}},{"$f":"IF(Presupuesto!#REF!>40,40,Presupuesto!#REF!)","v":{"$error":"#REF!"}},{"$f":"IF(Presupuesto!#REF!>40,40,Presupuesto!#REF!)","v":{"$error":"#REF!"}},{"$f":"ROUND(Presupuesto!#REF!*W123,2)","v":{"$error":"#REF!"}},{"$f":"ROUND(Presupuesto!#REF!*X123,2)","v":{"$error":"#REF!"}},{"$f":"ROUND(Presupuesto!#REF!*Y123,2)","v":{"$error":"#REF!"}},{"$f":"Presupuesto!#REF!","v":{"$error":"#REF!"}},{"$error":"#REF!"},{"$error":"#REF!"},{"$error":"#REF!"},{"$error":"#REF!"},{"$f":"Presupuesto!#REF!","v":{"$error":"#REF!"}},{"$error":"#REF!"},null,1,1,1]
[{"$f":"Presupuesto!#REF!","v":{"$error":"#REF!"}},null,{"$f":"Presupuesto!#REF!","v":{"$error":"#REF!"}},{"$f":"Presupuesto!#REF!","v":{"$error":"#REF!"}},null,{"$f":"Presupuesto!#REF!","v":{"$error":"#REF!"}},{"$f":"Presupuesto!#REF!","v":{"$error":"#REF!"}},{"$f":"Presupuesto!#REF!","v":{"$error":"#REF!"}},{"$f":"IF(Presupuesto!#REF!>40,40,Presupuesto!#REF!)","v":{"$error":"#REF!"}},{"$f":"IF(Presupuesto!#REF!>40,40,Presupuesto!#REF!)","v":{"$error":"#REF!"}},{"$f":"IF(Presupuesto!#REF!>40,40,Presupuesto!#REF!)","v":{"$error":"#REF!"}},{"$f":"ROUND(Presupuesto!#REF!*W124,2)","v":{"$error":"#REF!"}},{"$f":"ROUND(Presupuesto!#REF!*X124,2)","v":{"$error":"#REF!"}},{"$f":"ROUND(Presupuesto!#REF!*Y124,2)","v":{"$error":"#REF!"}},{"$f":"Presupuesto!#REF!","v":{"$error":"#REF!"}},{"$error":"#REF!"},{"$error":"#REF!"},{"$error":"#REF!"},{"$error":"#REF!"},{"$f":"Presupuesto!#REF!","v":{"$error":"#REF!"}},{"$error":"#REF!"},null,1,1,1]
[{"$f":"Presupuesto!#REF!","v":{"$error":"#REF!"}},null,{"$f":"Presupuesto!#REF!","v":{"$error":"#REF!"}},{"$f":"Presupuesto!#REF!","v":{"$error":"#REF!"}},null,{"$f":"Presupuesto!#REF!","v":{"$error":"#REF!"}},{"$f":"Presupuesto!#REF!","v":{"$error":"#REF!"}},{"$f":"Presupuesto!#REF!","v":{"$error":"#REF!"}},{"$f":"IF(Presupuesto!#REF!>40,40,Presupuesto!#REF!)","v":{"$error":"#REF!"}},{"$f":"IF(Presupuesto!#REF!>40,40,Presupuesto!#REF!)","v":{"$error":"#REF!"}},{"$f":"IF(Presupuesto!#REF!>40,40,Presupuesto!#REF!)","v":{"$error":"#REF!"}},{"$f":"ROUND(Presupuesto!#REF!*W125,2)","v":{"$error":"#REF!"}},{"$f":"ROUND(Presupuesto!#REF!*X125,2)","v":{"$error":"#REF!"}},{"$f":"ROUND(Presupuesto!#REF!*Y125,2)","v":{"$error":"#REF!"}},{"$f":"Presupuesto!#REF!","v":{"$error":"#REF!"}},{"$error":"#REF!"},{"$error":"#REF!"},{"$error":"#REF!"},{"$error":"#REF!"},{"$f":"Presupuesto!#REF!","v":{"$error":"#REF!"}},{"$error":"#REF!"},null,1,1,1]
[{"$f":"Presupuesto!#REF!","v":{"$error":"#REF!"}},null,{"$f":"Presupuesto!#REF!","v":{"$error":"#REF!"}},{"$f":"Presupuesto!#REF!","v":{"$error":"#REF!"}},null,{"$f":"Presupuesto!#REF!","v":{"$error":"#REF!"}},{"$f":"Presupuesto!#REF!","v":{"$error":"#REF!"}},{"$f":"Presupuesto!#REF!","v":{"$error":"#REF!"}},{"$f":"IF(Presupuesto!#REF!>40,40,Presupuesto!#REF!)","v":{"$error":"#REF!"}},{"$f":"IF(Presupuesto!#REF!>40,40,Presupuesto!#REF!)","v":{"$error":"#REF!"}},{"$f":"IF(Presupuesto!#REF!>40,40,Presupuesto!#REF!)","v":{"$error":"#REF!"}},{"$f":"ROUND(Presupuesto!#REF!*W126,2)","v":{"$error":"#REF!"}},{"$f":"ROUND(Presupuesto!#REF!*X126,2)","v":{"$error":"#REF!"}},{"$f":"ROUND(Presupuesto!#REF!*Y126,2)","v":{"$error":"#REF!"}},{"$f":"Presupuesto!#REF!","v":{"$error":"#REF!"}},{"$error":"#REF!"},{"$error":"#REF!"},{"$error":"#REF!"},{"$error":"#REF!"},{"$f":"Presupuesto!#REF!","v":{"$error":"#REF!"}},{"$error":"#REF!"},null,1,1,1]
[{"$f":"Presupuesto!#REF!","v":{"$error":"#REF!"}},null,{"$f":"Presupuesto!#REF!","v":{"$error":"#REF!"}},{"$f":"Presupuesto!#REF!","v":{"$error":"#REF!"}},null,{"$f":"Presupuesto!#REF!","v":{"$error":"#REF!"}},{"$f":"Presupuesto!#REF!","v":{"$error":"#REF!"}},{"$f":"Presupuesto!#REF!","v":{"$error":"#REF!"}},{"$f":"IF(Presupuesto!#REF!>40,40,Presupuesto!#REF!)","v":{"$error":"#REF!"}},{"$f":"IF(Presupuesto!#REF!>40,40,Presupuesto!#REF!)","v":{"$error":"#REF!"}},{"$f":"IF(Presupuesto!#REF!>40,40,Presupuesto!#REF!)","v":{"$error":"#REF!"}},{"$f":"ROUND(Presupuesto!#REF!*W127,2)","v":{"$error":"#REF!"}},{"$f":"ROUND(Presupuesto!#REF!*X127,2)","v":{"$error":"#REF!"}},{"$f":"ROUND(Presupuesto!#REF!*Y127,2)","v":{"$error":"#REF!"}},{"$f":"Presupuesto!#REF!","v":{"$error":"#REF!"}},{"$error":"#REF!"},{"$error":"#REF!"},{"$error":"#REF!"},{"$error":"#REF!"},{"$f":"Presupuesto!#REF!","v":{"$error":"#REF!"}},{"$error":"#REF!"},null,1,1,1]
[{"$f":"Presupuesto!#REF!","v":{"$error":"#REF!"}},null,{"$f":"Presupuesto!#REF!","v":{"$error":"#REF!"}},{"$f":"Presupuesto!#REF!","v":{"$error":"#REF!"}},null,{"$f":"Presupuesto!#REF!","v":{"$error":"#REF!"}},{"$f":"Presupuesto!#REF!","v":{"$error":"#REF!"}},{"$f":"Presupuesto!#REF!","v":{"$error":"#REF!"}},{"$f":"IF(Presupuesto!#REF!>40,40,Presupuesto!#REF!)","v":{"$error":"#REF!"}},{"$f":"IF(Presupuesto!#REF!>40,40,Presupuesto!#REF!)","v":{"$error":"#REF!"}},{"$f":"IF(Presupuesto!#REF!>40,40,Presupuesto!#REF!)","v":{"$error":"#REF!"}},{"$f":"ROUND(Presupuesto!#REF!*W128,2)","v":{"$error":"#REF!"}},{"$f":"ROUND(Presupuesto!#REF!*X128,2)","v":{"$error":"#REF!"}},{"$f":"ROUND(Presupuesto!#REF!*Y128,2)","v":{"$error":"#REF!"}},{"$f":"Presupuesto!#REF!","v":{"$error":"#REF!"}},{"$error":"#REF!"},{"$error":"#REF!"},{"$error":"#REF!"},{"$error":"#REF!"},{"$f":"Presupuesto!#REF!","v":{"$error":"#REF!"}},{"$error":"#REF!"},null,1,1,1]
[{"$f":"Presupuesto!#REF!","v":{"$error":"#REF!"}},null,{"$f":"Presupuesto!#REF!","v":{"$error":"#REF!"}},{"$f":"Presupuesto!#REF!","v":{"$error":"#REF!"}},null,{"$f":"Presupuesto!#REF!","v":{"$error":"#REF!"}},{"$f":"Presupuesto!#REF!","v":{"$error":"#REF!"}},{"$f":"Presupuesto!#REF!","v":{"$error":"#REF!"}},{"$f":"IF(Presupuesto!#REF!>40,40,Presupuesto!#REF!)","v":{"$error":"#REF!"}},{"$f":"IF(Presupuesto!#REF!>40,40,Presupuesto!#REF!)","v":{"$error":"#REF!"}},{"$f":"IF(Presupuesto!#REF!>40,40,Presupuesto!#REF!)","v":{"$error":"#REF!"}},{"$f":"ROUND(Presupuesto!#REF!*W129,2)","v":{"$error":"#REF!"}},{"$f":"ROUND(Presupuesto!#REF!*X129,2)","v":{"$error":"#REF!"}},{"$f":"ROUND(Presupuesto!#REF!*Y129,2)","v":{"$error":"#REF!"}},{"$f":"Presupuesto!#REF!","v":{"$error":"#REF!"}},{"$error":"#REF!"},{"$error":"#REF!"},{"$error":"#REF!"},{"$error":"#REF!"},{"$f":"Presupuesto!#REF!","v":{"$error":"#REF!"}},{"$error":"#REF!"},null,1,1,1]
[{"$f":"Presupuesto!#REF!","v":{"$error":"#REF!"}},null,{"$f":"Presupuesto!#REF!","v":{"$error":"#REF!"}},{"$f":"Presupuesto!#REF!","v":{"$error":"#REF!"}},null,{"$f":"Presupuesto!#REF!","v":{"$error":"#REF!"}},{"$f":"Presupuesto!#REF!","v":{"$error":"#REF!"}},{"$f":"Presupuesto!#REF!","v":{"$error":"#REF!"}},{"$f":"IF(Presupuesto!#REF!>40,40,Presupuesto!#REF!)","v":{"$error":"#REF!"}},{"$f":"IF(Presupuesto!#REF!>40,40,Presupuesto!#REF!)","v":{"$error":"#REF!"}},{"$f":"IF(Presupuesto!#REF!>40,40,Presupuesto!#REF!)","v":{"$error":"#REF!"}},{"$f":"ROUND(Presupuesto!#REF!*W130,2)","v":{"$error":"#REF!"}},{"$f":"ROUND(Presupuesto!#REF!*X130,2)","v":{"$error":"#REF!"}},{"$f":"ROUND(Presupuesto!#REF!*Y130,2)","v":{"$error":"#REF!"}},{"$f":"Presupuesto!#REF!","v":{"$error":"#REF!"}},{"$error":"#REF!"},{"$error":"#REF!"},{"$error":"#REF!"},{"$error":"#REF!"},{"$f":"Presupuesto!#REF!","v":{"$error":"#REF!"}},{"$error":"#REF!"},null,1,1,1]
[{"$f":"Presupuesto!#REF!","v":{"$error":"#REF!"}},null,{"$f":"Presupuesto!#REF!","v":{"$error":"#REF!"}},{"$f":"Presupuesto!#REF!","v":{"$error":"#REF!"}},null,{"$f":"Presupuesto!#REF!","v":{"$error":"#REF!"}},{"$f":"Presupuesto!#REF!","v":{"$error":"#REF!"}},{"$f":"Presupuesto!#REF!","v":{"$error":"#REF!"}},{"$f":"IF(Presupuesto!#REF!>40,40,Presupuesto!#REF!)","v":{"$error":"#REF!"}},{"$f":"IF(Presupuesto!#REF!>40,40,Presupuesto!#REF!)","v":{"$error":"#REF!"}},{"$f":"IF(Presupuesto!#REF!>40,40,Presupuesto!#REF!)","v":{"$error":"#REF!"}},{"$f":"ROUND(Presupuesto!#REF!*W131,2)","v":{"$error":"#REF!"}},{"$f":"ROUND(Presupuesto!#REF!*X131,2)","v":{"$error":"#REF!"}},{"$f":"ROUND(Presupuesto!#REF!*Y131,2)","v":{"$error":"#REF!"}},{"$f":"Presupuesto!#REF!","v":{"$error":"#REF!"}},{"$error":"#REF!"},{"$error":"#REF!"},{"$error":"#REF!"},{"$error":"#REF!"},{"$f":"Presupuesto!#REF!","v":{"$error":"#REF!"}},{"$error":"#REF!"},null,1,1,1]
[{"$f":"Presupuesto!#REF!","v":{"$error":"#REF!"}},null,{"$f":"Presupuesto!#REF!","v":{"$error":"#REF!"}},{"$f":"Presupuesto!#REF!","v":{"$error":"#REF!"}},null,{"$f":"Presupuesto!#REF!","v":{"$error":"#REF!"}},{"$f":"Presupuesto!#REF!","v":{"$error":"#REF!"}},{"$f":"Presupuesto!#REF!","v":{"$error":"#REF!"}},{"$f":"IF(Presupuesto!#REF!>40,40,Presupuesto!#REF!)","v":{"$error":"#REF!"}},{"$f":"IF(Presupuesto!#REF!>40,40,Presupuesto!#REF!)","v":{"$error":"#REF!"}},{"$f":"IF(Presupuesto!#REF!>40,40,Presupuesto!#REF!)","v":{"$error":"#REF!"}},{"$f":"ROUND(Presupuesto!#REF!*W132,2)","v":{"$error":"#REF!"}},{"$f":"ROUND(Presupuesto!#REF!*X132,2)","v":{"$error":"#REF!"}},{"$f":"ROUND(Presupuesto!#REF!*Y132,2)","v":{"$error":"#REF!"}},{"$f":"Presupuesto!#REF!","v":{"$error":"#REF!"}},{"$error":"#REF!"},{"$error":"#REF!"},{"$error":"#REF!"},{"$error":"#REF!"},{"$f":"Presupuesto!#REF!","v":{"$error":"#REF!"}},{"$error":"#REF!"},null,1,1,1]
[{"$f":"Presupuesto!#REF!","v":{"$error":"#REF!"}},null,{"$f":"Presupuesto!#REF!","v":{"$error":"#REF!"}},{"$f":"Presupuesto!#REF!","v":{"$error":"#REF!"}},null,{"$f":"Presupuesto!#REF!","v":{"$error":"#REF!"}},{"$f":"Presupuesto!#REF!","v":{"$error":"#REF!"}},{"$f":"Presupuesto!#REF!","v":{"$error":"#REF!"}},{"$f":"IF(Presupuesto!#REF!>40,40,Presupuesto!#REF!)","v":{"$error":"#REF!"}},{"$f":"IF(Presupuesto!#REF!>40,40,Presupuesto!#REF!)","v":{"$error":"#REF!"}},{"$f":"IF(Presupuesto!#REF!>40,40,Presupuesto!#REF!)","v":{"$error":"#REF!"}},{"$f":"ROUND(Presupuesto!#REF!*W133,2)","v":{"$error":"#REF!"}},{"$f":"ROUND(Presupuesto!#REF!*X133,2)","v":{"$error":"#REF!"}},{"$f":"ROUND(Presupuesto!#REF!*Y133,2)","v":{"$error":"#REF!"}},{"$f":"Presupuesto!#REF!","v":{"$error":"#REF!"}},{"$error":"#REF!"},{"$error":"#REF!"},{"$error":"#REF!"},{"$error":"#REF!"},{"$f":"Presupuesto!#REF!","v":{"$error":"#REF!"}},{"$error":"#REF!"},null,1,1,1]
[{"$f":"Presupuesto!#REF!","v":{"$error":"#REF!"}},null,{"$f":"Presupuesto!#REF!","v":{"$error":"#REF!"}},{"$f":"Presupuesto!#REF!","v":{"$error":"#REF!"}},null,{"$f":"Presupuesto!#REF!","v":{"$error":"#REF!"}},{"$f":"Presupuesto!#REF!","v":{"$error":"#REF!"}},{"$f":"Presupuesto!#REF!","v":{"$error":"#REF!"}},{"$f":"IF(Presupuesto!#REF!>40,40,Presupuesto!#REF!)","v":{"$error":"#REF!"}},{"$f":"IF(Presupuesto!#REF!>40,40,Presupuesto!#REF!)","v":{"$error":"#REF!"}},{"$f":"IF(Presupuesto!#REF!>40,40,Presupuesto!#REF!)","v":{"$error":"#REF!"}},{"$f":"ROUND(Presupuesto!#REF!*W134,2)","v":{"$error":"#REF!"}},{"$f":"ROUND(Presupuesto!#REF!*X134,2)","v":{"$error":"#REF!"}},{"$f":"ROUND(Presupuesto!#REF!*Y134,2)","v":{"$error":"#REF!"}},{"$f":"Presupuesto!#REF!","v":{"$error":"#REF!"}},{"$error":"#REF!"},{"$error":"#REF!"},{"$error":"#REF!"},{"$error":"#REF!"},{"$f":"Presupuesto!#REF!","v":{"$error":"#REF!"}},{"$error":"#REF!"},null,1,1,1]
[{"$f":"Presupuesto!#REF!","v":{"$error":"#REF!"}},null,{"$f":"Presupuesto!#REF!","v":{"$error":"#REF!"}},{"$f":"Presupuesto!#REF!","v":{"$error":"#REF!"}},null,{"$f":"Presupuesto!#REF!","v":{"$error":"#REF!"}},{"$f":"Presupuesto!#REF!","v":{"$error":"#REF!"}},{"$f":"Presupuesto!#REF!","v":{"$error":"#REF!"}},{"$f":"IF(Presupuesto!#REF!>40,40,Presupuesto!#REF!)","v":{"$error":"#REF!"}},{"$f":"IF(Presupuesto!#REF!>40,40,Presupuesto!#REF!)","v":{"$error":"#REF!"}},{"$f":"IF(Presupuesto!#REF!>40,40,Presupuesto!#REF!)","v":{"$error":"#REF!"}},{"$f":"ROUND(Presupuesto!#REF!*W135,2)","v":{"$error":"#REF!"}},{"$f":"ROUND(Presupuesto!#REF!*X135,2)","v":{"$error":"#REF!"}},{"$f":"ROUND(Presupuesto!#REF!*Y135,2)","v":{"$error":"#REF!"}},{"$f":"Presupuesto!#REF!","v":{"$error":"#REF!"}},{"$error":"#REF!"},{"$error":"#REF!"},{"$error":"#REF!"},{"$error":"#REF!"},{"$f":"Presupuesto!#REF!","v":{"$error":"#REF!"}},{"$error":"#REF!"},null,1,1,1]
[{"$f":"Presupuesto!#REF!","v":{"$error":"#REF!"}},null,{"$f":"Presupuesto!#REF!","v":{"$error":"#REF!"}},{"$f":"Presupuesto!#REF!","v":{"$error":"#REF!"}},null,{"$f":"Presupuesto!#REF!","v":{"$error":"#REF!"}},{"$f":"Presupuesto!#REF!","v":{"$error":"#REF!"}},{"$f":"Presupuesto!#REF!","v":{"$error":"#REF!"}},{"$f":"IF(Presupuesto!#REF!>40,40,Presupuesto!#REF!)","v":{"$error":"#REF!"}},{"$f":"IF(Presupuesto!#REF!>40,40,Presupuesto!#REF!)","v":{"$error":"#REF!"}},{"$f":"IF(Presupuesto!#REF!>40,40,Presupuesto!#REF!)","v":{"$error":"#REF!"}},{"$f":"ROUND(Presupuesto!#REF!*W136,2)","v":{"$error":"#REF!"}},{"$f":"ROUND(Presupuesto!#REF!*X136,2)","v":{"$error":"#REF!"}},{"$f":"ROUND(Presupuesto!#REF!*Y136,2)","v":{"$error":"#REF!"}},{"$f":"Presupuesto!#REF!","v":{"$error":"#REF!"}},{"$error":"#REF!"},{"$error":"#REF!"},{"$error":"#REF!"},{"$error":"#REF!"},{"$f":"Presupuesto!#REF!","v":{"$error":"#REF!"}},{"$error":"#REF!"},null,1,1,1]
[{"$f":"Presupuesto!#REF!","v":{"$error":"#REF!"}},null,{"$f":"Presupuesto!#REF!","v":{"$error":"#REF!"}},{"$f":"Presupuesto!#REF!","v":{"$error":"#REF!"}},null,{"$f":"Presupuesto!#REF!","v":{"$error":"#REF!"}},{"$f":"Presupuesto!#REF!","v":{"$error":"#REF!"}},{"$f":"Presupuesto!#REF!","v":{"$error":"#REF!"}},{"$f":"IF(Presupuesto!#REF!>40,40,Presupuesto!#REF!)","v":{"$error":"#REF!"}},{"$f":"IF(Presupuesto!#REF!>40,40,Presupuesto!#REF!)","v":{"$error":"#REF!"}},{"$f":"IF(Presupuesto!#REF!>40,40,Presupuesto!#REF!)","v":{"$error":"#REF!"}},{"$f":"ROUND(Presupuesto!#REF!*W137,2)","v":{"$error":"#REF!"}},{"$f":"ROUND(Presupuesto!#REF!*X137,2)","v":{"$error":"#REF!"}},{"$f":"ROUND(Presupuesto!#REF!*Y137,2)","v":{"$error":"#REF!"}},{"$f":"Presupuesto!#REF!","v":{"$error":"#REF!"}},{"$error":"#REF!"},{"$error":"#REF!"},{"$error":"#REF!"},{"$error":"#REF!"},{"$f":"Presupuesto!#REF!","v":{"$error":"#REF!"}},{"$error":"#REF!"},null,1,1,1]
[{"$f":"Presupuesto!#REF!","v":{"$error":"#REF!"}},null,{"$f":"Presupuesto!#REF!","v":{"$error":"#REF!"}},{"$f":"Presupuesto!#REF!","v":{"$error":"#REF!"}},null,{"$f":"Presupuesto!#REF!","v":{"$error":"#REF!"}},{"$f":"Presupuesto!#REF!","v":{"$error":"#REF!"}},{"$f":"Presupuesto!#REF!","v":{"$error":"#REF!"}},{"$f":"IF(Presupuesto!#REF!>40,40,Presupuesto!#REF!)","v":{"$error":"#REF!"}},{"$f":"IF(Presupuesto!#REF!>40,40,Presupuesto!#REF!)","v":{"$error":"#REF!"}},{"$f":"IF(Presupuesto!#REF!>40,40,Presupuesto!#REF!)","v":{"$error":"#REF!"}},{"$f":"ROUND(Presupuesto!#REF!*W138,2)","v":{"$error":"#REF!"}},{"$f":"ROUND(Presupuesto!#REF!*X138,2)","v":{"$error":"#REF!"}},{"$f":"ROUND(Presupuesto!#REF!*Y138,2)","v":{"$error":"#REF!"}},{"$f":"Presupuesto!#REF!","v":{"$error":"#REF!"}},{"$error":"#REF!"},{"$error":"#REF!"},{"$error":"#REF!"},{"$error":"#REF!"},{"$f":"Presupuesto!#REF!","v":{"$error":"#REF!"}},{"$error":"#REF!"},null,1,1,1]
[{"$f":"Presupuesto!#REF!","v":{"$error":"#REF!"}},null,{"$f":"Presupuesto!#REF!","v":{"$error":"#REF!"}},{"$f":"Presupuesto!#REF!","v":{"$error":"#REF!"}},null,{"$f":"Presupuesto!#REF!","v":{"$error":"#REF!"}},{"$f":"Presupuesto!#REF!","v":{"$error":"#REF!"}},{"$f":"Presupuesto!#REF!","v":{"$error":"#REF!"}},{"$f":"IF(Presupuesto!#REF!>40,40,Presupuesto!#REF!)","v":{"$error":"#REF!"}},{"$f":"IF(Presupuesto!#REF!>40,40,Presupuesto!#REF!)","v":{"$error":"#REF!"}},{"$f":"IF(Presupuesto!#REF!>40,40,Presupuesto!#REF!)","v":{"$error":"#REF!"}},{"$f":"ROUND(Presupuesto!#REF!*W139,2)","v":{"$error":"#REF!"}},{"$f":"ROUND(Presupuesto!#REF!*X139,2)","v":{"$error":"#REF!"}},{"$f":"ROUND(Presupuesto!#REF!*Y139,2)","v":{"$error":"#REF!"}},{"$f":"Presupuesto!#REF!","v":{"$error":"#REF!"}},{"$error":"#REF!"},{"$error":"#REF!"},{"$error":"#REF!"},{"$error":"#REF!"},{"$f":"Presupuesto!#REF!","v":{"$error":"#REF!"}},{"$error":"#REF!"},null,1,1,1]
[{"$f":"Presupuesto!#REF!","v":{"$error":"#REF!"}},null,{"$f":"Presupuesto!#REF!","v":{"$error":"#REF!"}},{"$f":"Presupuesto!#REF!","v":{"$error":"#REF!"}},null,{"$f":"Presupuesto!#REF!","v":{"$error":"#REF!"}},{"$f":"Presupuesto!#REF!","v":{"$error":"#REF!"}},{"$f":"Presupuesto!#REF!","v":{"$error":"#REF!"}},{"$f":"IF(Presupuesto!#REF!>40,40,Presupuesto!#REF!)","v":{"$error":"#REF!"}},{"$f":"IF(Presupuesto!#REF!>40,40,Presupuesto!#REF!)","v":{"$error":"#REF!"}},{"$f":"IF(Presupuesto!#REF!>40,40,Presupuesto!#REF!)","v":{"$error":"#REF!"}},{"$f":"ROUND(Presupuesto!#REF!*W140,2)","v":{"$error":"#REF!"}},{"$f":"ROUND(Presupuesto!#REF!*X140,2)","v":{"$error":"#REF!"}},{"$f":"ROUND(Presupuesto!#REF!*Y140,2)","v":{"$error":"#REF!"}},{"$f":"Presupuesto!#REF!","v":{"$error":"#REF!"}},{"$error":"#REF!"},{"$error":"#REF!"},{"$error":"#REF!"},{"$error":"#REF!"},{"$f":"Presupuesto!#REF!","v":{"$error":"#REF!"}},{"$error":"#REF!"},null,1,1,1]
[{"$f":"Presupuesto!#REF!","v":{"$error":"#REF!"}},null,{"$f":"Presupuesto!#REF!","v":{"$error":"#REF!"}},{"$f":"Presupuesto!#REF!","v":{"$error":"#REF!"}},null,{"$f":"Presupuesto!#REF!","v":{"$error":"#REF!"}},{"$f":"Presupuesto!#REF!","v":{"$error":"#REF!"}},{"$f":"Presupuesto!#REF!","v":{"$error":"#REF!"}},{"$f":"IF(Presupuesto!#REF!>40,40,Presupuesto!#REF!)","v":{"$error":"#REF!"}},{"$f":"IF(Presupuesto!#REF!>40,40,Presupuesto!#REF!)","v":{"$error":"#REF!"}},{"$f":"IF(Presupuesto!#REF!>40,40,Presupuesto!#REF!)","v":{"$error":"#REF!"}},{"$f":"ROUND(Presupuesto!#REF!*W141,2)","v":{"$error":"#REF!"}},{"$f":"ROUND(Presupuesto!#REF!*X141,2)","v":{"$error":"#REF!"}},{"$f":"ROUND(Presupuesto!#REF!*Y141,2)","v":{"$error":"#REF!"}},{"$f":"Presupuesto!#REF!","v":{"$error":"#REF!"}},{"$error":"#REF!"},{"$error":"#REF!"},{"$error":"#REF!"},{"$error":"#REF!"},{"$f":"Presupuesto!#REF!","v":{"$error":"#REF!"}},{"$error":"#REF!"},null,1,1,1]
[{"$f":"Presupuesto!#REF!","v":{"$error":"#REF!"}},null,{"$f":"Presupuesto!#REF!","v":{"$error":"#REF!"}},{"$f":"Presupuesto!#REF!","v":{"$error":"#REF!"}},null,{"$f":"Presupuesto!#REF!","v":{"$error":"#REF!"}},{"$f":"Presupuesto!#REF!","v":{"$error":"#REF!"}},{"$f":"Presupuesto!#REF!","v":{"$error":"#REF!"}},{"$f":"IF(Presupuesto!#REF!>40,40,Presupuesto!#REF!)","v":{"$error":"#REF!"}},{"$f":"IF(Presupuesto!#REF!>40,40,Presupuesto!#REF!)","v":{"$error":"#REF!"}},{"$f":"IF(Presupuesto!#REF!>40,40,Presupuesto!#REF!)","v":{"$error":"#REF!"}},{"$f":"ROUND(Presupuesto!#REF!*W142,2)","v":{"$error":"#REF!"}},{"$f":"ROUND(Presupuesto!#REF!*X142,2)","v":{"$error":"#REF!"}},{"$f":"ROUND(Presupuesto!#REF!*Y142,2)","v":{"$error":"#REF!"}},{"$f":"Presupuesto!#REF!","v":{"$error":"#REF!"}},{"$error":"#REF!"},{"$error":"#REF!"},{"$error":"#REF!"},{"$error":"#REF!"},{"$f":"Presupuesto!#REF!","v":{"$error":"#REF!"}},{"$error":"#REF!"},null,1,1,1]
[{"$f":"Presupuesto!#REF!","v":{"$error":"#REF!"}},null,{"$f":"Presupuesto!#REF!","v":{"$error":"#REF!"}},{"$f":"Presupuesto!#REF!","v":{"$error":"#REF!"}},null,{"$f":"Presupuesto!#REF!","v":{"$error":"#REF!"}},{"$f":"Presupuesto!#REF!","v":{"$error":"#REF!"}},{"$f":"Presupuesto!#REF!","v":{"$error":"#REF!"}},{"$f":"IF(Presupuesto!#REF!>40,40,Presupuesto!#REF!)","v":{"$error":"#REF!"}},{"$f":"IF(Presupuesto!#REF!>40,40,Presupuesto!#REF!)","v":{"$error":"#REF!"}},{"$f":"IF(Presupuesto!#REF!>40,40,Presupuesto!#REF!)","v":{"$error":"#REF!"}},{"$f":"ROUND(Presupuesto!#REF!*W143,2)","v":{"$error":"#REF!"}},{"$f":"ROUND(Presupuesto!#REF!*X143,2)","v":{"$error":"#REF!"}},{"$f":"ROUND(Presupuesto!#REF!*Y143,2)","v":{"$error":"#REF!"}},{"$f":"Presupuesto!#REF!","v":{"$error":"#REF!"}},{"$error":"#REF!"},{"$error":"#REF!"},{"$error":"#REF!"},{"$error":"#REF!"},{"$f":"Presupuesto!#REF!","v":{"$error":"#REF!"}},{"$error":"#REF!"},null,1,1,1]
[{"$f":"Presupuesto!#REF!","v":{"$error":"#REF!"}},null,{"$f":"Presupuesto!#REF!","v":{"$error":"#REF!"}},{"$f":"Presupuesto!#REF!","v":{"$error":"#REF!"}},null,{"$f":"Presupuesto!#REF!","v":{"$error":"#REF!"}},{"$f":"Presupuesto!#REF!","v":{"$error":"#REF!"}},{"$f":"Presupuesto!#REF!","v":{"$error":"#REF!"}},{"$f":"IF(Presupuesto!#REF!>40,40,Presupuesto!#REF!)","v":{"$error":"#REF!"}},{"$f":"IF(Presupuesto!#REF!>40,40,Presupuesto!#REF!)","v":{"$error":"#REF!"}},{"$f":"IF(Presupuesto!#REF!>40,40,Presupuesto!#REF!)","v":{"$error":"#REF!"}},{"$f":"ROUND(Presupuesto!#REF!*W144,2)","v":{"$error":"#REF!"}},{"$f":"ROUND(Presupuesto!#REF!*X144,2)","v":{"$error":"#REF!"}},{"$f":"ROUND(Presupuesto!#REF!*Y144,2)","v":{"$error":"#REF!"}},{"$f":"Presupuesto!#REF!","v":{"$error":"#REF!"}},{"$error":"#REF!"},{"$error":"#REF!"},{"$error":"#REF!"},{"$error":"#REF!"},{"$f":"Presupuesto!#REF!","v":{"$error":"#REF!"}},{"$error":"#REF!"},null,1,1,1]
[{"$f":"Presupuesto!#REF!","v":{"$error":"#REF!"}},null,{"$f":"Presupuesto!#REF!","v":{"$error":"#REF!"}},{"$f":"Presupuesto!#REF!","v":{"$error":"#REF!"}},null,{"$f":"Presupuesto!#REF!","v":{"$error":"#REF!"}},{"$f":"Presupuesto!#REF!","v":{"$error":"#REF!"}},{"$f":"Presupuesto!#REF!","v":{"$error":"#REF!"}},{"$f":"IF(Presupuesto!#REF!>40,40,Presupuesto!#REF!)","v":{"$error":"#REF!"}},{"$f":"IF(Presupuesto!#REF!>40,40,Presupuesto!#REF!)","v":{"$error":"#REF!"}},{"$f":"IF(Presupuesto!#REF!>40,40,Presupuesto!#REF!)","v":{"$error":"#REF!"}},{"$f":"ROUND(Presupuesto!#REF!*W145,2)","v":{"$error":"#REF!"}},{"$f":"ROUND(Presupuesto!#REF!*X145,2)","v":{"$error":"#REF!"}},{"$f":"ROUND(Presupuesto!#REF!*Y145,2)","v":{"$error":"#REF!"}},{"$f":"Presupuesto!#REF!","v":{"$error":"#REF!"}},{"$error":"#REF!"},{"$error":"#REF!"},{"$error":"#REF!"},{"$error":"#REF!"},{"$f":"Presupuesto!#REF!","v":{"$error":"#REF!"}},{"$error":"#REF!"},null,1,1,1]
[{"$f":"Presupuesto!#REF!","v":{"$error":"#REF!"}},null,{"$f":"Presupuesto!#REF!","v":{"$error":"#REF!"}},{"$f":"Presupuesto!#REF!","v":{"$error":"#REF!"}},null,{"$f":"Presupuesto!#REF!","v":{"$error":"#REF!"}},{"$f":"Presupuesto!#REF!","v":{"$error":"#REF!"}},{"$f":"Presupuesto!#REF!","v":{"$error":"#REF!"}},{"$f":"IF(Presupuesto!#REF!>40,40,Presupuesto!#REF!)","v":{"$error":"#REF!"}},{"$f":"IF(Presupuesto!#REF!>40,40,Presupuesto!#REF!)","v":{"$error":"#REF!"}},{"$f":"IF(Presupuesto!#REF!>40,40,Presupuesto!#REF!)","v":{"$error":"#REF!"}},{"$f":"ROUND(Presupuesto!#REF!*W146,2)","v":{"$error":"#REF!"}},{"$f":"ROUND(Presupuesto!#REF!*X146,2)","v":{"$error":"#REF!"}},{"$f":"ROUND(Presupuesto!#REF!*Y146,2)","v":{"$error":"#REF!"}},{"$f":"Presupuesto!#REF!","v":{"$error":"#REF!"}},{"$error":"#REF!"},{"$error":"#REF!"},{"$error":"#REF!"},{"$error":"#REF!"},{"$f":"Presupuesto!#REF!","v":{"$error":"#REF!"}},{"$error":"#REF!"},null,1,1,1]
[{"$f":"Presupuesto!#REF!","v":{"$error":"#REF!"}},null,{"$f":"Presupuesto!#REF!","v":{"$error":"#REF!"}},{"$f":"Presupuesto!#REF!","v":{"$error":"#REF!"}},null,{"$f":"Presupuesto!#REF!","v":{"$error":"#REF!"}},{"$f":"Presupuesto!#REF!","v":{"$error":"#REF!"}},{"$f":"Presupuesto!#REF!","v":{"$error":"#REF!"}},{"$f":"IF(Presupuesto!#REF!>40,40,Presupuesto!#REF!)","v":{"$error":"#REF!"}},{"$f":"IF(Presupuesto!#REF!>40,40,Presupuesto!#REF!)","v":{"$error":"#REF!"}},{"$f":"IF(Presupuesto!#REF!>40,40,Presupuesto!#REF!)","v":{"$error":"#REF!"}},{"$f":"ROUND(Presupuesto!#REF!*W147,2)","v":{"$error":"#REF!"}},{"$f":"ROUND(Presupuesto!#REF!*X147,2)","v":{"$error":"#REF!"}},{"$f":"ROUND(Presupuesto!#REF!*Y147,2)","v":{"$error":"#REF!"}},{"$f":"Presupuesto!#REF!","v":{"$error":"#REF!"}},{"$error":"#REF!"},{"$error":"#REF!"},{"$error":"#REF!"},{"$error":"#REF!"},{"$f":"Presupuesto!#REF!","v":{"$error":"#REF!"}},{"$error":"#REF!"},null,1,1,1]
[{"$f":"Presupuesto!#REF!","v":{"$error":"#REF!"}},null,{"$f":"Presupuesto!#REF!","v":{"$error":"#REF!"}},{"$f":"Presupuesto!#REF!","v":{"$error":"#REF!"}},null,{"$f":"Presupuesto!#REF!","v":{"$error":"#REF!"}},{"$f":"Presupuesto!#REF!","v":{"$error":"#REF!"}},{"$f":"Presupuesto!#REF!","v":{"$error":"#REF!"}},{"$f":"IF(Presupuesto!#REF!>40,40,Presupuesto!#REF!)","v":{"$error":"#REF!"}},{"$f":"IF(Presupuesto!#REF!>40,40,Presupuesto!#REF!)","v":{"$error":"#REF!"}},{"$f":"IF(Presupuesto!#REF!>40,40,Presupuesto!#REF!)","v":{"$error":"#REF!"}},{"$f":"ROUND(Presupuesto!#REF!*W148,2)","v":{"$error":"#REF!"}},{"$f":"ROUND(Presupuesto!#REF!*X148,2)","v":{"$error":"#REF!"}},{"$f":"ROUND(Presupuesto!#REF!*Y148,2)","v":{"$error":"#REF!"}},{"$f":"Presupuesto!#REF!","v":{"$error":"#REF!"}},{"$error":"#REF!"},{"$error":"#REF!"},{"$error":"#REF!"},{"$error":"#REF!"},{"$f":"Presupuesto!#REF!","v":{"$error":"#REF!"}},{"$error":"#REF!"},null,1,1,1]
[{"$f":"Presupuesto!#REF!","v":{"$error":"#REF!"}},null,{"$f":"Presupuesto!#REF!","v":{"$error":"#REF!"}},{"$f":"Presupuesto!#REF!","v":{"$error":"#REF!"}},null,{"$f":"Presupuesto!#REF!","v":{"$error":"#REF!"}},{"$f":"Presupuesto!#REF!","v":{"$error":"#REF!"}},{"$f":"Presupuesto!#REF!","v":{"$error":"#REF!"}},{"$f":"IF(Presupuesto!#REF!>40,40,Presupuesto!#REF!)","v":{"$error":"#REF!"}},{"$f":"IF(Presupuesto!#REF!>40,40,Presupuesto!#REF!)","v":{"$error":"#REF!"}},{"$f":"IF(Presupuesto!#REF!>40,40,Presupuesto!#REF!)","v":{"$error":"#REF!"}},{"$f":"ROUND(Presupuesto!#REF!*W149,2)","v":{"$error":"#REF!"}},{"$f":"ROUND(Presupuesto!#REF!*X149,2)","v":{"$error":"#REF!"}},{"$f":"ROUND(Presupuesto!#REF!*Y149,2)","v":{"$error":"#REF!"}},{"$f":"Presupuesto!#REF!","v":{"$error":"#REF!"}},{"$f":"SUM(L149:N149)","v":{"$error":"#REF!"}},{"$error":"#REF!"},{"$error":"#REF!"},{"$error":"#REF!"},{"$f":"Presupuesto!#REF!","v":{"$error":"#REF!"}},{"$f":"SUM(Q149:S149)","v":{"$error":"#REF!"}},null,1,1,1]
[{"$f":"Presupuesto!#REF!","v":{"$error":"#REF!"}},null,{"$f":"Presupuesto!#REF!","v":{"$error":"#REF!"}},{"$f":"Presupuesto!#REF!","v":{"$error":"#REF!"}},null,{"$f":"Presupuesto!#REF!","v":{"$error":"#REF!"}},{"$f":"Presupuesto!#REF!","v":{"$error":"#REF!"}},{"$f":"Presupuesto!#REF!","v":{"$error":"#REF!"}},{"$f":"IF(Presupuesto!#REF!>40,40,Presupuesto!#REF!)","v":{"$error":"#REF!"}},{"$f":"IF(Presupuesto!#REF!>40,40,Presupuesto!#REF!)","v":{"$error":"#REF!"}},{"$f":"IF(Presupuesto!#REF!>40,40,Presupuesto!#REF!)","v":{"$error":"#REF!"}},{"$f":"ROUND(Presupuesto!#REF!*W150,2)","v":{"$error":"#REF!"}},{"$f":"ROUND(Presupuesto!#REF!*X150,2)","v":{"$error":"#REF!"}},{"$f":"ROUND(Presupuesto!#REF!*Y150,2)","v":{"$error":"#REF!"}},{"$f":"Presupuesto!#REF!","v":{"$error":"#REF!"}},{"$error":"#REF!"},{"$f":"ROUND(I150*L150,2)","v":{"$error":"#REF!"}},{"$error":"#REF!"},{"$f":"ROUND(K150*N150,2)","v":{"$error":"#REF!"}},{"$f":"Presupuesto!#REF!","v":{"$error":"#REF!"}},{"$error":"#REF!"},null,1,1,1]
[{"$f":"Presupuesto!#REF!","v":{"$error":"#REF!"}},null,{"$f":"Presupuesto!#REF!","v":{"$error":"#REF!"}},{"$f":"Presupuesto!#REF!","v":{"$error":"#REF!"}},null,{"$f":"Presupuesto!#REF!","v":{"$error":"#REF!"}},{"$f":"Presupuesto!#REF!","v":{"$error":"#REF!"}},{"$f":"Presupuesto!#REF!","v":{"$error":"#REF!"}},{"$f":"IF(Presupuesto!#REF!>40,40,Presupuesto!#REF!)","v":{"$error":"#REF!"}},{"$f":"IF(Presupuesto!#REF!>40,40,Presupuesto!#REF!)","v":{"$error":"#REF!"}},{"$f":"IF(Presupuesto!#REF!>40,40,Presupuesto!#REF!)","v":{"$error":"#REF!"}},{"$f":"ROUND(Presupuesto!#REF!*W151,2)","v":{"$error":"#REF!"}},{"$f":"ROUND(Presupuesto!#REF!*X151,2)","v":{"$error":"#REF!"}},{"$f":"ROUND(Presupuesto!#REF!*Y151,2)","v":{"$error":"#REF!"}},{"$f":"Presupuesto!#REF!","v":{"$error":"#REF!"}},{"$error":"#REF!"},{"$error":"#REF!"},{"$error":"#REF!"},{"$error":"#REF!"},{"$f":"Presupuesto!#REF!","v":{"$error":"#REF!"}},{"$error":"#REF!"},null,1,1,1]
[{"$f":"Presupuesto!#REF!","v":{"$error":"#REF!"}},null,{"$f":"Presupuesto!#REF!","v":{"$error":"#REF!"}},{"$f":"Presupuesto!#REF!","v":{"$error":"#REF!"}},null,{"$f":"Presupuesto!#REF!","v":{"$error":"#REF!"}},{"$f":"Presupuesto!#REF!","v":{"$error":"#REF!"}},{"$f":"Presupuesto!#REF!","v":{"$error":"#REF!"}},{"$f":"IF(Presupuesto!#REF!>40,40,Presupuesto!#REF!)","v":{"$error":"#REF!"}},{"$f":"IF(Presupuesto!#REF!>40,40,Presupuesto!#REF!)","v":{"$error":"#REF!"}},{"$f":"IF(Presupuesto!#REF!>40,40,Presupuesto!#REF!)","v":{"$error":"#REF!"}},{"$f":"ROUND(Presupuesto!#REF!*W152,2)","v":{"$error":"#REF!"}},{"$f":"ROUND(Presupuesto!#REF!*X152,2)","v":{"$error":"#REF!"}},{"$f":"ROUND(Presupuesto!#REF!*Y152,2)","v":{"$error":"#REF!"}},{"$f":"Presupuesto!#REF!","v":{"$error":"#REF!"}},{"$error":"#REF!"},{"$error":"#REF!"},{"$error":"#REF!"},{"$error":"#REF!"},{"$f":"Presupuesto!#REF!","v":{"$error":"#REF!"}},{"$error":"#REF!"},null,1,1,1]
[{"$f":"Presupuesto!#REF!","v":{"$error":"#REF!"}},null,{"$f":"Presupuesto!#REF!","v":{"$error":"#REF!"}},{"$f":"Presupuesto!#REF!","v":{"$error":"#REF!"}},null,{"$f":"Presupuesto!#REF!","v":{"$error":"#REF!"}},{"$f":"Presupuesto!#REF!","v":{"$error":"#REF!"}},{"$f":"Presupuesto!#REF!","v":{"$error":"#REF!"}},{"$f":"IF(Presupuesto!#REF!>40,40,Presupuesto!#REF!)","v":{"$error":"#REF!"}},{"$f":"IF(Presupuesto!#REF!>40,40,Presupuesto!#REF!)","v":{"$error":"#REF!"}},{"$f":"IF(Presupuesto!#REF!>40,40,Presupuesto!#REF!)","v":{"$error":"#REF!"}},{"$f":"ROUND(Presupuesto!#REF!*W153,2)","v":{"$error":"#REF!"}},{"$f":"ROUND(Presupuesto!#REF!*X153,2)","v":{"$error":"#REF!"}},{"$f":"ROUND(Presupuesto!#REF!*Y153,2)","v":{"$error":"#REF!"}},{"$f":"Presupuesto!#REF!","v":{"$error":"#REF!"}},{"$error":"#REF!"},{"$error":"#REF!"},{"$error":"#REF!"},{"$error":"#REF!"},{"$f":"Presupuesto!#REF!","v":{"$error":"#REF!"}},{"$error":"#REF!"},null,1,1,1]
[{"$f":"Presupuesto!#REF!","v":{"$error":"#REF!"}},null,{"$f":"Presupuesto!#REF!","v":{"$error":"#REF!"}},{"$f":"Presupuesto!#REF!","v":{"$error":"#REF!"}},null,{"$f":"Presupuesto!#REF!","v":{"$error":"#REF!"}},{"$f":"Presupuesto!#REF!","v":{"$error":"#REF!"}},{"$f":"Presupuesto!#REF!","v":{"$error":"#REF!"}},{"$f":"IF(Presupuesto!#REF!>40,40,Presupuesto!#REF!)","v":{"$error":"#REF!"}},{"$f":"IF(Presupuesto!#REF!>40,40,Presupuesto!#REF!)","v":{"$error":"#REF!"}},{"$f":"IF(Presupuesto!#REF!>40,40,Presupuesto!#REF!)","v":{"$error":"#REF!"}},{"$f":"ROUND(Presupuesto!#REF!*W154,2)","v":{"$error":"#REF!"}},{"$f":"ROUND(Presupuesto!#REF!*X154,2)","v":{"$error":"#REF!"}},{"$f":"ROUND(Presupuesto!#REF!*Y154,2)","v":{"$error":"#REF!"}},{"$f":"Presupuesto!#REF!","v":{"$error":"#REF!"}},{"$error":"#REF!"},{"$error":"#REF!"},{"$error":"#REF!"},{"$error":"#REF!"},{"$f":"Presupuesto!#REF!","v":{"$error":"#REF!"}},{"$error":"#REF!"},null,1,1,1]
[{"$f":"Presupuesto!#REF!","v":{"$error":"#REF!"}},null,{"$f":"Presupuesto!#REF!","v":{"$error":"#REF!"}},{"$f":"Presupuesto!#REF!","v":{"$error":"#REF!"}},null,{"$f":"Presupuesto!#REF!","v":{"$error":"#REF!"}},{"$f":"Presupuesto!#REF!","v":{"$error":"#REF!"}},{"$f":"Presupuesto!#REF!","v":{"$error":"#REF!"}},{"$f":"IF(Presupuesto!#REF!>40,40,Presupuesto!#REF!)","v":{"$error":"#REF!"}},{"$f":"IF(Presupuesto!#REF!>40,40,Presupuesto!#REF!)","v":{"$error":"#REF!"}},{"$f":"IF(Presupuesto!#REF!>40,40,Presupuesto!#REF!)","v":{"$error":"#REF!"}},{"$f":"ROUND(Presupuesto!#REF!*W155,2)","v":{"$error":"#REF!"}},{"$f":"ROUND(Presupuesto!#REF!*X155,2)","v":{"$error":"#REF!"}},{"$f":"ROUND(Presupuesto!#REF!*Y155,2)","v":{"$error":"#REF!"}},{"$f":"Presupuesto!#REF!","v":{"$error":"#REF!"}},{"$error":"#REF!"},{"$error":"#REF!"},{"$error":"#REF!"},{"$error":"#REF!"},{"$f":"Presupuesto!#REF!","v":{"$error":"#REF!"}},{"$error":"#REF!"},null,1,1,1]
[{"$f":"Presupuesto!#REF!","v":{"$error":"#REF!"}},null,{"$f":"Presupuesto!#REF!","v":{"$error":"#REF!"}},{"$f":"Presupuesto!#REF!","v":{"$error":"#REF!"}},null,{"$f":"Presupuesto!#REF!","v":{"$error":"#REF!"}},{"$f":"Presupuesto!#REF!","v":{"$error":"#REF!"}},{"$f":"Presupuesto!#REF!","v":{"$error":"#REF!"}},{"$f":"IF(Presupuesto!#REF!>40,40,Presupuesto!#REF!)","v":{"$error":"#REF!"}},{"$f":"IF(Presupuesto!#REF!>40,40,Presupuesto!#REF!)","v":{"$error":"#REF!"}},{"$f":"IF(Presupuesto!#REF!>40,40,Presupuesto!#REF!)","v":{"$error":"#REF!"}},{"$f":"ROUND(Presupuesto!#REF!*W156,2)","v":{"$error":"#REF!"}},{"$f":"ROUND(Presupuesto!#REF!*X156,2)","v":{"$error":"#REF!"}},{"$f":"ROUND(Presupuesto!#REF!*Y156,2)","v":{"$error":"#REF!"}},{"$f":"Presupuesto!#REF!","v":{"$error":"#REF!"}},{"$error":"#REF!"},{"$error":"#REF!"},{"$error":"#REF!"},{"$error":"#REF!"},{"$f":"Presupuesto!#REF!","v":{"$error":"#REF!"}},{"$error":"#REF!"},null,1,1,1]
[{"$f":"Presupuesto!#REF!","v":{"$error":"#REF!"}},null,{"$f":"Presupuesto!#REF!","v":{"$error":"#REF!"}},{"$f":"Presupuesto!#REF!","v":{"$error":"#REF!"}},null,{"$f":"Presupuesto!#REF!","v":{"$error":"#REF!"}},{"$f":"Presupuesto!#REF!","v":{"$error":"#REF!"}},{"$f":"Presupuesto!#REF!","v":{"$error":"#REF!"}},{"$f":"IF(Presupuesto!#REF!>40,40,Presupuesto!#REF!)","v":{"$error":"#REF!"}},{"$f":"IF(Presupuesto!#REF!>40,40,Presupuesto!#REF!)","v":{"$error":"#REF!"}},{"$f":"IF(Presupuesto!#REF!>40,40,Presupuesto!#REF!)","v":{"$error":"#REF!"}},{"$f":"ROUND(Presupuesto!#REF!*W157,2)","v":{"$error":"#REF!"}},{"$f":"ROUND(Presupuesto!#REF!*X157,2)","v":{"$error":"#REF!"}},{"$f":"ROUND(Presupuesto!#REF!*Y157,2)","v":{"$error":"#REF!"}},{"$f":"Presupuesto!#REF!","v":{"$error":"#REF!"}},{"$error":"#REF!"},{"$error":"#REF!"},{"$error":"#REF!"},{"$error":"#REF!"},{"$f":"Presupuesto!#REF!","v":{"$error":"#REF!"}},{"$error":"#REF!"},null,1,1,1]
[{"$f":"Presupuesto!#REF!","v":{"$error":"#REF!"}},null,{"$f":"Presupuesto!#REF!","v":{"$error":"#REF!"}},{"$f":"Presupuesto!#REF!","v":{"$error":"#REF!"}},null,{"$f":"Presupuesto!#REF!","v":{"$error":"#REF!"}},{"$f":"Presupuesto!#REF!","v":{"$error":"#REF!"}},{"$f":"Presupuesto!#REF!","v":{"$error":"#REF!"}},{"$f":"IF(Presupuesto!#REF!>40,40,Presupuesto!#REF!)","v":{"$error":"#REF!"}},{"$f":"IF(Presupuesto!#REF!>40,40,Presupuesto!#REF!)","v":{"$error":"#REF!"}},{"$f":"IF(Presupuesto!#REF!>40,40,Presupuesto!#REF!)","v":{"$error":"#REF!"}},{"$f":"ROUND(Presupuesto!#REF!*W158,2)","v":{"$error":"#REF!"}},{"$f":"ROUND(Presupuesto!#REF!*X158,2)","v":{"$error":"#REF!"}},{"$f":"ROUND(Presupuesto!#REF!*Y158,2)","v":{"$error":"#REF!"}},{"$f":"Presupuesto!#REF!","v":{"$error":"#REF!"}},{"$error":"#REF!"},{"$error":"#REF!"},{"$error":"#REF!"},{"$error":"#REF!"},{"$f":"Presupuesto!#REF!","v":{"$error":"#REF!"}},{"$error":"#REF!"},null,1,1,1]
[{"$f":"Presupuesto!#REF!","v":{"$error":"#REF!"}},null,{"$f":"Presupuesto!#REF!","v":{"$error":"#REF!"}},{"$f":"Presupuesto!#REF!","v":{"$error":"#REF!"}},null,{"$f":"Presupuesto!#REF!","v":{"$error":"#REF!"}},{"$f":"Presupuesto!#REF!","v":{"$error":"#REF!"}},{"$f":"Presupuesto!#REF!","v":{"$error":"#REF!"}},{"$f":"IF(Presupuesto!#REF!>40,40,Presupuesto!#REF!)","v":{"$error":"#REF!"}},{"$f":"IF(Presupuesto!#REF!>40,40,Presupuesto!#REF!)","v":{"$error":"#REF!"}},{"$f":"IF(Presupuesto!#REF!>40,40,Presupuesto!#REF!)","v":{"$error":"#REF!"}},{"$f":"ROUND(Presupuesto!#REF!*W159,2)","v":{"$error":"#REF!"}},{"$f":"ROUND(Presupuesto!#REF!*X159,2)","v":{"$error":"#REF!"}},{"$f":"ROUND(Presupuesto!#REF!*Y159,2)","v":{"$error":"#REF!"}},{"$f":"Presupuesto!#REF!","v":{"$error":"#REF!"}},{"$error":"#REF!"},{"$error":"#REF!"},{"$error":"#REF!"},{"$error":"#REF!"},{"$f":"Presupuesto!#REF!","v":{"$error":"#REF!"}},{"$error":"#REF!"},null,1,1,1]
[{"$f":"Presupuesto!#REF!","v":{"$error":"#REF!"}},null,{"$f":"Presupuesto!#REF!","v":{"$error":"#REF!"}},{"$f":"Presupuesto!#REF!","v":{"$error":"#REF!"}},null,{"$f":"Presupuesto!#REF!","v":{"$error":"#REF!"}},{"$f":"Presupuesto!#REF!","v":{"$error":"#REF!"}},{"$f":"Presupuesto!#REF!","v":{"$error":"#REF!"}},{"$f":"IF(Presupuesto!#REF!>40,40,Presupuesto!#REF!)","v":{"$error":"#REF!"}},{"$f":"IF(Presupuesto!#REF!>40,40,Presupuesto!#REF!)","v":{"$error":"#REF!"}},{"$f":"IF(Presupuesto!#REF!>40,40,Presupuesto!#REF!)","v":{"$error":"#REF!"}},{"$f":"ROUND(Presupuesto!#REF!*W160,2)","v":{"$error":"#REF!"}},{"$f":"ROUND(Presupuesto!#REF!*X160,2)","v":{"$error":"#REF!"}},{"$f":"ROUND(Presupuesto!#REF!*Y160,2)","v":{"$error":"#REF!"}},{"$f":"Presupuesto!#REF!","v":{"$error":"#REF!"}},{"$error":"#REF!"},{"$error":"#REF!"},{"$error":"#REF!"},{"$error":"#REF!"},{"$f":"Presupuesto!#REF!","v":{"$error":"#REF!"}},{"$error":"#REF!"},null,1,1,1]
[{"$f":"Presupuesto!#REF!","v":{"$error":"#REF!"}},null,{"$f":"Presupuesto!#REF!","v":{"$error":"#REF!"}},{"$f":"Presupuesto!#REF!","v":{"$error":"#REF!"}},null,{"$f":"Presupuesto!#REF!","v":{"$error":"#REF!"}},{"$f":"Presupuesto!#REF!","v":{"$error":"#REF!"}},{"$f":"Presupuesto!#REF!","v":{"$error":"#REF!"}},{"$f":"IF(Presupuesto!#REF!>40,40,Presupuesto!#REF!)","v":{"$error":"#REF!"}},{"$f":"IF(Presupuesto!#REF!>40,40,Presupuesto!#REF!)","v":{"$error":"#REF!"}},{"$f":"IF(Presupuesto!#REF!>40,40,Presupuesto!#REF!)","v":{"$error":"#REF!"}},{"$f":"ROUND(Presupuesto!#REF!*W161,2)","v":{"$error":"#REF!"}},{"$f":"ROUND(Presupuesto!#REF!*X161,2)","v":{"$error":"#REF!"}},{"$f":"ROUND(Presupuesto!#REF!*Y161,2)","v":{"$error":"#REF!"}},{"$f":"Presupuesto!#REF!","v":{"$error":"#REF!"}},{"$error":"#REF!"},{"$error":"#REF!"},{"$error":"#REF!"},{"$error":"#REF!"},{"$f":"Presupuesto!#REF!","v":{"$error":"#REF!"}},{"$error":"#REF!"},null,1,1,1]
[{"$f":"Presupuesto!#REF!","v":{"$error":"#REF!"}},null,{"$f":"Presupuesto!#REF!","v":{"$error":"#REF!"}},{"$f":"Presupuesto!#REF!","v":{"$error":"#REF!"}},null,{"$f":"Presupuesto!#REF!","v":{"$error":"#REF!"}},{"$f":"Presupuesto!#REF!","v":{"$error":"#REF!"}},{"$f":"Presupuesto!#REF!","v":{"$error":"#REF!"}},{"$f":"IF(Presupuesto!#REF!>40,40,Presupuesto!#REF!)","v":{"$error":"#REF!"}},{"$f":"IF(Presupuesto!#REF!>40,40,Presupuesto!#REF!)","v":{"$error":"#REF!"}},{"$f":"IF(Presupuesto!#REF!>40,40,Presupuesto!#REF!)","v":{"$error":"#REF!"}},{"$f":"ROUND(Presupuesto!#REF!*W162,2)","v":{"$error":"#REF!"}},{"$f":"ROUND(Presupuesto!#REF!*X162,2)","v":{"$error":"#REF!"}},{"$f":"ROUND(Presupuesto!#REF!*Y162,2)","v":{"$error":"#REF!"}},{"$f":"Presupuesto!#REF!","v":{"$error":"#REF!"}},{"$error":"#REF!"},{"$error":"#REF!"},{"$error":"#REF!"},{"$error":"#REF!"},{"$f":"Presupuesto!#REF!","v":{"$error":"#REF!"}},{"$error":"#REF!"},null,1,1,1]
[{"$f":"Presupuesto!#REF!","v":{"$error":"#REF!"}},null,{"$f":"Presupuesto!#REF!","v":{"$error":"#REF!"}},{"$f":"Presupuesto!#REF!","v":{"$error":"#REF!"}},null,{"$f":"Presupuesto!#REF!","v":{"$error":"#REF!"}},{"$f":"Presupuesto!#REF!","v":{"$error":"#REF!"}},{"$f":"Presupuesto!#REF!","v":{"$error":"#REF!"}},{"$f":"IF(Presupuesto!#REF!>40,40,Presupuesto!#REF!)","v":{"$error":"#REF!"}},{"$f":"IF(Presupuesto!#REF!>40,40,Presupuesto!#REF!)","v":{"$error":"#REF!"}},{"$f":"IF(Presupuesto!#REF!>40,40,Presupuesto!#REF!)","v":{"$error":"#REF!"}},{"$f":"ROUND(Presupuesto!#REF!*W163,2)","v":{"$error":"#REF!"}},{"$f":"ROUND(Presupuesto!#REF!*X163,2)","v":{"$error":"#REF!"}},{"$f":"ROUND(Presupuesto!#REF!*Y163,2)","v":{"$error":"#REF!"}},{"$f":"Presupuesto!#REF!","v":{"$error":"#REF!"}},{"$error":"#REF!"},{"$error":"#REF!"},{"$error":"#REF!"},{"$error":"#REF!"},{"$f":"Presupuesto!#REF!","v":{"$error":"#REF!"}},{"$error":"#REF!"},null,1,1,1]
[{"$f":"Presupuesto!#REF!","v":{"$error":"#REF!"}},null,{"$f":"Presupuesto!#REF!","v":{"$error":"#REF!"}},{"$f":"Presupuesto!#REF!","v":{"$error":"#REF!"}},null,{"$f":"Presupuesto!#REF!","v":{"$error":"#REF!"}},{"$f":"Presupuesto!#REF!","v":{"$error":"#REF!"}},{"$f":"Presupuesto!#REF!","v":{"$error":"#REF!"}},{"$f":"IF(Presupuesto!#REF!>40,40,Presupuesto!#REF!)","v":{"$error":"#REF!"}},{"$f":"IF(Presupuesto!#REF!>40,40,Presupuesto!#REF!)","v":{"$error":"#REF!"}},{"$f":"IF(Presupuesto!#REF!>40,40,Presupuesto!#REF!)","v":{"$error":"#REF!"}},{"$f":"ROUND(Presupuesto!#REF!*W164,2)","v":{"$error":"#REF!"}},{"$f":"ROUND(Presupuesto!#REF!*X164,2)","v":{"$error":"#REF!"}},{"$f":"ROUND(Presupuesto!#REF!*Y164,2)","v":{"$error":"#REF!"}},{"$f":"Presupuesto!#REF!","v":{"$error":"#REF!"}},{"$error":"#REF!"},{"$error":"#REF!"},{"$error":"#REF!"},{"$error":"#REF!"},{"$f":"Presupuesto!#REF!","v":{"$error":"#REF!"}},{"$error":"#REF!"},null,1,1,1]
[{"$f":"Presupuesto!#REF!","v":{"$error":"#REF!"}},null,{"$f":"Presupuesto!#REF!","v":{"$error":"#REF!"}},{"$f":"Presupuesto!#REF!","v":{"$error":"#REF!"}},null,{"$f":"Presupuesto!#REF!","v":{"$error":"#REF!"}},{"$f":"Presupuesto!#REF!","v":{"$error":"#REF!"}},{"$f":"Presupuesto!#REF!","v":{"$error":"#REF!"}},{"$f":"IF(Presupuesto!#REF!>40,40,Presupuesto!#REF!)","v":{"$error":"#REF!"}},{"$f":"IF(Presupuesto!#REF!>40,40,Presupuesto!#REF!)","v":{"$error":"#REF!"}},{"$f":"IF(Presupuesto!#REF!>40,40,Presupuesto!#REF!)","v":{"$error":"#REF!"}},{"$f":"ROUND(Presupuesto!#REF!*W165,2)","v":{"$error":"#REF!"}},{"$f":"ROUND(Presupuesto!#REF!*X165,2)","v":{"$error":"#REF!"}},{"$f":"ROUND(Presupuesto!#REF!*Y165,2)","v":{"$error":"#REF!"}},{"$f":"Presupuesto!#REF!","v":{"$error":"#REF!"}},{"$error":"#REF!"},{"$error":"#REF!"},{"$error":"#REF!"},{"$error":"#REF!"},{"$f":"Presupuesto!#REF!","v":{"$error":"#REF!"}},{"$error":"#REF!"},null,1,1,1]
[{"$f":"Presupuesto!#REF!","v":{"$error":"#REF!"}},null,{"$f":"Presupuesto!#REF!","v":{"$error":"#REF!"}},{"$f":"Presupuesto!#REF!","v":{"$error":"#REF!"}},null,{"$f":"Presupuesto!#REF!","v":{"$error":"#REF!"}},{"$f":"Presupuesto!#REF!","v":{"$error":"#REF!"}},{"$f":"Presupuesto!#REF!","v":{"$error":"#REF!"}},{"$f":"IF(Presupuesto!#REF!>40,40,Presupuesto!#REF!)","v":{"$error":"#REF!"}},{"$f":"IF(Presupuesto!#REF!>40,40,Presupuesto!#REF!)","v":{"$error":"#REF!"}},{"$f":"IF(Presupuesto!#REF!>40,40,Presupuesto!#REF!)","v":{"$error":"#REF!"}},{"$f":"ROUND(Presupuesto!#REF!*W166,2)","v":{"$error":"#REF!"}},{"$f":"ROUND(Presupuesto!#REF!*X166,2)","v":{"$error":"#REF!"}},{"$f":"ROUND(Presupuesto!#REF!*Y166,2)","v":{"$error":"#REF!"}},{"$f":"Presupuesto!#REF!","v":{"$error":"#REF!"}},{"$error":"#REF!"},{"$error":"#REF!"},{"$error":"#REF!"},{"$error":"#REF!"},{"$f":"Presupuesto!#REF!","v":{"$error":"#REF!"}},{"$error":"#REF!"},null,1,1,1]
[{"$f":"Presupuesto!#REF!","v":{"$error":"#REF!"}},null,{"$f":"Presupuesto!#REF!","v":{"$error":"#REF!"}},{"$f":"Presupuesto!#REF!","v":{"$error":"#REF!"}},null,{"$f":"Presupuesto!#REF!","v":{"$error":"#REF!"}},{"$f":"Presupuesto!#REF!","v":{"$error":"#REF!"}},{"$f":"Presupuesto!#REF!","v":{"$error":"#REF!"}},{"$f":"IF(Presupuesto!#REF!>40,40,Presupuesto!#REF!)","v":{"$error":"#REF!"}},{"$f":"IF(Presupuesto!#REF!>40,40,Presupuesto!#REF!)","v":{"$error":"#REF!"}},{"$f":"IF(Presupuesto!#REF!>40,40,Presupuesto!#REF!)","v":{"$error":"#REF!"}},{"$f":"ROUND(Presupuesto!#REF!*W167,2)","v":{"$error":"#REF!"}},{"$f":"ROUND(Presupuesto!#REF!*X167,2)","v":{"$error":"#REF!"}},{"$f":"ROUND(Presupuesto!#REF!*Y167,2)","v":{"$error":"#REF!"}},{"$f":"Presupuesto!#REF!","v":{"$error":"#REF!"}},{"$error":"#REF!"},{"$error":"#REF!"},{"$error":"#REF!"},{"$error":"#REF!"},{"$f":"Presupuesto!#REF!","v":{"$error":"#REF!"}},{"$error":"#REF!"},null,1,1,1]
[{"$f":"Presupuesto!#REF!","v":{"$error":"#REF!"}},null,{"$f":"Presupuesto!#REF!","v":{"$error":"#REF!"}},{"$f":"Presupuesto!#REF!","v":{"$error":"#REF!"}},null,{"$f":"Presupuesto!#REF!","v":{"$error":"#REF!"}},{"$f":"Presupuesto!#REF!","v":{"$error":"#REF!"}},{"$f":"Presupuesto!#REF!","v":{"$error":"#REF!"}},{"$f":"IF(Presupuesto!#REF!>40,40,Presupuesto!#REF!)","v":{"$error":"#REF!"}},{"$f":"IF(Presupuesto!#REF!>40,40,Presupuesto!#REF!)","v":{"$error":"#REF!"}},{"$f":"IF(Presupuesto!#REF!>40,40,Presupuesto!#REF!)","v":{"$error":"#REF!"}},{"$f":"ROUND(Presupuesto!#REF!*W168,2)","v":{"$error":"#REF!"}},{"$f":"ROUND(Presupuesto!#REF!*X168,2)","v":{"$error":"#REF!"}},{"$f":"ROUND(Presupuesto!#REF!*Y168,2)","v":{"$error":"#REF!"}},{"$f":"Presupuesto!#REF!","v":{"$error":"#REF!"}},{"$error":"#REF!"},{"$error":"#REF!"},{"$error":"#REF!"},{"$error":"#REF!"},{"$f":"Presupuesto!#REF!","v":{"$error":"#REF!"}},{"$error":"#REF!"},null,1,1,1]
[{"$f":"Presupuesto!#REF!","v":{"$error":"#REF!"}},null,{"$f":"Presupuesto!#REF!","v":{"$error":"#REF!"}},{"$f":"Presupuesto!#REF!","v":{"$error":"#REF!"}},null,{"$f":"Presupuesto!#REF!","v":{"$error":"#REF!"}},{"$f":"Presupuesto!#REF!","v":{"$error":"#REF!"}},{"$f":"Presupuesto!#REF!","v":{"$error":"#REF!"}},{"$f":"IF(Presupuesto!#REF!>40,40,Presupuesto!#REF!)","v":{"$error":"#REF!"}},{"$f":"IF(Presupuesto!#REF!>40,40,Presupuesto!#REF!)","v":{"$error":"#REF!"}},{"$f":"IF(Presupuesto!#REF!>40,40,Presupuesto!#REF!)","v":{"$error":"#REF!"}},{"$f":"ROUND(Presupuesto!#REF!*W169,2)","v":{"$error":"#REF!"}},{"$f":"ROUND(Presupuesto!#REF!*X169,2)","v":{"$error":"#REF!"}},{"$f":"ROUND(Presupuesto!#REF!*Y169,2)","v":{"$error":"#REF!"}},{"$f":"Presupuesto!#REF!","v":{"$error":"#REF!"}},{"$error":"#REF!"},{"$error":"#REF!"},{"$error":"#REF!"},{"$error":"#REF!"},{"$f":"Presupuesto!#REF!","v":{"$error":"#REF!"}},{"$error":"#REF!"},null,1,1,1]
[{"$f":"Presupuesto!#REF!","v":{"$error":"#REF!"}},null,{"$f":"Presupuesto!#REF!","v":{"$error":"#REF!"}},{"$f":"Presupuesto!#REF!","v":{"$error":"#REF!"}},null,{"$f":"Presupuesto!#REF!","v":{"$error":"#REF!"}},{"$f":"Presupuesto!#REF!","v":{"$error":"#REF!"}},{"$f":"Presupuesto!#REF!","v":{"$error":"#REF!"}},{"$f":"IF(Presupuesto!#REF!>40,40,Presupuesto!#REF!)","v":{"$error":"#REF!"}},{"$f":"IF(Presupuesto!#REF!>40,40,Presupuesto!#REF!)","v":{"$error":"#REF!"}},{"$f":"IF(Presupuesto!#REF!>40,40,Presupuesto!#REF!)","v":{"$error":"#REF!"}},{"$f":"ROUND(Presupuesto!#REF!*W170,2)","v":{"$error":"#REF!"}},{"$f":"ROUND(Presupuesto!#REF!*X170,2)","v":{"$error":"#REF!"}},{"$f":"ROUND(Presupuesto!#REF!*Y170,2)","v":{"$error":"#REF!"}},{"$f":"Presupuesto!#REF!","v":{"$error":"#REF!"}},{"$error":"#REF!"},{"$error":"#REF!"},{"$error":"#REF!"},{"$error":"#REF!"},{"$f":"Presupuesto!#REF!","v":{"$error":"#REF!"}},{"$error":"#REF!"},null,1,1,1]
[{"$f":"Presupuesto!#REF!","v":{"$error":"#REF!"}},null,{"$f":"Presupuesto!#REF!","v":{"$error":"#REF!"}},{"$f":"Presupuesto!#REF!","v":{"$error":"#REF!"}},null,{"$f":"Presupuesto!#REF!","v":{"$error":"#REF!"}},{"$f":"Presupuesto!#REF!","v":{"$error":"#REF!"}},{"$f":"Presupuesto!#REF!","v":{"$error":"#REF!"}},{"$f":"IF(Presupuesto!#REF!>40,40,Presupuesto!#REF!)","v":{"$error":"#REF!"}},{"$f":"IF(Presupuesto!#REF!>40,40,Presupuesto!#REF!)","v":{"$error":"#REF!"}},{"$f":"IF(Presupuesto!#REF!>40,40,Presupuesto!#REF!)","v":{"$error":"#REF!"}},{"$f":"ROUND(Presupuesto!#REF!*W171,2)","v":{"$error":"#REF!"}},{"$f":"ROUND(Presupuesto!#REF!*X171,2)","v":{"$error":"#REF!"}},{"$f":"ROUND(Presupuesto!#REF!*Y171,2)","v":{"$error":"#REF!"}},{"$f":"Presupuesto!#REF!","v":{"$error":"#REF!"}},{"$error":"#REF!"},{"$error":"#REF!"},{"$error":"#REF!"},{"$error":"#REF!"},{"$f":"Presupuesto!#REF!","v":{"$error":"#REF!"}},{"$error":"#REF!"},null,1,1,1]
[{"$f":"Presupuesto!#REF!","v":{"$error":"#REF!"}},null,{"$f":"Presupuesto!#REF!","v":{"$error":"#REF!"}},{"$f":"Presupuesto!#REF!","v":{"$error":"#REF!"}},null,{"$f":"Presupuesto!#REF!","v":{"$error":"#REF!"}},{"$f":"Presupuesto!#REF!","v":{"$error":"#REF!"}},{"$f":"Presupuesto!#REF!","v":{"$error":"#REF!"}},{"$f":"IF(Presupuesto!#REF!>40,40,Presupuesto!#REF!)","v":{"$error":"#REF!"}},{"$f":"IF(Presupuesto!#REF!>40,40,Presupuesto!#REF!)","v":{"$error":"#REF!"}},{"$f":"IF(Presupuesto!#REF!>40,40,Presupuesto!#REF!)","v":{"$error":"#REF!"}},{"$f":"ROUND(Presupuesto!#REF!*W172,2)","v":{"$error":"#REF!"}},{"$f":"ROUND(Presupuesto!#REF!*X172,2)","v":{"$error":"#REF!"}},{"$f":"ROUND(Presupuesto!#REF!*Y172,2)","v":{"$error":"#REF!"}},{"$f":"Presupuesto!#REF!","v":{"$error":"#REF!"}},{"$error":"#REF!"},{"$error":"#REF!"},{"$error":"#REF!"},{"$error":"#REF!"},{"$f":"Presupuesto!#REF!","v":{"$error":"#REF!"}},{"$error":"#REF!"},null,1,1,1]
[{"$f":"Presupuesto!#REF!","v":{"$error":"#REF!"}},null,{"$f":"Presupuesto!#REF!","v":{"$error":"#REF!"}},{"$f":"Presupuesto!#REF!","v":{"$error":"#REF!"}},null,{"$f":"Presupuesto!#REF!","v":{"$error":"#REF!"}},{"$f":"Presupuesto!#REF!","v":{"$error":"#REF!"}},{"$f":"Presupuesto!#REF!","v":{"$error":"#REF!"}},{"$f":"IF(Presupuesto!#REF!>40,40,Presupuesto!#REF!)","v":{"$error":"#REF!"}},{"$f":"IF(Presupuesto!#REF!>40,40,Presupuesto!#REF!)","v":{"$error":"#REF!"}},{"$f":"IF(Presupuesto!#REF!>40,40,Presupuesto!#REF!)","v":{"$error":"#REF!"}},{"$f":"ROUND(Presupuesto!#REF!*W173,2)","v":{"$error":"#REF!"}},{"$f":"ROUND(Presupuesto!#REF!*X173,2)","v":{"$error":"#REF!"}},{"$f":"ROUND(Presupuesto!#REF!*Y173,2)","v":{"$error":"#REF!"}},{"$f":"Presupuesto!#REF!","v":{"$error":"#REF!"}},{"$error":"#REF!"},{"$error":"#REF!"},{"$error":"#REF!"},{"$error":"#REF!"},{"$f":"Presupuesto!#REF!","v":{"$error":"#REF!"}},{"$error":"#REF!"},null,1,1,1]
[{"$f":"Presupuesto!#REF!","v":{"$error":"#REF!"}},null,{"$f":"Presupuesto!#REF!","v":{"$error":"#REF!"}},{"$f":"Presupuesto!#REF!","v":{"$error":"#REF!"}},null,{"$f":"Presupuesto!#REF!","v":{"$error":"#REF!"}},{"$f":"Presupuesto!#REF!","v":{"$error":"#REF!"}},{"$f":"Presupuesto!#REF!","v":{"$error":"#REF!"}},{"$f":"IF(Presupuesto!#REF!>40,40,Presupuesto!#REF!)","v":{"$error":"#REF!"}},{"$f":"IF(Presupuesto!#REF!>40,40,Presupuesto!#REF!)","v":{"$error":"#REF!"}},{"$f":"IF(Presupuesto!#REF!>40,40,Presupuesto!#REF!)","v":{"$error":"#REF!"}},{"$f":"ROUND(Presupuesto!#REF!*W174,2)","v":{"$error":"#REF!"}},{"$f":"ROUND(Presupuesto!#REF!*X174,2)","v":{"$error":"#REF!"}},{"$f":"ROUND(Presupuesto!#REF!*Y174,2)","v":{"$error":"#REF!"}},{"$f":"Presupuesto!#REF!","v":{"$error":"#REF!"}},{"$error":"#REF!"},{"$error":"#REF!"},{"$error":"#REF!"},{"$error":"#REF!"},{"$f":"Presupuesto!#REF!","v":{"$error":"#REF!"}},{"$error":"#REF!"},null,1,1,1]
[{"$f":"Presupuesto!#REF!","v":{"$error":"#REF!"}},null,{"$f":"Presupuesto!#REF!","v":{"$error":"#REF!"}},{"$f":"Presupuesto!#REF!","v":{"$error":"#REF!"}},null,{"$f":"Presupuesto!#REF!","v":{"$error":"#REF!"}},{"$f":"Presupuesto!#REF!","v":{"$error":"#REF!"}},{"$f":"Presupuesto!#REF!","v":{"$error":"#REF!"}},{"$f":"IF(Presupuesto!#REF!>40,40,Presupuesto!#REF!)","v":{"$error":"#REF!"}},{"$f":"IF(Presupuesto!#REF!>40,40,Presupuesto!#REF!)","v":{"$error":"#REF!"}},{"$f":"IF(Presupuesto!#REF!>40,40,Presupuesto!#REF!)","v":{"$error":"#REF!"}},{"$f":"ROUND(Presupuesto!#REF!*W175,2)","v":{"$error":"#REF!"}},{"$f":"ROUND(Presupuesto!#REF!*X175,2)","v":{"$error":"#REF!"}},{"$f":"ROUND(Presupuesto!#REF!*Y175,2)","v":{"$error":"#REF!"}},{"$f":"Presupuesto!#REF!","v":{"$error":"#REF!"}},{"$error":"#REF!"},{"$error":"#REF!"},{"$error":"#REF!"},{"$error":"#REF!"},{"$f":"Presupuesto!#REF!","v":{"$error":"#REF!"}},{"$error":"#REF!"},null,1,1,1]
[{"$f":"Presupuesto!#REF!","v":{"$error":"#REF!"}},null,{"$f":"Presupuesto!#REF!","v":{"$error":"#REF!"}},{"$f":"Presupuesto!#REF!","v":{"$error":"#REF!"}},null,{"$f":"Presupuesto!#REF!","v":{"$error":"#REF!"}},{"$f":"Presupuesto!#REF!","v":{"$error":"#REF!"}},{"$f":"Presupuesto!#REF!","v":{"$error":"#REF!"}},{"$f":"IF(Presupuesto!#REF!>40,40,Presupuesto!#REF!)","v":{"$error":"#REF!"}},{"$f":"IF(Presupuesto!#REF!>40,40,Presupuesto!#REF!)","v":{"$error":"#REF!"}},{"$f":"IF(Presupuesto!#REF!>40,40,Presupuesto!#REF!)","v":{"$error":"#REF!"}},{"$f":"ROUND(Presupuesto!#REF!*W176,2)","v":{"$error":"#REF!"}},{"$f":"ROUND(Presupuesto!#REF!*X176,2)","v":{"$error":"#REF!"}},{"$f":"ROUND(Presupuesto!#REF!*Y176,2)","v":{"$error":"#REF!"}},{"$f":"Presupuesto!#REF!","v":{"$error":"#REF!"}},{"$error":"#REF!"},{"$error":"#REF!"},{"$error":"#REF!"},{"$error":"#REF!"},{"$f":"Presupuesto!#REF!","v":{"$error":"#REF!"}},{"$error":"#REF!"},null,1,1,1]
[{"$f":"Presupuesto!#REF!","v":{"$error":"#REF!"}},null,{"$f":"Presupuesto!#REF!","v":{"$error":"#REF!"}},{"$f":"Presupuesto!#REF!","v":{"$error":"#REF!"}},null,{"$f":"Presupuesto!#REF!","v":{"$error":"#REF!"}},{"$f":"Presupuesto!#REF!","v":{"$error":"#REF!"}},{"$f":"Presupuesto!#REF!","v":{"$error":"#REF!"}},{"$f":"IF(Presupuesto!#REF!>40,40,Presupuesto!#REF!)","v":{"$error":"#REF!"}},{"$f":"IF(Presupuesto!#REF!>40,40,Presupuesto!#REF!)","v":{"$error":"#REF!"}},{"$f":"IF(Presupuesto!#REF!>40,40,Presupuesto!#REF!)","v":{"$error":"#REF!"}},{"$f":"ROUND(Presupuesto!#REF!*W177,2)","v":{"$error":"#REF!"}},{"$f":"ROUND(Presupuesto!#REF!*X177,2)","v":{"$error":"#REF!"}},{"$f":"ROUND(Presupuesto!#REF!*Y177,2)","v":{"$error":"#REF!"}},{"$f":"Presupuesto!#REF!","v":{"$error":"#REF!"}},{"$error":"#REF!"},{"$error":"#REF!"},{"$error":"#REF!"},{"$error":"#REF!"},{"$f":"Presupuesto!#REF!","v":{"$error":"#REF!"}},{"$error":"#REF!"},null,1,1,1]
[{"$f":"Presupuesto!#REF!","v":{"$error":"#REF!"}},null,{"$f":"Presupuesto!#REF!","v":{"$error":"#REF!"}},{"$f":"Presupuesto!#REF!","v":{"$error":"#REF!"}},null,{"$f":"Presupuesto!#REF!","v":{"$error":"#REF!"}},{"$f":"Presupuesto!#REF!","v":{"$error":"#REF!"}},{"$f":"Presupuesto!#REF!","v":{"$error":"#REF!"}},{"$f":"IF(Presupuesto!#REF!>40,40,Presupuesto!#REF!)","v":{"$error":"#REF!"}},{"$f":"IF(Presupuesto!#REF!>40,40,Presupuesto!#REF!)","v":{"$error":"#REF!"}},{"$f":"IF(Presupuesto!#REF!>40,40,Presupuesto!#REF!)","v":{"$error":"#REF!"}},{"$f":"ROUND(Presupuesto!#REF!*W178,2)","v":{"$error":"#REF!"}},{"$f":"ROUND(Presupuesto!#REF!*X178,2)","v":{"$error":"#REF!"}},{"$f":"ROUND(Presupuesto!#REF!*Y178,2)","v":{"$error":"#REF!"}},{"$f":"Presupuesto!#REF!","v":{"$error":"#REF!"}},{"$error":"#REF!"},{"$error":"#REF!"},{"$error":"#REF!"},{"$error":"#REF!"},{"$f":"Presupuesto!#REF!","v":{"$error":"#REF!"}},{"$error":"#REF!"},null,1,1,1]
[{"$f":"Presupuesto!#REF!","v":{"$error":"#REF!"}},null,{"$f":"Presupuesto!#REF!","v":{"$error":"#REF!"}},{"$f":"Presupuesto!#REF!","v":{"$error":"#REF!"}},null,{"$f":"Presupuesto!#REF!","v":{"$error":"#REF!"}},{"$f":"Presupuesto!#REF!","v":{"$error":"#REF!"}},{"$f":"Presupuesto!#REF!","v":{"$error":"#REF!"}},{"$f":"IF(Presupuesto!#REF!>40,40,Presupuesto!#REF!)","v":{"$error":"#REF!"}},{"$f":"IF(Presupuesto!#REF!>40,40,Presupuesto!#REF!)","v":{"$error":"#REF!"}},{"$f":"IF(Presupuesto!#REF!>40,40,Presupuesto!#REF!)","v":{"$error":"#REF!"}},{"$f":"ROUND(Presupuesto!#REF!*W179,2)","v":{"$error":"#REF!"}},{"$f":"ROUND(Presupuesto!#REF!*X179,2)","v":{"$error":"#REF!"}},{"$f":"ROUND(Presupuesto!#REF!*Y179,2)","v":{"$error":"#REF!"}},{"$f":"Presupuesto!#REF!","v":{"$error":"#REF!"}},{"$error":"#REF!"},{"$error":"#REF!"},{"$error":"#REF!"},{"$error":"#REF!"},{"$f":"Presupuesto!#REF!","v":{"$error":"#REF!"}},{"$error":"#REF!"},null,1,1,1]
[{"$f":"Presupuesto!#REF!","v":{"$error":"#REF!"}},null,{"$f":"Presupuesto!#REF!","v":{"$error":"#REF!"}},{"$f":"Presupuesto!#REF!","v":{"$error":"#REF!"}},null,{"$f":"Presupuesto!#REF!","v":{"$error":"#REF!"}},{"$f":"Presupuesto!#REF!","v":{"$error":"#REF!"}},{"$f":"Presupuesto!#REF!","v":{"$error":"#REF!"}},{"$f":"IF(Presupuesto!#REF!>40,40,Presupuesto!#REF!)","v":{"$error":"#REF!"}},{"$f":"IF(Presupuesto!#REF!>40,40,Presupuesto!#REF!)","v":{"$error":"#REF!"}},{"$f":"IF(Presupuesto!#REF!>40,40,Presupuesto!#REF!)","v":{"$error":"#REF!"}},{"$f":"ROUND(Presupuesto!#REF!*W180,2)","v":{"$error":"#REF!"}},{"$f":"ROUND(Presupuesto!#REF!*X180,2)","v":{"$error":"#REF!"}},{"$f":"ROUND(Presupuesto!#REF!*Y180,2)","v":{"$error":"#REF!"}},{"$f":"Presupuesto!#REF!","v":{"$error":"#REF!"}},{"$error":"#REF!"},{"$error":"#REF!"},{"$error":"#REF!"},{"$error":"#REF!"},{"$f":"Presupuesto!#REF!","v":{"$error":"#REF!"}},{"$error":"#REF!"},null,1,1,1]
[{"$f":"Presupuesto!#REF!","v":{"$error":"#REF!"}},null,{"$f":"Presupuesto!#REF!","v":{"$error":"#REF!"}},{"$f":"Presupuesto!#REF!","v":{"$error":"#REF!"}},null,{"$f":"Presupuesto!#REF!","v":{"$error":"#REF!"}},{"$f":"Presupuesto!#REF!","v":{"$error":"#REF!"}},{"$f":"Presupuesto!#REF!","v":{"$error":"#REF!"}},{"$f":"IF(Presupuesto!#REF!>40,40,Presupuesto!#REF!)","v":{"$error":"#REF!"}},{"$f":"IF(Presupuesto!#REF!>40,40,Presupuesto!#REF!)","v":{"$error":"#REF!"}},{"$f":"IF(Presupuesto!#REF!>40,40,Presupuesto!#REF!)","v":{"$error":"#REF!"}},{"$f":"ROUND(Presupuesto!#REF!*W181,2)","v":{"$error":"#REF!"}},{"$f":"ROUND(Presupuesto!#REF!*X181,2)","v":{"$error":"#REF!"}},{"$f":"ROUND(Presupuesto!#REF!*Y181,2)","v":{"$error":"#REF!"}},{"$f":"Presupuesto!#REF!","v":{"$error":"#REF!"}},{"$f":"SUM(L181:N181)","v":{"$error":"#REF!"}},{"$error":"#REF!"},{"$error":"#REF!"},{"$error":"#REF!"},{"$f":"Presupuesto!#REF!","v":{"$error":"#REF!"}},{"$f":"SUM(Q181:S181)","v":{"$error":"#REF!"}},null,1,1,1]
[{"$f":"Presupuesto!#REF!","v":{"$error":"#REF!"}},null,{"$f":"Presupuesto!#REF!","v":{"$error":"#REF!"}},{"$f":"Presupuesto!#REF!","v":{"$error":"#REF!"}},null,{"$f":"Presupuesto!#REF!","v":{"$error":"#REF!"}},{"$f":"Presupuesto!#REF!","v":{"$error":"#REF!"}},{"$f":"Presupuesto!#REF!","v":{"$error":"#REF!"}},{"$f":"IF(Presupuesto!#REF!>40,40,Presupuesto!#REF!)","v":{"$error":"#REF!"}},{"$f":"IF(Presupuesto!#REF!>40,40,Presupuesto!#REF!)","v":{"$error":"#REF!"}},{"$f":"IF(Presupuesto!#REF!>40,40,Presupuesto!#REF!)","v":{"$error":"#REF!"}},{"$f":"ROUND(Presupuesto!#REF!*W182,2)","v":{"$error":"#REF!"}},{"$f":"ROUND(Presupuesto!#REF!*X182,2)","v":{"$error":"#REF!"}},{"$f":"ROUND(Presupuesto!#REF!*Y182,2)","v":{"$error":"#REF!"}},{"$f":"Presupuesto!#REF!","v":{"$error":"#REF!"}},{"$error":"#REF!"},{"$f":"ROUND(I182*L182,2)","v":{"$error":"#REF!"}},{"$f":"ROUND(J182*M182,2)","v":{"$error":"#REF!"}},{"$f":"ROUND(K182*N182,2)","v":{"$error":"#REF!"}},{"$f":"Presupuesto!#REF!","v":{"$error":"#REF!"}},{"$error":"#REF!"},null,1,1,1]
[{"$f":"Presupuesto!#REF!","v":{"$error":"#REF!"}},null,{"$f":"Presupuesto!#REF!","v":{"$error":"#REF!"}},{"$f":"Presupuesto!#REF!","v":{"$error":"#REF!"}},null,{"$f":"Presupuesto!#REF!","v":{"$error":"#REF!"}},{"$f":"Presupuesto!#REF!","v":{"$error":"#REF!"}},{"$f":"Presupuesto!#REF!","v":{"$error":"#REF!"}},{"$f":"IF(Presupuesto!#REF!>40,40,Presupuesto!#REF!)","v":{"$error":"#REF!"}},{"$f":"IF(Presupuesto!#REF!>40,40,Presupuesto!#REF!)","v":{"$error":"#REF!"}},{"$f":"IF(Presupuesto!#REF!>40,40,Presupuesto!#REF!)","v":{"$error":"#REF!"}},{"$f":"ROUND(Presupuesto!#REF!*W183,2)","v":{"$error":"#REF!"}},{"$f":"ROUND(Presupuesto!#REF!*X183,2)","v":{"$error":"#REF!"}},{"$f":"ROUND(Presupuesto!#REF!*Y183,2)","v":{"$error":"#REF!"}},{"$f":"Presupuesto!#REF!","v":{"$error":"#REF!"}},{"$error":"#REF!"},{"$error":"#REF!"},{"$error":"#REF!"},{"$error":"#REF!"},{"$f":"Presupuesto!#REF!","v":{"$error":"#REF!"}},{"$error":"#REF!"},null,1,1,1]
[{"$f":"Presupuesto!#REF!","v":{"$error":"#REF!"}},null,{"$f":"Presupuesto!#REF!","v":{"$error":"#REF!"}},{"$f":"Presupuesto!#REF!","v":{"$error":"#REF!"}},null,{"$f":"Presupuesto!#REF!","v":{"$error":"#REF!"}},{"$f":"Presupuesto!#REF!","v":{"$error":"#REF!"}},{"$f":"Presupuesto!#REF!","v":{"$error":"#REF!"}},{"$f":"IF(Presupuesto!#REF!>40,40,Presupuesto!#REF!)","v":{"$error":"#REF!"}},{"$f":"IF(Presupuesto!#REF!>40,40,Presupuesto!#REF!)","v":{"$error":"#REF!"}},{"$f":"IF(Presupuesto!#REF!>40,40,Presupuesto!#REF!)","v":{"$error":"#REF!"}},{"$f":"ROUND(Presupuesto!#REF!*W184,2)","v":{"$error":"#REF!"}},{"$f":"ROUND(Presupuesto!#REF!*X184,2)","v":{"$error":"#REF!"}},{"$f":"ROUND(Presupuesto!#REF!*Y184,2)","v":{"$error":"#REF!"}},{"$f":"Presupuesto!#REF!","v":{"$error":"#REF!"}},{"$error":"#REF!"},{"$error":"#REF!"},{"$error":"#REF!"},{"$error":"#REF!"},{"$f":"Presupuesto!#REF!","v":{"$error":"#REF!"}},{"$error":"#REF!"},null,1,1,1]
[{"$f":"Presupuesto!#REF!","v":{"$error":"#REF!"}},null,{"$f":"Presupuesto!#REF!","v":{"$error":"#REF!"}},{"$f":"Presupuesto!#REF!","v":{"$error":"#REF!"}},null,{"$f":"Presupuesto!#REF!","v":{"$error":"#REF!"}},{"$f":"Presupuesto!#REF!","v":{"$error":"#REF!"}},{"$f":"Presupuesto!#REF!","v":{"$error":"#REF!"}},{"$f":"IF(Presupuesto!#REF!>40,40,Presupuesto!#REF!)","v":{"$error":"#REF!"}},{"$f":"IF(Presupuesto!#REF!>40,40,Presupuesto!#REF!)","v":{"$error":"#REF!"}},{"$f":"IF(Presupuesto!#REF!>40,40,Presupuesto!#REF!)","v":{"$error":"#REF!"}},{"$f":"ROUND(Presupuesto!#REF!*W185,2)","v":{"$error":"#REF!"}},{"$f":"ROUND(Presupuesto!#REF!*X185,2)","v":{"$error":"#REF!"}},{"$f":"ROUND(Presupuesto!#REF!*Y185,2)","v":{"$error":"#REF!"}},{"$f":"Presupuesto!#REF!","v":{"$error":"#REF!"}},{"$error":"#REF!"},{"$error":"#REF!"},{"$error":"#REF!"},{"$error":"#REF!"},{"$f":"Presupuesto!#REF!","v":{"$error":"#REF!"}},{"$error":"#REF!"},null,1,1,1]
[{"$f":"Presupuesto!#REF!","v":{"$error":"#REF!"}},null,{"$f":"Presupuesto!#REF!","v":{"$error":"#REF!"}},{"$f":"Presupuesto!#REF!","v":{"$error":"#REF!"}},null,{"$f":"Presupuesto!#REF!","v":{"$error":"#REF!"}},{"$f":"Presupuesto!#REF!","v":{"$error":"#REF!"}},{"$f":"Presupuesto!#REF!","v":{"$error":"#REF!"}},{"$f":"IF(Presupuesto!#REF!>40,40,Presupuesto!#REF!)","v":{"$error":"#REF!"}},{"$f":"IF(Presupuesto!#REF!>40,40,Presupuesto!#REF!)","v":{"$error":"#REF!"}},{"$f":"IF(Presupuesto!#REF!>40,40,Presupuesto!#REF!)","v":{"$error":"#REF!"}},{"$f":"ROUND(Presupuesto!#REF!*W186,2)","v":{"$error":"#REF!"}},{"$f":"ROUND(Presupuesto!#REF!*X186,2)","v":{"$error":"#REF!"}},{"$f":"ROUND(Presupuesto!#REF!*Y186,2)","v":{"$error":"#REF!"}},{"$f":"Presupuesto!#REF!","v":{"$error":"#REF!"}},{"$error":"#REF!"},{"$error":"#REF!"},{"$error":"#REF!"},{"$error":"#REF!"},{"$f":"Presupuesto!#REF!","v":{"$error":"#REF!"}},{"$error":"#REF!"},null,1,1,1]
[{"$f":"Presupuesto!#REF!","v":{"$error":"#REF!"}},null,{"$f":"Presupuesto!#REF!","v":{"$error":"#REF!"}},{"$f":"Presupuesto!#REF!","v":{"$error":"#REF!"}},null,{"$f":"Presupuesto!#REF!","v":{"$error":"#REF!"}},{"$f":"Presupuesto!#REF!","v":{"$error":"#REF!"}},{"$f":"Presupuesto!#REF!","v":{"$error":"#REF!"}},{"$f":"IF(Presupuesto!#REF!>40,40,Presupuesto!#REF!)","v":{"$error":"#REF!"}},{"$f":"IF(Presupuesto!#REF!>40,40,Presupuesto!#REF!)","v":{"$error":"#REF!"}},{"$f":"IF(Presupuesto!#REF!>40,40,Presupuesto!#REF!)","v":{"$error":"#REF!"}},{"$f":"ROUND(Presupuesto!#REF!*W187,2)","v":{"$error":"#REF!"}},{"$f":"ROUND(Presupuesto!#REF!*X187,2)","v":{"$error":"#REF!"}},{"$f":"ROUND(Presupuesto!#REF!*Y187,2)","v":{"$error":"#REF!"}},{"$f":"Presupuesto!#REF!","v":{"$error":"#REF!"}},{"$error":"#REF!"},{"$error":"#REF!"},{"$error":"#REF!"},{"$error":"#REF!"},{"$f":"Presupuesto!#REF!","v":{"$error":"#REF!"}},{"$error":"#REF!"},null,1,1,1]
[{"$f":"Presupuesto!#REF!","v":{"$error":"#REF!"}},null,{"$f":"Presupuesto!#REF!","v":{"$error":"#REF!"}},{"$f":"Presupuesto!#REF!","v":{"$error":"#REF!"}},null,{"$f":"Presupuesto!#REF!","v":{"$error":"#REF!"}},{"$f":"Presupuesto!#REF!","v":{"$error":"#REF!"}},{"$f":"Presupuesto!#REF!","v":{"$error":"#REF!"}},{"$f":"IF(Presupuesto!#REF!>40,40,Presupuesto!#REF!)","v":{"$error":"#REF!"}},{"$f":"IF(Presupuesto!#REF!>40,40,Presupuesto!#REF!)","v":{"$error":"#REF!"}},{"$f":"IF(Presupuesto!#REF!>40,40,Presupuesto!#REF!)","v":{"$error":"#REF!"}},{"$f":"ROUND(Presupuesto!#REF!*W188,2)","v":{"$error":"#REF!"}},{"$f":"ROUND(Presupuesto!#REF!*X188,2)","v":{"$error":"#REF!"}},{"$f":"ROUND(Presupuesto!#REF!*Y188,2)","v":{"$error":"#REF!"}},{"$f":"Presupuesto!#REF!","v":{"$error":"#REF!"}},{"$error":"#REF!"},{"$error":"#REF!"},{"$error":"#REF!"},{"$error":"#REF!"},{"$f":"Presupuesto!#REF!","v":{"$error":"#REF!"}},{"$error":"#REF!"},null,1,1,1]
[{"$f":"Presupuesto!#REF!","v":{"$error":"#REF!"}},null,{"$f":"Presupuesto!#REF!","v":{"$error":"#REF!"}},{"$f":"Presupuesto!#REF!","v":{"$error":"#REF!"}},null,{"$f":"Presupuesto!#REF!","v":{"$error":"#REF!"}},{"$f":"Presupuesto!#REF!","v":{"$error":"#REF!"}},{"$f":"Presupuesto!#REF!","v":{"$error":"#REF!"}},{"$f":"IF(Presupuesto!#REF!>40,40,Presupuesto!#REF!)","v":{"$error":"#REF!"}},{"$f":"IF(Presupuesto!#REF!>40,40,Presupuesto!#REF!)","v":{"$error":"#REF!"}},{"$f":"IF(Presupuesto!#REF!>40,40,Presupuesto!#REF!)","v":{"$error":"#REF!"}},{"$f":"ROUND(Presupuesto!#REF!*W189,2)","v":{"$error":"#REF!"}},{"$f":"ROUND(Presupuesto!#REF!*X189,2)","v":{"$error":"#REF!"}},{"$f":"ROUND(Presupuesto!#REF!*Y189,2)","v":{"$error":"#REF!"}},{"$f":"Presupuesto!#REF!","v":{"$error":"#REF!"}},{"$error":"#REF!"},{"$error":"#REF!"},{"$error":"#REF!"},{"$error":"#REF!"},{"$f":"Presupuesto!#REF!","v":{"$error":"#REF!"}},{"$error":"#REF!"},null,1,1,1]
[{"$f":"Presupuesto!#REF!","v":{"$error":"#REF!"}},null,{"$f":"Presupuesto!#REF!","v":{"$error":"#REF!"}},{"$f":"Presupuesto!#REF!","v":{"$error":"#REF!"}},null,{"$f":"Presupuesto!#REF!","v":{"$error":"#REF!"}},{"$f":"Presupuesto!#REF!","v":{"$error":"#REF!"}},{"$f":"Presupuesto!#REF!","v":{"$error":"#REF!"}},{"$f":"IF(Presupuesto!#REF!>40,40,Presupuesto!#REF!)","v":{"$error":"#REF!"}},{"$f":"IF(Presupuesto!#REF!>40,40,Presupuesto!#REF!)","v":{"$error":"#REF!"}},{"$f":"IF(Presupuesto!#REF!>40,40,Presupuesto!#REF!)","v":{"$error":"#REF!"}},{"$f":"ROUND(Presupuesto!#REF!*W190,2)","v":{"$error":"#REF!"}},{"$f":"ROUND(Presupuesto!#REF!*X190,2)","v":{"$error":"#REF!"}},{"$f":"ROUND(Presupuesto!#REF!*Y190,2)","v":{"$error":"#REF!"}},{"$f":"Presupuesto!#REF!","v":{"$error":"#REF!"}},{"$error":"#REF!"},{"$error":"#REF!"},{"$error":"#REF!"},{"$error":"#REF!"},{"$f":"Presupuesto!#REF!","v":{"$error":"#REF!"}},{"$error":"#REF!"},null,1,1,1]
[{"$f":"Presupuesto!#REF!","v":{"$error":"#REF!"}},null,{"$f":"Presupuesto!#REF!","v":{"$error":"#REF!"}},{"$f":"Presupuesto!#REF!","v":{"$error":"#REF!"}},null,{"$f":"Presupuesto!#REF!","v":{"$error":"#REF!"}},{"$f":"Presupuesto!#REF!","v":{"$error":"#REF!"}},{"$f":"Presupuesto!#REF!","v":{"$error":"#REF!"}},{"$f":"IF(Presupuesto!#REF!>40,40,Presupuesto!#REF!)","v":{"$error":"#REF!"}},{"$f":"IF(Presupuesto!#REF!>40,40,Presupuesto!#REF!)","v":{"$error":"#REF!"}},{"$f":"IF(Presupuesto!#REF!>40,40,Presupuesto!#REF!)","v":{"$error":"#REF!"}},{"$f":"ROUND(Presupuesto!#REF!*W191,2)","v":{"$error":"#REF!"}},{"$f":"ROUND(Presupuesto!#REF!*X191,2)","v":{"$error":"#REF!"}},{"$f":"ROUND(Presupuesto!#REF!*Y191,2)","v":{"$error":"#REF!"}},{"$f":"Presupuesto!#REF!","v":{"$error":"#REF!"}},{"$error":"#REF!"},{"$error":"#REF!"},{"$error":"#REF!"},{"$error":"#REF!"},{"$f":"Presupuesto!#REF!","v":{"$error":"#REF!"}},{"$error":"#REF!"},null,1,1,1]
[{"$f":"Presupuesto!#REF!","v":{"$error":"#REF!"}},null,{"$f":"Presupuesto!#REF!","v":{"$error":"#REF!"}},{"$f":"Presupuesto!#REF!","v":{"$error":"#REF!"}},null,{"$f":"Presupuesto!#REF!","v":{"$error":"#REF!"}},{"$f":"Presupuesto!#REF!","v":{"$error":"#REF!"}},{"$f":"Presupuesto!#REF!","v":{"$error":"#REF!"}},{"$f":"IF(Presupuesto!#REF!>40,40,Presupuesto!#REF!)","v":{"$error":"#REF!"}},{"$f":"IF(Presupuesto!#REF!>40,40,Presupuesto!#REF!)","v":{"$error":"#REF!"}},{"$f":"IF(Presupuesto!#REF!>40,40,Presupuesto!#REF!)","v":{"$error":"#REF!"}},{"$f":"ROUND(Presupuesto!#REF!*W192,2)","v":{"$error":"#REF!"}},{"$f":"ROUND(Presupuesto!#REF!*X192,2)","v":{"$error":"#REF!"}},{"$f":"ROUND(Presupuesto!#REF!*Y192,2)","v":{"$error":"#REF!"}},{"$f":"Presupuesto!#REF!","v":{"$error":"#REF!"}},{"$error":"#REF!"},{"$error":"#REF!"},{"$error":"#REF!"},{"$error":"#REF!"},{"$f":"Presupuesto!#REF!","v":{"$error":"#REF!"}},{"$error":"#REF!"},null,1,1,1]
[{"$f":"Presupuesto!#REF!","v":{"$error":"#REF!"}},null,{"$f":"Presupuesto!#REF!","v":{"$error":"#REF!"}},{"$f":"Presupuesto!#REF!","v":{"$error":"#REF!"}},null,{"$f":"Presupuesto!#REF!","v":{"$error":"#REF!"}},{"$f":"Presupuesto!#REF!","v":{"$error":"#REF!"}},{"$f":"Presupuesto!#REF!","v":{"$error":"#REF!"}},{"$f":"IF(Presupuesto!#REF!>40,40,Presupuesto!#REF!)","v":{"$error":"#REF!"}},{"$f":"IF(Presupuesto!#REF!>40,40,Presupuesto!#REF!)","v":{"$error":"#REF!"}},{"$f":"IF(Presupuesto!#REF!>40,40,Presupuesto!#REF!)","v":{"$error":"#REF!"}},{"$f":"ROUND(Presupuesto!#REF!*W193,2)","v":{"$error":"#REF!"}},{"$f":"ROUND(Presupuesto!#REF!*X193,2)","v":{"$error":"#REF!"}},{"$f":"ROUND(Presupuesto!#REF!*Y193,2)","v":{"$error":"#REF!"}},{"$f":"Presupuesto!#REF!","v":{"$error":"#REF!"}},{"$error":"#REF!"},{"$error":"#REF!"},{"$error":"#REF!"},{"$error":"#REF!"},{"$f":"Presupuesto!#REF!","v":{"$error":"#REF!"}},{"$error":"#REF!"},null,1,1,1]
[{"$f":"Presupuesto!#REF!","v":{"$error":"#REF!"}},null,{"$f":"Presupuesto!#REF!","v":{"$error":"#REF!"}},{"$f":"Presupuesto!#REF!","v":{"$error":"#REF!"}},null,{"$f":"Presupuesto!#REF!","v":{"$error":"#REF!"}},{"$f":"Presupuesto!#REF!","v":{"$error":"#REF!"}},{"$f":"Presupuesto!#REF!","v":{"$error":"#REF!"}},{"$f":"IF(Presupuesto!#REF!>40,40,Presupuesto!#REF!)","v":{"$error":"#REF!"}},{"$f":"IF(Presupuesto!#REF!>40,40,Presupuesto!#REF!)","v":{"$error":"#REF!"}},{"$f":"IF(Presupuesto!#REF!>40,40,Presupuesto!#REF!)","v":{"$error":"#REF!"}},{"$f":"ROUND(Presupuesto!#REF!*W194,2)","v":{"$error":"#REF!"}},{"$f":"ROUND(Presupuesto!#REF!*X194,2)","v":{"$error":"#REF!"}},{"$f":"ROUND(Presupuesto!#REF!*Y194,2)","v":{"$error":"#REF!"}},{"$f":"Presupuesto!#REF!","v":{"$error":"#REF!"}},{"$error":"#REF!"},{"$error":"#REF!"},{"$error":"#REF!"},{"$error":"#REF!"},{"$f":"Presupuesto!#REF!","v":{"$error":"#REF!"}},{"$error":"#REF!"},null,1,1,1]
[{"$f":"Presupuesto!#REF!","v":{"$error":"#REF!"}},null,{"$f":"Presupuesto!#REF!","v":{"$error":"#REF!"}},{"$f":"Presupuesto!#REF!","v":{"$error":"#REF!"}},null,{"$f":"Presupuesto!#REF!","v":{"$error":"#REF!"}},{"$f":"Presupuesto!#REF!","v":{"$error":"#REF!"}},{"$f":"Presupuesto!#REF!","v":{"$error":"#REF!"}},{"$f":"IF(Presupuesto!#REF!>40,40,Presupuesto!#REF!)","v":{"$error":"#REF!"}},{"$f":"IF(Presupuesto!#REF!>40,40,Presupuesto!#REF!)","v":{"$error":"#REF!"}},{"$f":"IF(Presupuesto!#REF!>40,40,Presupuesto!#REF!)","v":{"$error":"#REF!"}},{"$f":"ROUND(Presupuesto!#REF!*W195,2)","v":{"$error":"#REF!"}},{"$f":"ROUND(Presupuesto!#REF!*X195,2)","v":{"$error":"#REF!"}},{"$f":"ROUND(Presupuesto!#REF!*Y195,2)","v":{"$error":"#REF!"}},{"$f":"Presupuesto!#REF!","v":{"$error":"#REF!"}},{"$error":"#REF!"},{"$error":"#REF!"},{"$error":"#REF!"},{"$error":"#REF!"},{"$f":"Presupuesto!#REF!","v":{"$error":"#REF!"}},{"$error":"#REF!"},null,1,1,1]
[{"$f":"Presupuesto!#REF!","v":{"$error":"#REF!"}},null,{"$f":"Presupuesto!#REF!","v":{"$error":"#REF!"}},{"$f":"Presupuesto!#REF!","v":{"$error":"#REF!"}},null,{"$f":"Presupuesto!#REF!","v":{"$error":"#REF!"}},{"$f":"Presupuesto!#REF!","v":{"$error":"#REF!"}},{"$f":"Presupuesto!#REF!","v":{"$error":"#REF!"}},{"$f":"IF(Presupuesto!#REF!>40,40,Presupuesto!#REF!)","v":{"$error":"#REF!"}},{"$f":"IF(Presupuesto!#REF!>40,40,Presupuesto!#REF!)","v":{"$error":"#REF!"}},{"$f":"IF(Presupuesto!#REF!>40,40,Presupuesto!#REF!)","v":{"$error":"#REF!"}},{"$f":"ROUND(Presupuesto!#REF!*W196,2)","v":{"$error":"#REF!"}},{"$f":"ROUND(Presupuesto!#REF!*X196,2)","v":{"$error":"#REF!"}},{"$f":"ROUND(Presupuesto!#REF!*Y196,2)","v":{"$error":"#REF!"}},{"$f":"Presupuesto!#REF!","v":{"$error":"#REF!"}},{"$error":"#REF!"},{"$error":"#REF!"},{"$error":"#REF!"},{"$error":"#REF!"},{"$f":"Presupuesto!#REF!","v":{"$error":"#REF!"}},{"$error":"#REF!"},null,1,1,1]
[{"$f":"Presupuesto!#REF!","v":{"$error":"#REF!"}},null,{"$f":"Presupuesto!#REF!","v":{"$error":"#REF!"}},{"$f":"Presupuesto!#REF!","v":{"$error":"#REF!"}},null,{"$f":"Presupuesto!#REF!","v":{"$error":"#REF!"}},{"$f":"Presupuesto!#REF!","v":{"$error":"#REF!"}},{"$f":"Presupuesto!#REF!","v":{"$error":"#REF!"}},{"$f":"IF(Presupuesto!#REF!>40,40,Presupuesto!#REF!)","v":{"$error":"#REF!"}},{"$f":"IF(Presupuesto!#REF!>40,40,Presupuesto!#REF!)","v":{"$error":"#REF!"}},{"$f":"IF(Presupuesto!#REF!>40,40,Presupuesto!#REF!)","v":{"$error":"#REF!"}},{"$f":"ROUND(Presupuesto!#REF!*W197,2)","v":{"$error":"#REF!"}},{"$f":"ROUND(Presupuesto!#REF!*X197,2)","v":{"$error":"#REF!"}},{"$f":"ROUND(Presupuesto!#REF!*Y197,2)","v":{"$error":"#REF!"}},{"$f":"Presupuesto!#REF!","v":{"$error":"#REF!"}},{"$error":"#REF!"},{"$error":"#REF!"},{"$error":"#REF!"},{"$error":"#REF!"},{"$f":"Presupuesto!#REF!","v":{"$error":"#REF!"}},{"$error":"#REF!"},null,1,1,1]
[{"$f":"Presupuesto!#REF!","v":{"$error":"#REF!"}},null,{"$f":"Presupuesto!#REF!","v":{"$error":"#REF!"}},{"$f":"Presupuesto!#REF!","v":{"$error":"#REF!"}},null,{"$f":"Presupuesto!#REF!","v":{"$error":"#REF!"}},{"$f":"Presupuesto!#REF!","v":{"$error":"#REF!"}},{"$f":"Presupuesto!#REF!","v":{"$error":"#REF!"}},{"$f":"IF(Presupuesto!#REF!>40,40,Presupuesto!#REF!)","v":{"$error":"#REF!"}},{"$f":"IF(Presupuesto!#REF!>40,40,Presupuesto!#REF!)","v":{"$error":"#REF!"}},{"$f":"IF(Presupuesto!#REF!>40,40,Presupuesto!#REF!)","v":{"$error":"#REF!"}},{"$f":"ROUND(Presupuesto!#REF!*W198,2)","v":{"$error":"#REF!"}},{"$f":"ROUND(Presupuesto!#REF!*X198,2)","v":{"$error":"#REF!"}},{"$f":"ROUND(Presupuesto!#REF!*Y198,2)","v":{"$error":"#REF!"}},{"$f":"Presupuesto!#REF!","v":{"$error":"#REF!"}},{"$error":"#REF!"},{"$error":"#REF!"},{"$error":"#REF!"},{"$error":"#REF!"},{"$f":"Presupuesto!#REF!","v":{"$error":"#REF!"}},{"$error":"#REF!"},null,1,1,1]
[{"$f":"Presupuesto!#REF!","v":{"$error":"#REF!"}},null,{"$f":"Presupuesto!#REF!","v":{"$error":"#REF!"}},{"$f":"Presupuesto!#REF!","v":{"$error":"#REF!"}},null,{"$f":"Presupuesto!#REF!","v":{"$error":"#REF!"}},{"$f":"Presupuesto!#REF!","v":{"$error":"#REF!"}},{"$f":"Presupuesto!#REF!","v":{"$error":"#REF!"}},{"$f":"IF(Presupuesto!#REF!>40,40,Presupuesto!#REF!)","v":{"$error":"#REF!"}},{"$f":"IF(Presupuesto!#REF!>40,40,Presupuesto!#REF!)","v":{"$error":"#REF!"}},{"$f":"IF(Presupuesto!#REF!>40,40,Presupuesto!#REF!)","v":{"$error":"#REF!"}},{"$f":"ROUND(Presupuesto!#REF!*W199,2)","v":{"$error":"#REF!"}},{"$f":"ROUND(Presupuesto!#REF!*X199,2)","v":{"$error":"#REF!"}},{"$f":"ROUND(Presupuesto!#REF!*Y199,2)","v":{"$error":"#REF!"}},{"$f":"Presupuesto!#REF!","v":{"$error":"#REF!"}},{"$error":"#REF!"},{"$error":"#REF!"},{"$error":"#REF!"},{"$error":"#REF!"},{"$f":"Presupuesto!#REF!","v":{"$error":"#REF!"}},{"$error":"#REF!"},null,1,1,1]
[{"$f":"Presupuesto!#REF!","v":{"$error":"#REF!"}},null,{"$f":"Presupuesto!#REF!","v":{"$error":"#REF!"}},{"$f":"Presupuesto!#REF!","v":{"$error":"#REF!"}},null,{"$f":"Presupuesto!#REF!","v":{"$error":"#REF!"}},{"$f":"Presupuesto!#REF!","v":{"$error":"#REF!"}},{"$f":"Presupuesto!#REF!","v":{"$error":"#REF!"}},{"$f":"IF(Presupuesto!#REF!>40,40,Presupuesto!#REF!)","v":{"$error":"#REF!"}},{"$f":"IF(Presupuesto!#REF!>40,40,Presupuesto!#REF!)","v":{"$error":"#REF!"}},{"$f":"IF(Presupuesto!#REF!>40,40,Presupuesto!#REF!)","v":{"$error":"#REF!"}},{"$f":"ROUND(Presupuesto!#REF!*W200,2)","v":{"$error":"#REF!"}},{"$f":"ROUND(Presupuesto!#REF!*X200,2)","v":{"$error":"#REF!"}},{"$f":"ROUND(Presupuesto!#REF!*Y200,2)","v":{"$error":"#REF!"}},{"$f":"Presupuesto!#REF!","v":{"$error":"#REF!"}},{"$error":"#REF!"},{"$error":"#REF!"},{"$error":"#REF!"},{"$error":"#REF!"},{"$f":"Presupuesto!#REF!","v":{"$error":"#REF!"}},{"$error":"#REF!"},null,1,1,1]
[{"$f":"Presupuesto!#REF!","v":{"$error":"#REF!"}},null,{"$f":"Presupuesto!#REF!","v":{"$error":"#REF!"}},{"$f":"Presupuesto!#REF!","v":{"$error":"#REF!"}},null,{"$f":"Presupuesto!#REF!","v":{"$error":"#REF!"}},{"$f":"Presupuesto!#REF!","v":{"$error":"#REF!"}},{"$f":"Presupuesto!#REF!","v":{"$error":"#REF!"}},{"$f":"IF(Presupuesto!#REF!>40,40,Presupuesto!#REF!)","v":{"$error":"#REF!"}},{"$f":"IF(Presupuesto!#REF!>40,40,Presupuesto!#REF!)","v":{"$error":"#REF!"}},{"$f":"IF(Presupuesto!#REF!>40,40,Presupuesto!#REF!)","v":{"$error":"#REF!"}},{"$f":"ROUND(Presupuesto!#REF!*W201,2)","v":{"$error":"#REF!"}},{"$f":"ROUND(Presupuesto!#REF!*X201,2)","v":{"$error":"#REF!"}},{"$f":"ROUND(Presupuesto!#REF!*Y201,2)","v":{"$error":"#REF!"}},{"$f":"Presupuesto!#REF!","v":{"$error":"#REF!"}},{"$error":"#REF!"},{"$error":"#REF!"},{"$error":"#REF!"},{"$error":"#REF!"},{"$f":"Presupuesto!#REF!","v":{"$error":"#REF!"}},{"$error":"#REF!"},null,1,1,1]
[{"$f":"Presupuesto!#REF!","v":{"$error":"#REF!"}},null,{"$f":"Presupuesto!#REF!","v":{"$error":"#REF!"}},{"$f":"Presupuesto!#REF!","v":{"$error":"#REF!"}},null,{"$f":"Presupuesto!#REF!","v":{"$error":"#REF!"}},{"$f":"Presupuesto!#REF!","v":{"$error":"#REF!"}},{"$f":"Presupuesto!#REF!","v":{"$error":"#REF!"}},{"$f":"IF(Presupuesto!#REF!>40,40,Presupuesto!#REF!)","v":{"$error":"#REF!"}},{"$f":"IF(Presupuesto!#REF!>40,40,Presupuesto!#REF!)","v":{"$error":"#REF!"}},{"$f":"IF(Presupuesto!#REF!>40,40,Presupuesto!#REF!)","v":{"$error":"#REF!"}},{"$f":"ROUND(Presupuesto!#REF!*W202,2)","v":{"$error":"#REF!"}},{"$f":"ROUND(Presupuesto!#REF!*X202,2)","v":{"$error":"#REF!"}},{"$f":"ROUND(Presupuesto!#REF!*Y202,2)","v":{"$error":"#REF!"}},{"$f":"Presupuesto!#REF!","v":{"$error":"#REF!"}},{"$error":"#REF!"},{"$error":"#REF!"},{"$error":"#REF!"},{"$error":"#REF!"},{"$f":"Presupuesto!#REF!","v":{"$error":"#REF!"}},{"$error":"#REF!"},null,1,1,1]
[{"$f":"Presupuesto!#REF!","v":{"$error":"#REF!"}},null,{"$f":"Presupuesto!#REF!","v":{"$error":"#REF!"}},{"$f":"Presupuesto!#REF!","v":{"$error":"#REF!"}},null,{"$f":"Presupuesto!#REF!","v":{"$error":"#REF!"}},{"$f":"Presupuesto!#REF!","v":{"$error":"#REF!"}},{"$f":"Presupuesto!#REF!","v":{"$error":"#REF!"}},{"$f":"IF(Presupuesto!#REF!>40,40,Presupuesto!#REF!)","v":{"$error":"#REF!"}},{"$f":"IF(Presupuesto!#REF!>40,40,Presupuesto!#REF!)","v":{"$error":"#REF!"}},{"$f":"IF(Presupuesto!#REF!>40,40,Presupuesto!#REF!)","v":{"$error":"#REF!"}},{"$f":"ROUND(Presupuesto!#REF!*W203,2)","v":{"$error":"#REF!"}},{"$f":"ROUND(Presupuesto!#REF!*X203,2)","v":{"$error":"#REF!"}},{"$f":"ROUND(Presupuesto!#REF!*Y203,2)","v":{"$error":"#REF!"}},{"$f":"Presupuesto!#REF!","v":{"$error":"#REF!"}},{"$error":"#REF!"},{"$error":"#REF!"},{"$error":"#REF!"},{"$error":"#REF!"},{"$f":"Presupuesto!#REF!","v":{"$error":"#REF!"}},{"$error":"#REF!"},null,1,1,1]
[{"$f":"Presupuesto!#REF!","v":{"$error":"#REF!"}},null,{"$f":"Presupuesto!#REF!","v":{"$error":"#REF!"}},{"$f":"Presupuesto!#REF!","v":{"$error":"#REF!"}},null,{"$f":"Presupuesto!#REF!","v":{"$error":"#REF!"}},{"$f":"Presupuesto!#REF!","v":{"$error":"#REF!"}},{"$f":"Presupuesto!#REF!","v":{"$error":"#REF!"}},{"$f":"IF(Presupuesto!#REF!>40,40,Presupuesto!#REF!)","v":{"$error":"#REF!"}},{"$f":"IF(Presupuesto!#REF!>40,40,Presupuesto!#REF!)","v":{"$error":"#REF!"}},{"$f":"IF(Presupuesto!#REF!>40,40,Presupuesto!#REF!)","v":{"$error":"#REF!"}},{"$f":"ROUND(Presupuesto!#REF!*W204,2)","v":{"$error":"#REF!"}},{"$f":"ROUND(Presupuesto!#REF!*X204,2)","v":{"$error":"#REF!"}},{"$f":"ROUND(Presupuesto!#REF!*Y204,2)","v":{"$error":"#REF!"}},{"$f":"Presupuesto!#REF!","v":{"$error":"#REF!"}},{"$error":"#REF!"},{"$error":"#REF!"},{"$error":"#REF!"},{"$error":"#REF!"},{"$f":"Presupuesto!#REF!","v":{"$error":"#REF!"}},{"$error":"#REF!"},null,1,1,1]
[{"$f":"Presupuesto!#REF!","v":{"$error":"#REF!"}},null,{"$f":"Presupuesto!#REF!","v":{"$error":"#REF!"}},{"$f":"Presupuesto!#REF!","v":{"$error":"#REF!"}},null,{"$f":"Presupuesto!#REF!","v":{"$error":"#REF!"}},{"$f":"Presupuesto!#REF!","v":{"$error":"#REF!"}},{"$f":"Presupuesto!#REF!","v":{"$error":"#REF!"}},{"$f":"IF(Presupuesto!#REF!>40,40,Presupuesto!#REF!)","v":{"$error":"#REF!"}},{"$f":"IF(Presupuesto!#REF!>40,40,Presupuesto!#REF!)","v":{"$error":"#REF!"}},{"$f":"IF(Presupuesto!#REF!>40,40,Presupuesto!#REF!)","v":{"$error":"#REF!"}},{"$f":"ROUND(Presupuesto!#REF!*W205,2)","v":{"$error":"#REF!"}},{"$f":"ROUND(Presupuesto!#REF!*X205,2)","v":{"$error":"#REF!"}},{"$f":"ROUND(Presupuesto!#REF!*Y205,2)","v":{"$error":"#REF!"}},{"$f":"Presupuesto!#REF!","v":{"$error":"#REF!"}},{"$error":"#REF!"},{"$error":"#REF!"},{"$error":"#REF!"},{"$error":"#REF!"},{"$f":"Presupuesto!#REF!","v":{"$error":"#REF!"}},{"$error":"#REF!"},null,1,1,1]
[{"$f":"Presupuesto!#REF!","v":{"$error":"#REF!"}},null,null,null,null,null,null,null,null,null,null,{"$f":"SUM(L117:L205)","v":{"$error":"#REF!"}},{"$f":"SUM(M117:M205)","v":{"$error":"#REF!"}},{"$error":"#REF!"},{"$f":"Presupuesto!#REF!","v":{"$error":"#REF!"}},{"$error":"#REF!"},{"$error":"#REF!"},{"$error":"#REF!"},{"$error":"#REF!"},{"$f":"Presupuesto!#REF!","v":{"$error":"#REF!"}},{"$f":"SUM(U117:U205)","v":{"$error":"#REF!"}}]
[]
["Horas de mujeres",{"$f":"SUMIF(F117:F205,\"M\",P117:P205)","v":0},"Horas de hombres",{"$f":"SUMIF(F117:F205,\"H\",P117:P205)","v":0},"Horas de doctores",{"$f":"SUMIF(G117:G205,\"doctor\",P117:P205)","v":0},"Horas en exclusiva I+D",{"$f":"SUMIF(H117:H205,\"SI\",P117:P205)","v":0},"HORAS DE H + M",null,null,{"$f":"B208+D208","v":0},null,"EJC","Periodo 1","Periodo 2","Periodo 3","TOTAL","EJC / AÑO"]
["Total de mujeres",{"$f":"COUNTIFS(F117:F205,\"M\",$P$117:$P$205,\">0\")","v":0},"Total de hombres",{"$f":"COUNTIFS(F117:F205,\"H\",$P$117:$P$205,\">0\")","v":0},"Total de doctores",{"$f":"COUNTIFS(G117:G205,\"doctor\",$P$117:$P$205,\">0\")","v":0},"Personas en exclusiva I+D",{"$f":"COUNTIFS(H117:H205,\"SI\",P117:P205,\">0\")","v":0},"TOTAL H + M",null,null,{"$f":"B209+D209","v":0},null,"Solicitado",{"$f":"IFERROR(ROUND(Presupuesto!#REF!/Presupuesto!$E$2,2),\"\")","v":""},{"$f":"IFERROR(ROUND(Presupuesto!#REF!/Presupuesto!$E$2,2),\"\")","v":""},{"$f":"IFERROR(ROUND(Presupuesto!#REF!/Presupuesto!$E$2,2),\"\")","v":""},{"$f":"IFERROR(ROUND(Presupuesto!#REF!/Presupuesto!$E$2,2),\"\")","v":""},{"$f":"IFERROR(Presupuesto!$G$2,\"\")","v":"NIF"}]
["% de mujeres",{"$f":"TRUNC(IF(L208=0,0,B208/L208),4)","v":0},"% de hombres",{"$f":"TRUNC(IF(L208=0,0,D208/L208),4)","v":0},"% horas de doctores",{"$f":"TRUNC(IF(P206=0,0,F208/P206),4)","v":{"$error":"#REF!"}},"% de  I+D en exclusiva",{"$f":"TRUNC(IF(P206=0,0,H208/P206),4)","v":{"$error":"#REF!"}},"PORCENTAJE DE HORAS",null,null,null,null,"Aceptado",{"$f":"IFERROR(ROUND(L206/Presupuesto!$E$2,2),\"\")","v":""},{"$f":"IFERROR(ROUND(M206/Presupuesto!$E$2,2),\"\")","v":""},{"$f":"IFERROR(ROUND(N206/Presupuesto!$E$2,2),\"\")","v":""},{"$f":"IFERROR(ROUND(P206/Presupuesto!$E$2,2),\"\")","v":""},{"$f":"IFERROR(ROUND(365/Presupuesto!#REF!*$P$206/Presupuesto!$E$2,2),\"\")","v":""}]
[]
[null,"VALORACIÓN DE MATERIALES"]
[]
["Resaltar las casillas modificadas en amarillo. Tiene formato condicional",null,null,null,null,null,null,"A la derecha se puede establecer el % de aceptación de coste de material"]
["Para salto de línea dentro de la misma celda Alt+Intro. No usar el punto y coma."]
[null,null,null,null,null,"JUSTIFICACIÓN DE LAS REDUCCIONES"]
[]
[]
[]
[]
[]
[]
[]
[]
[]
[]
[]
["Descripción",null,null,null,"Periodo 1",null,"Periodo 2",null,"Periodo 3",null,"TOTAL",null,null,"INSERTAR % ACEPTADO"]
[null,null,null,null,"Solicitado","Aceptado","Solicitado","Aceptado","Solicitado","Aceptado","Solicitado","Aceptado",null,"Periodo 1","Periodo 2","Periodo 3","OBSERVACIONES INTERNAS"]
[{"$f":"#REF!","v":{"$error":"#REF!"}},null,null,null,{"$f":"ROUND(#REF!,2)","v":{"$error":"#REF!"}},{"$f":"ROUND(E230*N230,2)","v":{"$error":"#REF!"}},{"$f":"ROUND(#REF!,2)","v":{"$error":"#REF!"}},{"$f":"ROUND(G230*O230,2)","v":{"$error":"#REF!"}},{"$f":"ROUND(#REF!,2)","v":{"$error":"#REF!"}},{"$f":"ROUND(I230*P230,2)","v":{"$error":"#REF!"}},{"$f":"ROUND(#REF!,2)","v":{"$error":"#REF!"}},{"$f":"F230+H230+J230","v":{"$error":"#REF!"}},null,1,1,1]
[{"$f":"#REF!","v":{"$error":"#REF!"}},null,null,null,{"$f":"ROUND(#REF!,2)","v":{"$error":"#REF!"}},{"$f":"ROUND(E231*N231,2)","v":{"$error":"#REF!"}},{"$f":"ROUND(#REF!,2)","v":{"$error":"#REF!"}},{"$f":"ROUND(G231*O231,2)","v":{"$error":"#REF!"}},{"$f":"ROUND(#REF!,2)","v":{"$error":"#REF!"}},{"$f":"ROUND(I231*P231,2)","v":{"$error":"#REF!"}},{"$f":"ROUND(#REF!,2)","v":{"$error":"#REF!"}},{"$f":"F231+H231+J231","v":{"$error":"#REF!"}},null,1,1,1]
[{"$f":"#REF!","v":{"$error":"#REF!"}},null,null,null,{"$f":"ROUND(#REF!,2)","v":{"$error":"#REF!"}},{"$error":"#REF!"},{"$f":"ROUND(#REF!,2)","v":{"$error":"#REF!"}},{"$error":"#REF!"},{"$f":"ROUND(#REF!,2)","v":{"$error":"#REF!"}},{"$error":"#REF!"},{"$f":"ROUND(#REF!,2)","v":{"$error":"#REF!"}},{"$error":"#REF!"},null,1,1,1]
[{"$f":"#REF!","v":{"$error":"#REF!"}},null,null,null,{"$f":"ROUND(#REF!,2)","v":{"$error":"#REF!"}},{"$error":"#REF!"},{"$f":"ROUND(#REF!,2)","v":{"$error":"#REF!"}},{"$error":"#REF!"},{"$f":"ROUND(#REF!,2)","v":{"$error":"#REF!"}},{"$error":"#REF!"},{"$f":"ROUND(#REF!,2)","v":{"$error":"#REF!"}},{"$error":"#REF!"},null,1,1,1]
[{"$f":"#REF!","v":{"$error":"#REF!"}},null,null,null,{"$f":"ROUND(#REF!,2)","v":{"$error":"#REF!"}},{"$error":"#REF!"},{"$f":"ROUND(#REF!,2)","v":{"$error":"#REF!"}},{"$error":"#REF!"},{"$f":"ROUND(#REF!,2)","v":{"$error":"#REF!"}},{"$error":"#REF!"},{"$f":"ROUND(#REF!,2)","v":{"$error":"#REF!"}},{"$error":"#REF!"},null,1,1,1]
[{"$f":"#REF!","v":{"$error":"#REF!"}},null,null,null,{"$f":"ROUND(#REF!,2)","v":{"$error":"#REF!"}},{"$error":"#REF!"},{"$f":"ROUND(#REF!,2)","v":{"$error":"#REF!"}},{"$error":"#REF!"},{"$f":"ROUND(#REF!,2)","v":{"$error":"#REF!"}},{"$error":"#REF!"},{"$f":"ROUND(#REF!,2)","v":{"$error":"#REF!"}},{"$error":"#REF!"},null,1,1,1]
[{"$f":"#REF!","v":{"$error":"#REF!"}},null,null,null,{"$f":"ROUND(#REF!,2)","v":{"$error":"#REF!"}},{"$error":"#REF!"},{"$f":"ROUND(#REF!,2)","v":{"$error":"#REF!"}},{"$error":"#REF!"},{"$f":"ROUND(#REF!,2)","v":{"$error":"#REF!"}},{"$error":"#REF!"},{"$f":"ROUND(#REF!,2)","v":{"$error":"#REF!"}},{"$error":"#REF!"},null,1,1,1]
[{"$f":"#REF!","v":{"$error":"#REF!"}},null,null,null,{"$f":"ROUND(#REF!,2)","v":{"$error":"#REF!"}},{"$error":"#REF!"},{"$f":"ROUND(#REF!,2)","v":{"$error":"#REF!"}},{"$error":"#REF!"},{"$f":"ROUND(#REF!,2)","v":{"$error":"#REF!"}},{"$error":"#REF!"},{"$f":"ROUND(#REF!,2)","v":{"$error":"#REF!"}},{"$error":"#REF!"},null,1,1,1]
[{"$f":"#REF!","v":{"$error":"#REF!"}},null,null,null,{"$f":"ROUND(#REF!,2)","v":{"$error":"#REF!"}},{"$error":"#REF!"},{"$f":"ROUND(#REF!,2)","v":{"$error":"#REF!"}},{"$error":"#REF!"},{"$f":"ROUND(#REF!,2)","v":{"$error":"#REF!"}},{"$error":"#REF!"},{"$f":"ROUND(#REF!,2)","v":{"$error":"#REF!"}},{"$error":"#REF!"},null,1,1,1]
[{"$f":"#REF!","v":{"$error":"#REF!"}},null,null,null,{"$f":"ROUND(#REF!,2)","v":{"$error":"#REF!"}},{"$error":"#REF!"},{"$f":"ROUND(#REF!,2)","v":{"$error":"#REF!"}},{"$error":"#REF!"},{"$f":"ROUND(#REF!,2)","v":{"$error":"#REF!"}},{"$error":"#REF!"},{"$f":"ROUND(#REF!,2)","v":{"$error":"#REF!"}},{"$error":"#REF!"},null,1,1,1]
[{"$f":"#REF!","v":{"$error":"#REF!"}},null,null,null,{"$f":"ROUND(#REF!,2)","v":{"$error":"#REF!"}},{"$error":"#REF!"},{"$f":"ROUND(#REF!,2)","v":{"$error":"#REF!"}},{"$error":"#REF!"},{"$f":"ROUND(#REF!,2)","v":{"$error":"#REF!"}},{"$error":"#REF!"},{"$f":"ROUND(#REF!,2)","v":{"$error":"#REF!"}},{"$error":"#REF!"},null,1,1,1]
[{"$f":"#REF!","v":{"$error":"#REF!"}},null,null,null,{"$f":"ROUND(#REF!,2)","v":{"$error":"#REF!"}},{"$error":"#REF!"},{"$f":"ROUND(#REF!,2)","v":{"$error":"#REF!"}},{"$error":"#REF!"},{"$f":"ROUND(#REF!,2)","v":{"$error":"#REF!"}},{"$error":"#REF!"},{"$f":"ROUND(#REF!,2)","v":{"$error":"#REF!"}},{"$error":"#REF!"},null,1,1,1]
[{"$f":"#REF!","v":{"$error":"#REF!"}},null,null,null,{"$f":"ROUND(#REF!,2)","v":{"$error":"#REF!"}},{"$error":"#REF!"},{"$f":"ROUND(#REF!,2)","v":{"$error":"#REF!"}},{"$error":"#REF!"},{"$f":"ROUND(#REF!,2)","v":{"$error":"#REF!"}},{"$error":"#REF!"},{"$f":"ROUND(#REF!,2)","v":{"$error":"#REF!"}},{"$error":"#REF!"},null,1,1,1]
[{"$f":"#REF!","v":{"$error":"#REF!"}},null,null,null,{"$f":"ROUND(#REF!,2)","v":{"$error":"#REF!"}},{"$error":"#REF!"},{"$f":"ROUND(#REF!,2)","v":{"$error":"#REF!"}},{"$error":"#REF!"},{"$f":"ROUND(#REF!,2)","v":{"$error":"#REF!"}},{"$error":"#REF!"},{"$f":"ROUND(#REF!,2)","v":{"$error":"#REF!"}},{"$error":"#REF!"},null,1,1,1]
[{"$f":"#REF!","v":{"$error":"#REF!"}},null,null,null,{"$f":"ROUND(#REF!,2)","v":{"$error":"#REF!"}},{"$error":"#REF!"},{"$f":"ROUND(#REF!,2)","v":{"$error":"#REF!"}},{"$error":"#REF!"},{"$f":"ROUND(#REF!,2)","v":{"$error":"#REF!"}},{"$error":"#REF!"},{"$f":"ROUND(#REF!,2)","v":{"$error":"#REF!"}},{"$error":"#REF!"},null,1,1,1]
[{"$f":"#REF!","v":{"$error":"#REF!"}},null,null,null,{"$f":"ROUND(#REF!,2)","v":{"$error":"#REF!"}},{"$error":"#REF!"},{"$f":"ROUND(#REF!,2)","v":{"$error":"#REF!"}},{"$error":"#REF!"},{"$f":"ROUND(#REF!,2)","v":{"$error":"#REF!"}},{"$error":"#REF!"},{"$f":"ROUND(#REF!,2)","v":{"$error":"#REF!"}},{"$error":"#REF!"},null,1,1,1]
[{"$f":"#REF!","v":{"$error":"#REF!"}},null,null,null,{"$f":"ROUND(#REF!,2)","v":{"$error":"#REF!"}},{"$error":"#REF!"},{"$f":"ROUND(#REF!,2)","v":{"$error":"#REF!"}},{"$error":"#REF!"},{"$f":"ROUND(#REF!,2)","v":{"$error":"#REF!"}},{"$error":"#REF!"},{"$f":"ROUND(#REF!,2)","v":{"$error":"#REF!"}},{"$error":"#REF!"},null,1,1,1]
[{"$f":"#REF!","v":{"$error":"#REF!"}},null,null,null,{"$f":"ROUND(#REF!,2)","v":{"$error":"#REF!"}},{"$error":"#REF!"},{"$f":"ROUND(#REF!,2)","v":{"$error":"#REF!"}},{"$error":"#REF!"},{"$f":"ROUND(#REF!,2)","v":{"$error":"#REF!"}},{"$error":"#REF!"},{"$f":"ROUND(#REF!,2)","v":{"$error":"#REF!"}},{"$error":"#REF!"},null,1,1,1]
[{"$f":"#REF!","v":{"$error":"#REF!"}},null,null,null,{"$f":"ROUND(#REF!,2)","v":{"$error":"#REF!"}},{"$error":"#REF!"},{"$f":"ROUND(#REF!,2)","v":{"$error":"#REF!"}},{"$error":"#REF!"},{"$f":"ROUND(#REF!,2)","v":{"$error":"#REF!"}},{"$error":"#REF!"},{"$f":"ROUND(#REF!,2)","v":{"$error":"#REF!"}},{"$error":"#REF!"},null,1,1,1]
[{"$f":"#REF!","v":{"$error":"#REF!"}},null,null,null,{"$f":"ROUND(#REF!,2)","v":{"$error":"#REF!"}},{"$error":"#REF!"},{"$f":"ROUND(#REF!,2)","v":{"$error":"#REF!"}},{"$error":"#REF!"},{"$f":"ROUND(#REF!,2)","v":{"$error":"#REF!"}},{"$error":"#REF!"},{"$f":"ROUND(#REF!,2)","v":{"$error":"#REF!"}},{"$error":"#REF!"},null,1,1,1]
[{"$f":"#REF!","v":{"$error":"#REF!"}},null,null,null,{"$f":"ROUND(#REF!,2)","v":{"$error":"#REF!"}},{"$error":"#REF!"},{"$f":"ROUND(#REF!,2)","v":{"$error":"#REF!"}},{"$error":"#REF!"},{"$f":"ROUND(#REF!,2)","v":{"$error":"#REF!"}},{"$error":"#REF!"},{"$f":"ROUND(#REF!,2)","v":{"$error":"#REF!"}},{"$error":"#REF!"},null,1,1,1]
[{"$f":"#REF!","v":{"$error":"#REF!"}},null,null,null,{"$f":"ROUND(#REF!,2)","v":{"$error":"#REF!"}},{"$error":"#REF!"},{"$f":"ROUND(#REF!,2)","v":{"$error":"#REF!"}},{"$error":"#REF!"},{"$f":"ROUND(#REF!,2)","v":{"$error":"#REF!"}},{"$error":"#REF!"},{"$f":"ROUND(#REF!,2)","v":{"$error":"#REF!"}},{"$error":"#REF!"},null,1,1,1]
[{"$f":"#REF!","v":{"$error":"#REF!"}},null,null,null,{"$f":"ROUND(#REF!,2)","v":{"$error":"#REF!"}},{"$error":"#REF!"},{"$f":"ROUND(#REF!,2)","v":{"$error":"#REF!"}},{"$error":"#REF!"},{"$f":"ROUND(#REF!,2)","v":{"$error":"#REF!"}},{"$error":"#REF!"},{"$f":"ROUND(#REF!,2)","v":{"$error":"#REF!"}},{"$error":"#REF!"},null,1,1,1]
[{"$f":"#REF!","v":{"$error":"#REF!"}},null,null,null,{"$f":"ROUND(#REF!,2)","v":{"$error":"#REF!"}},{"$error":"#REF!"},{"$f":"ROUND(#REF!,2)","v":{"$error":"#REF!"}},{"$error":"#REF!"},{"$f":"ROUND(#REF!,2)","v":{"$error":"#REF!"}},{"$error":"#REF!"},{"$f":"ROUND(#REF!,2)","v":{"$error":"#REF!"}},{"$error":"#REF!"},null,1,1,1]
[{"$f":"#REF!","v":{"$error":"#REF!"}},null,null,null,{"$f":"ROUND(#REF!,2)","v":{"$error":"#REF!"}},{"$error":"#REF!"},{"$f":"ROUND(#REF!,2)","v":{"$error":"#REF!"}},{"$error":"#REF!"},{"$f":"ROUND(#REF!,2)","v":{"$error":"#REF!"}},{"$error":"#REF!"},{"$f":"ROUND(#REF!,2)","v":{"$error":"#REF!"}},{"$error":"#REF!"},null,1,1,1]
[{"$f":"#REF!","v":{"$error":"#REF!"}},null,null,null,{"$f":"ROUND(#REF!,2)","v":{"$error":"#REF!"}},{"$error":"#REF!"},{"$f":"ROUND(#REF!,2)","v":{"$error":"#REF!"}},{"$error":"#REF!"},{"$f":"ROUND(#REF!,2)","v":{"$error":"#REF!"}},{"$error":"#REF!"},{"$f":"ROUND(#REF!,2)","v":{"$error":"#REF!"}},{"$error":"#REF!"},null,1,1,1]
["TOTAL",null,null,null,{"$f":"SUM(E230:E255)","v":{"$error":"#REF!"}},{"$error":"#REF!"},{"$error":"#REF!"},{"$error":"#REF!"},{"$error":"#REF!"},{"$error":"#REF!"},{"$error":"#REF!"},{"$f":"F256+H256+J256","v":{"$error":"#REF!"}}]
[]
[null,"VALORACIÓN DE COLABORACIONES"]
[]
["Resaltar las casillas modificadas en amarillo. Tiene formato condicional",null,null,null,null,null,null,"A la derecha se puede establecer el % de aceptación de coste en colaboraciones"]
["Para salto de línea dentro de la misma celda Alt+Intro. No usar el punto y coma."]
[null,null,null,null,null,"JUSTIFICACIÓN DE LAS REDUCCIONES"]
[]
[]
[]
[]
[]
[]
[]
[]
[]
[]
[]
[{"$f":"#REF!","v":{"$error":"#REF!"}},null,null,null,"Vinculada con el solicitante","Tipo de colaborador","Periodo 1",null,"Periodo 2",null,"Periodo 3",null,"TOTAL",null,null,"INSERTAR % ACEPTADO"]
[null,null,null,null,null,null,"Solicitado","Aceptado","Solicitado","Aceptado","Solicitado","Aceptado","Solicitado","Aceptado",null,"Periodo 1","Periodo 2","Periodo 3","OBSERVACIONES INTERNAS"]
[{"$f":"#REF!","v":{"$error":"#REF!"}},null,null,null,{"$f":"#REF!","v":{"$error":"#REF!"}},{"$f":"#REF!","v":{"$error":"#REF!"}},{"$f":"ROUND(#REF!,2)","v":{"$error":"#REF!"}},{"$f":"ROUND(G276*P276,2)","v":{"$error":"#REF!"}},{"$f":"ROUND(#REF!,2)","v":{"$error":"#REF!"}},{"$f":"ROUND(I276*Q276,2)","v":{"$error":"#REF!"}},{"$f":"ROUND(#REF!,2)","v":{"$error":"#REF!"}},{"$f":"ROUND(K276*R276,2)","v":{"$error":"#REF!"}},{"$f":"ROUND(#REF!,2)","v":{"$error":"#REF!"}},{"$f":"H276+J276+L276","v":{"$error":"#REF!"}},null,1,1,1]
[{"$f":"#REF!","v":{"$error":"#REF!"}},null,null,null,{"$f":"#REF!","v":{"$error":"#REF!"}},{"$f":"#REF!","v":{"$error":"#REF!"}},{"$f":"ROUND(#REF!,2)","v":{"$error":"#REF!"}},{"$f":"ROUND(G277*P277,2)","v":{"$error":"#REF!"}},{"$f":"ROUND(#REF!,2)","v":{"$error":"#REF!"}},{"$f":"ROUND(I277*Q277,2)","v":{"$error":"#REF!"}},{"$f":"ROUND(#REF!,2)","v":{"$error":"#REF!"}},{"$f":"ROUND(K277*R277,2)","v":{"$error":"#REF!"}},{"$f":"ROUND(#REF!,2)","v":{"$error":"#REF!"}},{"$f":"H277+J277+L277","v":{"$error":"#REF!"}},null,1,1,1]
[{"$f":"#REF!","v":{"$error":"#REF!"}},null,null,null,{"$f":"#REF!","v":{"$error":"#REF!"}},{"$f":"#REF!","v":{"$error":"#REF!"}},{"$f":"ROUND(#REF!,2)","v":{"$error":"#REF!"}},{"$error":"#REF!"},{"$f":"ROUND(#REF!,2)","v":{"$error":"#REF!"}},{"$error":"#REF!"},{"$f":"ROUND(#REF!,2)","v":{"$error":"#REF!"}},{"$error":"#REF!"},{"$f":"ROUND(#REF!,2)","v":{"$error":"#REF!"}},{"$error":"#REF!"},null,1,1,1]
[{"$f":"#REF!","v":{"$error":"#REF!"}},null,null,null,{"$f":"#REF!","v":{"$error":"#REF!"}},{"$f":"#REF!","v":{"$error":"#REF!"}},{"$f":"ROUND(#REF!,2)","v":{"$error":"#REF!"}},{"$error":"#REF!"},{"$f":"ROUND(#REF!,2)","v":{"$error":"#REF!"}},{"$error":"#REF!"},{"$f":"ROUND(#REF!,2)","v":{"$error":"#REF!"}},{"$error":"#REF!"},{"$f":"ROUND(#REF!,2)","v":{"$error":"#REF!"}},{"$error":"#REF!"},null,1,1,1]
[{"$f":"#REF!","v":{"$error":"#REF!"}},null,null,null,{"$f":"#REF!","v":{"$error":"#REF!"}},{"$f":"#REF!","v":{"$error":"#REF!"}},{"$f":"ROUND(#REF!,2)","v":{"$error":"#REF!"}},{"$error":"#REF!"},{"$f":"ROUND(#REF!,2)","v":{"$error":"#REF!"}},{"$error":"#REF!"},{"$f":"ROUND(#REF!,2)","v":{"$error":"#REF!"}},{"$error":"#REF!"},{"$f":"ROUND(#REF!,2)","v":{"$error":"#REF!"}},{"$error":"#REF!"},null,1,1,1]
[{"$f":"#REF!","v":{"$error":"#REF!"}},null,null,null,{"$f":"#REF!","v":{"$error":"#REF!"}},{"$f":"#REF!","v":{"$error":"#REF!"}},{"$f":"ROUND(#REF!,2)","v":{"$error":"#REF!"}},{"$error":"#REF!"},{"$f":"ROUND(#REF!,2)","v":{"$error":"#REF!"}},{"$error":"#REF!"},{"$f":"ROUND(#REF!,2)","v":{"$error":"#REF!"}},{"$error":"#REF!"},{"$f":"ROUND(#REF!,2)","v":{"$error":"#REF!"}},{"$error":"#REF!"},null,1,1,1]
[{"$f":"#REF!","v":{"$error":"#REF!"}},null,null,null,{"$f":"#REF!","v":{"$error":"#REF!"}},{"$f":"#REF!","v":{"$error":"#REF!"}},{"$f":"ROUND(#REF!,2)","v":{"$error":"#REF!"}},{"$error":"#REF!"},{"$f":"ROUND(#REF!,2)","v":{"$error":"#REF!"}},{"$error":"#REF!"},{"$f":"ROUND(#REF!,2)","v":{"$error":"#REF!"}},{"$error":"#REF!"},{"$f":"ROUND(#REF!,2)","v":{"$error":"#REF!"}},{"$error":"#REF!"},null,1,1,1]
[{"$f":"#REF!","v":{"$error":"#REF!"}},null,null,null,{"$f":"#REF!","v":{"$error":"#REF!"}},{"$f":"#REF!","v":{"$error":"#REF!"}},{"$f":"ROUND(#REF!,2)","v":{"$error":"#REF!"}},{"$error":"#REF!"},{"$f":"ROUND(#REF!,2)","v":{"$error":"#REF!"}},{"$error":"#REF!"},{"$f":"ROUND(#REF!,2)","v":{"$error":"#REF!"}},{"$error":"#REF!"},{"$f":"ROUND(#REF!,2)","v":{"$error":"#REF!"}},{"$error":"#REF!"},null,1,1,1]
[{"$f":"#REF!","v":{"$error":"#REF!"}},null,null,null,{"$f":"#REF!","v":{"$error":"#REF!"}},{"$f":"#REF!","v":{"$error":"#REF!"}},{"$f":"ROUND(#REF!,2)","v":{"$error":"#REF!"}},{"$error":"#REF!"},{"$f":"ROUND(#REF!,2)","v":{"$error":"#REF!"}},{"$error":"#REF!"},{"$f":"ROUND(#REF!,2)","v":{"$error":"#REF!"}},{"$error":"#REF!"},{"$f":"ROUND(#REF!,2)","v":{"$error":"#REF!"}},{"$error":"#REF!"},null,1,1,1]
[{"$f":"#REF!","v":{"$error":"#REF!"}},null,null,null,{"$f":"#REF!","v":{"$error":"#REF!"}},{"$f":"#REF!","v":{"$error":"#REF!"}},{"$f":"ROUND(#REF!,2)","v":{"$error":"#REF!"}},{"$error":"#REF!"},{"$f":"ROUND(#REF!,2)","v":{"$error":"#REF!"}},{"$error":"#REF!"},{"$f":"ROUND(#REF!,2)","v":{"$error":"#REF!"}},{"$error":"#REF!"},{"$f":"ROUND(#REF!,2)","v":{"$error":"#REF!"}},{"$error":"#REF!"},null,1,1,1]
[{"$f":"#REF!","v":{"$error":"#REF!"}},null,null,null,{"$f":"#REF!","v":{"$error":"#REF!"}},{"$f":"#REF!","v":{"$error":"#REF!"}},{"$f":"ROUND(#REF!,2)","v":{"$error":"#REF!"}},{"$error":"#REF!"},{"$f":"ROUND(#REF!,2)","v":{"$error":"#REF!"}},{"$error":"#REF!"},{"$f":"ROUND(#REF!,2)","v":{"$error":"#REF!"}},{"$error":"#REF!"},{"$f":"ROUND(#REF!,2)","v":{"$error":"#REF!"}},{"$error":"#REF!"},null,1,1,1]
[{"$f":"#REF!","v":{"$error":"#REF!"}},null,null,null,{"$f":"#REF!","v":{"$error":"#REF!"}},{"$f":"#REF!","v":{"$error":"#REF!"}},{"$f":"ROUND(#REF!,2)","v":{"$error":"#REF!"}},{"$error":"#REF!"},{"$f":"ROUND(#REF!,2)","v":{"$error":"#REF!"}},{"$error":"#REF!"},{"$f":"ROUND(#REF!,2)","v":{"$error":"#REF!"}},{"$error":"#REF!"},{"$f":"ROUND(#REF!,2)","v":{"$error":"#REF!"}},{"$error":"#REF!"},null,1,1,1]
[{"$f":"#REF!","v":{"$error":"#REF!"}},null,null,null,{"$f":"#REF!","v":{"$error":"#REF!"}},{"$f":"#REF!","v":{"$error":"#REF!"}},{"$f":"ROUND(#REF!,2)","v":{"$error":"#REF!"}},{"$error":"#REF!"},{"$f":"ROUND(#REF!,2)","v":{"$error":"#REF!"}},{"$error":"#REF!"},{"$f":"ROUND(#REF!,2)","v":{"$error":"#REF!"}},{"$error":"#REF!"},{"$f":"ROUND(#REF!,2)","v":{"$error":"#REF!"}},{"$error":"#REF!"},null,1,1,1]
[{"$f":"#REF!","v":{"$error":"#REF!"}},null,null,null,{"$f":"#REF!","v":{"$error":"#REF!"}},{"$f":"#REF!","v":{"$error":"#REF!"}},{"$f":"ROUND(#REF!,2)","v":{"$error":"#REF!"}},{"$error":"#REF!"},{"$f":"ROUND(#REF!,2)","v":{"$error":"#REF!"}},{"$error":"#REF!"},{"$f":"ROUND(#REF!,2)","v":{"$error":"#REF!"}},{"$error":"#REF!"},{"$f":"ROUND(#REF!,2)","v":{"$error":"#REF!"}},{"$error":"#REF!"},null,1,1,1]
[{"$f":"#REF!","v":{"$error":"#REF!"}},null,null,null,{"$f":"#REF!","v":{"$error":"#REF!"}},{"$f":"#REF!","v":{"$error":"#REF!"}},{"$f":"ROUND(#REF!,2)","v":{"$error":"#REF!"}},{"$error":"#REF!"},{"$f":"ROUND(#REF!,2)","v":{"$error":"#REF!"}},{"$error":"#REF!"},{"$f":"ROUND(#REF!,2)","v":{"$error":"#REF!"}},{"$error":"#REF!"},{"$f":"ROUND(#REF!,2)","v":{"$error":"#REF!"}},{"$error":"#REF!"},null,1,1,1]
[{"$f":"#REF!","v":{"$error":"#REF!"}},null,null,null,{"$f":"#REF!","v":{"$error":"#REF!"}},{"$f":"#REF!","v":{"$error":"#REF!"}},{"$f":"ROUND(#REF!,2)","v":{"$error":"#REF!"}},{"$error":"#REF!"},{"$f":"ROUND(#REF!,2)","v":{"$error":"#REF!"}},{"$error":"#REF!"},{"$f":"ROUND(#REF!,2)","v":{"$error":"#REF!"}},{"$error":"#REF!"},{"$f":"ROUND(#REF!,2)","v":{"$error":"#REF!"}},{"$error":"#REF!"},null,1,1,1]
[{"$f":"#REF!","v":{"$error":"#REF!"}},null,null,null,{"$f":"#REF!","v":{"$error":"#REF!"}},{"$f":"#REF!","v":{"$error":"#REF!"}},{"$f":"ROUND(#REF!,2)","v":{"$error":"#REF!"}},{"$error":"#REF!"},{"$f":"ROUND(#REF!,2)","v":{"$error":"#REF!"}},{"$error":"#REF!"},{"$f":"ROUND(#REF!,2)","v":{"$error":"#REF!"}},{"$error":"#REF!"},{"$f":"ROUND(#REF!,2)","v":{"$error":"#REF!"}},{"$error":"#REF!"},null,1,1,1]
[{"$f":"#REF!","v":{"$error":"#REF!"}},null,null,null,{"$f":"#REF!","v":{"$error":"#REF!"}},{"$f":"#REF!","v":{"$error":"#REF!"}},{"$f":"ROUND(#REF!,2)","v":{"$error":"#REF!"}},{"$error":"#REF!"},{"$f":"ROUND(#REF!,2)","v":{"$error":"#REF!"}},{"$error":"#REF!"},{"$f":"ROUND(#REF!,2)","v":{"$error":"#REF!"}},{"$error":"#REF!"},{"$f":"ROUND(#REF!,2)","v":{"$error":"#REF!"}},{"$error":"#REF!"},null,1,1,1]
[{"$f":"#REF!","v":{"$error":"#REF!"}},null,null,null,{"$f":"#REF!","v":{"$error":"#REF!"}},{"$f":"#REF!","v":{"$error":"#REF!"}},{"$f":"ROUND(#REF!,2)","v":{"$error":"#REF!"}},{"$error":"#REF!"},{"$f":"ROUND(#REF!,2)","v":{"$error":"#REF!"}},{"$error":"#REF!"},{"$f":"ROUND(#REF!,2)","v":{"$error":"#REF!"}},{"$error":"#REF!"},{"$f":"ROUND(#REF!,2)","v":{"$error":"#REF!"}},{"$error":"#REF!"},null,1,1,1]
[{"$f":"#REF!","v":{"$error":"#REF!"}},null,null,null,{"$f":"#REF!","v":{"$error":"#REF!"}},{"$f":"#REF!","v":{"$error":"#REF!"}},{"$f":"ROUND(#REF!,2)","v":{"$error":"#REF!"}},{"$error":"#REF!"},{"$f":"ROUND(#REF!,2)","v":{"$error":"#REF!"}},{"$error":"#REF!"},{"$f":"ROUND(#REF!,2)","v":{"$error":"#REF!"}},{"$error":"#REF!"},{"$f":"ROUND(#REF!,2)","v":{"$error":"#REF!"}},{"$error":"#REF!"},null,1,1,1]
[{"$f":"#REF!","v":{"$error":"#REF!"}},null,null,null,{"$f":"#REF!","v":{"$error":"#REF!"}},{"$f":"#REF!","v":{"$error":"#REF!"}},{"$f":"ROUND(#REF!,2)","v":{"$error":"#REF!"}},{"$error":"#REF!"},{"$f":"ROUND(#REF!,2)","v":{"$error":"#REF!"}},{"$error":"#REF!"},{"$f":"ROUND(#REF!,2)","v":{"$error":"#REF!"}},{"$error":"#REF!"},{"$f":"ROUND(#REF!,2)","v":{"$error":"#REF!"}},{"$error":"#REF!"},null,1,1,1]
[{"$f":"#REF!","v":{"$error":"#REF!"}},null,null,null,{"$f":"#REF!","v":{"$error":"#REF!"}},{"$f":"#REF!","v":{"$error":"#REF!"}},{"$f":"ROUND(#REF!,2)","v":{"$error":"#REF!"}},{"$error":"#REF!"},{"$f":"ROUND(#REF!,2)","v":{"$error":"#REF!"}},{"$error":"#REF!"},{"$f":"ROUND(#REF!,2)","v":{"$error":"#REF!"}},{"$error":"#REF!"},{"$f":"ROUND(#REF!,2)","v":{"$error":"#REF!"}},{"$error":"#REF!"},null,1,1,1]
[{"$f":"#REF!","v":{"$error":"#REF!"}},null,null,null,{"$f":"#REF!","v":{"$error":"#REF!"}},{"$f":"#REF!","v":{"$error":"#REF!"}},{"$f":"ROUND(#REF!,2)","v":{"$error":"#REF!"}},{"$error":"#REF!"},{"$f":"ROUND(#REF!,2)","v":{"$error":"#REF!"}},{"$error":"#REF!"},{"$f":"ROUND(#REF!,2)","v":{"$error":"#REF!"}},{"$error":"#REF!"},{"$f":"ROUND(#REF!,2)","v":{"$error":"#REF!"}},{"$error":"#REF!"},null,1,1,1]
[{"$f":"#REF!","v":{"$error":"#REF!"}},null,null,null,{"$f":"#REF!","v":{"$error":"#REF!"}},{"$f":"#REF!","v":{"$error":"#REF!"}},{"$f":"ROUND(#REF!,2)","v":{"$error":"#REF!"}},{"$error":"#REF!"},{"$f":"ROUND(#REF!,2)","v":{"$error":"#REF!"}},{"$error":"#REF!"},{"$f":"ROUND(#REF!,2)","v":{"$error":"#REF!"}},{"$error":"#REF!"},{"$f":"ROUND(#REF!,2)","v":{"$error":"#REF!"}},{"$error":"#REF!"},null,1,1,1]
[{"$f":"#REF!","v":{"$error":"#REF!"}},null,null,null,{"$f":"#REF!","v":{"$error":"#REF!"}},{"$f":"#REF!","v":{"$error":"#REF!"}},{"$f":"ROUND(#REF!,2)","v":{"$error":"#REF!"}},{"$error":"#REF!"},{"$f":"ROUND(#REF!,2)","v":{"$error":"#REF!"}},{"$error":"#REF!"},{"$f":"ROUND(#REF!,2)","v":{"$error":"#REF!"}},{"$error":"#REF!"},{"$f":"ROUND(#REF!,2)","v":{"$error":"#REF!"}},{"$error":"#REF!"},null,1,1,1]
[{"$f":"#REF!","v":{"$error":"#REF!"}},null,null,null,{"$f":"#REF!","v":{"$error":"#REF!"}},{"$f":"#REF!","v":{"$error":"#REF!"}},{"$f":"ROUND(#REF!,2)","v":{"$error":"#REF!"}},{"$error":"#REF!"},{"$f":"ROUND(#REF!,2)","v":{"$error":"#REF!"}},{"$error":"#REF!"},{"$f":"ROUND(#REF!,2)","v":{"$error":"#REF!"}},{"$error":"#REF!"},{"$f":"ROUND(#REF!,2)","v":{"$error":"#REF!"}},{"$error":"#REF!"},null,1,1,1]
[{"$f":"#REF!","v":{"$error":"#REF!"}},null,null,null,{"$f":"#REF!","v":{"$error":"#REF!"}},{"$f":"#REF!","v":{"$error":"#REF!"}},{"$f":"ROUND(#REF!,2)","v":{"$error":"#REF!"}},{"$error":"#REF!"},{"$f":"ROUND(#REF!,2)","v":{"$error":"#REF!"}},{"$error":"#REF!"},{"$f":"ROUND(#REF!,2)","v":{"$error":"#REF!"}},{"$error":"#REF!"},{"$f":"ROUND(#REF!,2)","v":{"$error":"#REF!"}},{"$error":"#REF!"},null,1,1,1]
[{"$f":"#REF!","v":{"$error":"#REF!"}},null,null,null,{"$f":"#REF!","v":{"$error":"#REF!"}},{"$f":"#REF!","v":{"$error":"#REF!"}},{"$f":"ROUND(#REF!,2)","v":{"$error":"#REF!"}},{"$error":"#REF!"},{"$f":"ROUND(#REF!,2)","v":{"$error":"#REF!"}},{"$error":"#REF!"},{"$f":"ROUND(#REF!,2)","v":{"$error":"#REF!"}},{"$error":"#REF!"},{"$f":"ROUND(#REF!,2)","v":{"$error":"#REF!"}},{"$error":"#REF!"},null,1,1,1]
[{"$f":"#REF!","v":{"$error":"#REF!"}},null,null,null,{"$f":"#REF!","v":{"$error":"#REF!"}},{"$f":"#REF!","v":{"$error":"#REF!"}},{"$f":"ROUND(#REF!,2)","v":{"$error":"#REF!"}},{"$error":"#REF!"},{"$f":"ROUND(#REF!,2)","v":{"$error":"#REF!"}},{"$error":"#REF!"},{"$f":"ROUND(#REF!,2)","v":{"$error":"#REF!"}},{"$error":"#REF!"},{"$f":"ROUND(#REF!,2)","v":{"$error":"#REF!"}},{"$error":"#REF!"},null,1,1,1]
[{"$f":"#REF!","v":{"$error":"#REF!"}},null,null,null,{"$f":"#REF!","v":{"$error":"#REF!"}},{"$f":"#REF!","v":{"$error":"#REF!"}},{"$f":"ROUND(#REF!,2)","v":{"$error":"#REF!"}},{"$error":"#REF!"},{"$f":"ROUND(#REF!,2)","v":{"$error":"#REF!"}},{"$error":"#REF!"},{"$f":"ROUND(#REF!,2)","v":{"$error":"#REF!"}},{"$error":"#REF!"},{"$f":"ROUND(#REF!,2)","v":{"$error":"#REF!"}},{"$error":"#REF!"},null,1,1,1]
[{"$f":"#REF!","v":{"$error":"#REF!"}},null,null,null,null,null,{"$f":"SUM(G276:G305)","v":{"$error":"#REF!"}},{"$error":"#REF!"},{"$error":"#REF!"},{"$error":"#REF!"},{"$error":"#REF!"},{"$error":"#REF!"},{"$error":"#REF!"},{"$error":"#REF!"}]
[]
[null,null,null,null,null,null,"Periodo 1",null,"Periodo 2",null,"Periodo 3",null,"Total"]
[null,null,null,null,null,null,"Solicitado","Aceptado","Solicitado","Aceptado","Solicitado","Aceptado","Solicitado","Aceptado",null,"Tipo de colaborador (empresa, CT, Universidad o ICTS)"]
[{"$f":"#REF!","v":{"$error":"#REF!"}},null,null,null,"Empresas",null,{"$f":"SUMIF($F$276:$F$305,$P$310,G276:G305)","v":0},{"$f":"SUMIF($F$276:$F$305,$P$310,H276:H305)","v":0},0,0,0,0,0,0,null,"Empresa"]
[null,null,null,null,"Entidades vinculadas",null,{"$f":"SUMIF($E$276:$E$305,\"SI\",G276:G305)","v":0},0,0,0,0,0,0,0,null,"Universidad"]
[null,null,null,null,"Universidades",null,{"$f":"SUMIF($F$276:$F$305,$P311,G276:G305)","v":0},{"$f":"SUMIF($F$276:$F$305,$P311,H276:H305)","v":0},0,0,0,0,0,0,null,"Centro Tecnológico"]
[null,null,null,null,"Centros tecnológicos",null,{"$f":"SUMIF($F$276:$F$305,$P312,G277:G306)","v":0},{"$f":"SUMIF($F$276:$F$305,$P312,H277:H306)","v":0},{"$f":"SUMIF($F$276:$F$305,$P312,I277:I306)","v":0},{"$f":"SUMIF($F$276:$F$305,$P312,J277:J306)","v":0},{"$f":"SUMIF($F$276:$F$305,$P312,K277:K306)","v":0},{"$f":"SUMIF($F$276:$F$305,$P312,L277:L306)","v":0},{"$f":"SUMIF($F$276:$F$305,$P312,M277:M306)","v":0},{"$f":"SUMIF($F$276:$F$305,$P312,N277:N306)","v":0},null,"Organismo Público de Investigación"]
[null,null,null,null,"Organismos Públicos de Investigación",null,0,0,0,0,0,0,0,0,null,"Unidad de I+D+i empresarial"]
[null,null,null,null,"Unidades de I+D+i empresarial",null,0,0,0,0,0,0,0,0]
[null,null,null,null,"Universidades + CCTT + OPI+ Unidades de I+D+i",null,{"$f":"SUM(G312:G315)","v":0},{"$f":"SUM(H312:H315)","v":0},{"$f":"SUM(I312:I315)","v":0},0,0,0,0,0]
[]
[null,"VALORACIÓN DE OTROS COSTES"]
["Resaltar las casillas modificadas en amarillo. Tiene formato condicional"]
["Para salto de línea dentro de la misma celda Alt+Intro. No usar el punto y coma."]
[null,null,null,null,null,"JUSTIFICACIÓN DE LAS REDUCCIONES"]
[]
[]
[]
[]
[]
[]
[]
[]
[null,null,null,null,null,null,null,null,null,null,null,null,null,"GastosPatentes",null,0]
[null,null,null,null,null,null,null,null,null,null,null,null,null,"GastosViajes",null,0]
[null,null,null,null,null,null,null,null,null,null,null,null,null,"CostesAuditorias",null,0]
[{"$f":"#REF!","v":{"$error":"#REF!"}},null,null,null,null,"Periodo 1",null,"Periodo 2",null,"Periodo 3",null,"Total",null,null,"INSERTAR % ACEPTADO"]
[null,null,null,null,null,"Solicitado","Aceptado","Solicitado","Aceptado","Solicitado","Aceptado","Solicitado","Aceptado",null,"Periodo 1","Periodo 2","Periodo 3","OBSERVACIONES INTERNAS"]
[{"$f":"#REF!","v":{"$error":"#REF!"}},null,null,null,null,{"$f":"ROUND(#REF!,2)","v":{"$error":"#REF!"}},{"$f":"ROUND(F335*O335,2)","v":{"$error":"#REF!"}},{"$f":"ROUND(#REF!,2)","v":{"$error":"#REF!"}},{"$f":"ROUND(H335*P335,2)","v":{"$error":"#REF!"}},{"$f":"ROUND(#REF!,2)","v":{"$error":"#REF!"}},{"$f":"ROUND(J335*Q335,2)","v":{"$error":"#REF!"}},{"$f":"ROUND(#REF!,2)","v":{"$error":"#REF!"}},{"$f":"G335+I335+K335","v":{"$error":"#REF!"}},null,1,1,1]
[{"$f":"#REF!","v":{"$error":"#REF!"}},null,null,null,null,{"$f":"ROUND(#REF!,2)","v":{"$error":"#REF!"}},{"$error":"#REF!"},{"$f":"ROUND(#REF!,2)","v":{"$error":"#REF!"}},{"$error":"#REF!"},{"$f":"ROUND(#REF!,2)","v":{"$error":"#REF!"}},{"$error":"#REF!"},{"$f":"ROUND(#REF!,2)","v":{"$error":"#REF!"}},{"$f":"G336+I336+K336","v":{"$error":"#REF!"}},null,1,1,1]
[{"$f":"#REF!","v":{"$error":"#REF!"}},null,null,null,null,{"$f":"ROUND(#REF!,2)","v":{"$error":"#REF!"}},{"$error":"#REF!"},{"$f":"ROUND(#REF!,2)","v":{"$error":"#REF!"}},{"$error":"#REF!"},{"$f":"ROUND(#REF!,2)","v":{"$error":"#REF!"}},{"$error":"#REF!"},{"$f":"ROUND(#REF!,2)","v":{"$error":"#REF!"}},{"$error":"#REF!"},null,1,1,1]
[{"$f":"#REF!","v":{"$error":"#REF!"}},null,null,null,null,{"$f":"ROUND(#REF!,2)","v":{"$error":"#REF!"}},{"$error":"#REF!"},{"$f":"ROUND(#REF!,2)","v":{"$error":"#REF!"}},{"$error":"#REF!"},{"$f":"ROUND(#REF!,2)","v":{"$error":"#REF!"}},{"$error":"#REF!"},{"$f":"ROUND(#REF!,2)","v":{"$error":"#REF!"}},{"$error":"#REF!"},null,1,1,1]
[{"$f":"#REF!","v":{"$error":"#REF!"}},null,null,null,null,{"$f":"ROUND(#REF!,2)","v":{"$error":"#REF!"}},{"$error":"#REF!"},{"$f":"ROUND(#REF!,2)","v":{"$error":"#REF!"}},{"$error":"#REF!"},{"$f":"ROUND(#REF!,2)","v":{"$error":"#REF!"}},{"$error":"#REF!"},{"$f":"ROUND(#REF!,2)","v":{"$error":"#REF!"}},{"$error":"#REF!"},null,1,1,1]
[{"$f":"#REF!","v":{"$error":"#REF!"}},null,null,null,null,{"$f":"ROUND(#REF!,2)","v":{"$error":"#REF!"}},{"$error":"#REF!"},{"$f":"ROUND(#REF!,2)","v":{"$error":"#REF!"}},{"$error":"#REF!"},{"$f":"ROUND(#REF!,2)","v":{"$error":"#REF!"}},{"$error":"#REF!"},{"$f":"ROUND(#REF!,2)","v":{"$error":"#REF!"}},{"$error":"#REF!"},null,1,1,1]
["TOTAL",null,null,null,null,{"$f":"SUM(F335:F340)","v":{"$error":"#REF!"}},{"$error":"#REF!"},{"$error":"#REF!"},{"$error":"#REF!"},{"$error":"#REF!"},{"$error":"#REF!"},{"$f":"ROUND(#REF!,2)","v":{"$error":"#REF!"}},{"$error":"#REF!"},null,1,1,1]
["Costes Indirectos (sólo para Organismos de Investigación)",null,null,null,null,{"$f":"#REF!","v":{"$error":"#REF!"}},{"$f":"ROUND(IF(#REF!=\"SI\",0.15*Q206,0),2)","v":{"$error":"#REF!"}},{"$f":"#REF!","v":{"$error":"#REF!"}},{"$f":"ROUND(IF(#REF!=\"SI\",0.15*R206,0),2)","v":{"$error":"#REF!"}},{"$f":"#REF!","v":{"$error":"#REF!"}},{"$f":"ROUND(IF(#REF!=\"SI\",0.15*S206,0),2)","v":{"$error":"#REF!"}},{"$f":"ROUND(#REF!,2)","v":{"$error":"#REF!"}},{"$error":"#REF!"},null,1,1,1]
[]
[null,"PRESUPUESTO TOTAL ANTES DE RESTRICCIONES"]
[]
["PRESUPUESTO TOTAL DEL PROYECTO (€) ",null,null,"Periodo 1",null,"Periodo 2",null,"Periodo 3",null,"Total "]
[null,null,null,"Solicitado","Aceptado","Solicitado","Aceptado","Solicitado","Aceptado","Solicitado","Aceptado"]
["AMORTIZACIONES ACTIVOS ",null,null,{"$f":"ROUND(#REF!,2)","v":{"$error":"#REF!"}},{"$f":"ROUND(J97,2)","v":{"$error":"#REF!"}},{"$f":"ROUND(#REF!,2)","v":{"$error":"#REF!"}},{"$f":"ROUND(N97,2)","v":{"$error":"#REF!"}},{"$f":"ROUND(#REF!,2)","v":{"$error":"#REF!"}},{"$f":"ROUND(R97,2)","v":{"$error":"#REF!"}},{"$f":"ROUND(#REF!,2)","v":{"$error":"#REF!"}},{"$f":"ROUND(T97,2)","v":{"$error":"#REF!"}}]
["PERSONAL ",null,null,{"$f":"ROUND(#REF!,2)","v":{"$error":"#REF!"}},{"$f":"ROUND(Q206,2)","v":{"$error":"#REF!"}},{"$f":"ROUND(#REF!,2)","v":{"$error":"#REF!"}},{"$f":"ROUND(R206,2)","v":{"$error":"#REF!"}},{"$f":"ROUND(#REF!,2)","v":{"$error":"#REF!"}},{"$f":"ROUND(S206,2)","v":{"$error":"#REF!"}},{"$f":"ROUND(#REF!,2)","v":{"$error":"#REF!"}},{"$f":"ROUND(U206,2)","v":{"$error":"#REF!"}}]
["Personal dedicado en exclusiva a I+D",null,null,{"$f":"ROUND(#REF!,2)","v":{"$error":"#REF!"}},{"$f":"ROUND(SUMIFS(Q117:Q205,H117:H205,\"=SI\"),2)","v":0},{"$f":"ROUND(#REF!,2)","v":{"$error":"#REF!"}},{"$f":"ROUND(SUMIFS(R117:R205,H117:H205,\"=SI\"),2)","v":0},{"$f":"ROUND(#REF!,2)","v":{"$error":"#REF!"}},{"$f":"ROUND(SUMIFS(S117:S205,H117:H205,\"=SI\"),2)","v":0},{"$f":"ROUND(#REF!,2)","v":{"$error":"#REF!"}},{"$f":"E350+G350+I350","v":0}]
["Otro personal de I+D",null,null,{"$f":"ROUND(#REF!,2)","v":{"$error":"#REF!"}},{"$f":"ROUND(E349-E350,2)","v":{"$error":"#REF!"}},{"$f":"ROUND(#REF!,2)","v":{"$error":"#REF!"}},{"$f":"ROUND(G349-G350,2)","v":{"$error":"#REF!"}},{"$f":"ROUND(#REF!,2)","v":{"$error":"#REF!"}},{"$f":"ROUND(I349-I350,2)","v":{"$error":"#REF!"}},{"$f":"ROUND(#REF!,2)","v":{"$error":"#REF!"}},{"$f":"E351+G351+I351","v":{"$error":"#REF!"}}]
["MATERIALES ",null,null,{"$f":"ROUND(#REF!,2)","v":{"$error":"#REF!"}},{"$f":"ROUND(F256,2)","v":{"$error":"#REF!"}},{"$f":"ROUND(#REF!,2)","v":{"$error":"#REF!"}},{"$f":"ROUND(H256,2)","v":{"$error":"#REF!"}},{"$f":"ROUND(#REF!,2)","v":{"$error":"#REF!"}},{"$f":"ROUND(J256,2)","v":{"$error":"#REF!"}},{"$f":"ROUND(#REF!,2)","v":{"$error":"#REF!"}},{"$f":"ROUND(L256,2)","v":{"$error":"#REF!"}}]
["COLABORACIONES EXTERNAS ",null,null,{"$f":"ROUND(#REF!,2)","v":{"$error":"#REF!"}},{"$f":"ROUND(H306,2)","v":{"$error":"#REF!"}},{"$f":"ROUND(#REF!,2)","v":{"$error":"#REF!"}},{"$f":"ROUND(J306,2)","v":{"$error":"#REF!"}},{"$f":"ROUND(#REF!,2)","v":{"$error":"#REF!"}},{"$f":"ROUND(L306,2)","v":{"$error":"#REF!"}},{"$f":"ROUND(#REF!,2)","v":{"$error":"#REF!"}},{"$f":"ROUND(N306,2)","v":{"$error":"#REF!"}},{"$f":"IF(K353>K359/2,\"Colaboraciones supera el 50% del Presupuesto Total. Ver Art.12 OF\",\"\")","v":{"$error":"#REF!"}}]
["Universidades + CCTT + OPI+ Unidades de I+D+i empresarial",null,null,{"$f":"ROUND(#REF!,2)","v":{"$error":"#REF!"}},{"$f":"ROUND(H316,2)","v":0},{"$f":"ROUND(#REF!,2)","v":{"$error":"#REF!"}},{"$f":"ROUND(J316,2)","v":0},{"$f":"ROUND(#REF!,2)","v":{"$error":"#REF!"}},{"$f":"ROUND(L316,2)","v":0},{"$f":"ROUND(#REF!,2)","v":{"$error":"#REF!"}},{"$f":"ROUND(N316,2)","v":0}]
["Otras colaboraciones (empresas)",null,null,{"$f":"ROUND(#REF!,2)","v":{"$error":"#REF!"}},{"$f":"ROUND(H310,2)","v":0},{"$f":"ROUND(#REF!,2)","v":{"$error":"#REF!"}},{"$f":"ROUND(J310,2)","v":0},{"$f":"ROUND(#REF!,2)","v":{"$error":"#REF!"}},{"$f":"ROUND(L310,2)","v":0},{"$f":"ROUND(#REF!,2)","v":{"$error":"#REF!"}},{"$f":"ROUND(N310,2)","v":0}]
["OTROS COSTES",null,null,{"$f":"ROUND(#REF!,2)","v":{"$error":"#REF!"}},{"$f":"ROUND(G341,2)","v":{"$error":"#REF!"}},{"$f":"ROUND(#REF!,2)","v":{"$error":"#REF!"}},{"$f":"ROUND(I341,2)","v":{"$error":"#REF!"}},{"$f":"ROUND(#REF!,2)","v":{"$error":"#REF!"}},{"$f":"ROUND(K341,2)","v":{"$error":"#REF!"}},{"$f":"ROUND(#REF!,2)","v":{"$error":"#REF!"}},{"$f":"ROUND(M341,2)","v":{"$error":"#REF!"}}]
["COSTES INDIRECTOS",null,null,{"$f":"ROUND(#REF!,2)","v":{"$error":"#REF!"}},{"$f":"ROUND(G342,2)","v":{"$error":"#REF!"}},{"$f":"ROUND(#REF!,2)","v":{"$error":"#REF!"}},{"$f":"ROUND(I342,2)","v":{"$error":"#REF!"}},{"$f":"ROUND(#REF!,2)","v":{"$error":"#REF!"}},{"$f":"ROUND(K342,2)","v":{"$error":"#REF!"}},{"$f":"ROUND(#REF!,2)","v":{"$error":"#REF!"}},{"$f":"ROUND(M342,2)","v":{"$error":"#REF!"}}]
["INGRESOS DEL PROYECTO",null,null,{"$f":"#REF!","v":{"$error":"#REF!"}},null,{"$f":"#REF!","v":{"$error":"#REF!"}},null,{"$f":"#REF!","v":{"$error":"#REF!"}},null,{"$f":"#REF!","v":{"$error":"#REF!"}},{"$f":"E358+G358+I358","v":0},"REVISAR LA PESTAÑA INGRESOS DEL PROYECTO",null,null,null,"Ingresos:",{"$f":"#REF!","v":{"$error":"#REF!"}}]
["TOTAL",null,null,{"$f":"ROUND(#REF!,2)","v":{"$error":"#REF!"}},{"$f":"ROUND(SUM(E348,E349,E352,E353,E356,E357-E358),2)","v":{"$error":"#REF!"}},{"$f":"ROUND(#REF!,2)","v":{"$error":"#REF!"}},{"$f":"ROUND(SUM(G348,G349,G352,G353,G356,G357-G358),2)","v":{"$error":"#REF!"}},{"$f":"ROUND(#REF!,2)","v":{"$error":"#REF!"}},{"$f":"ROUND(SUM(I348,I349,I352,I353,I356,I357-I358),2)","v":{"$error":"#REF!"}},{"$f":"ROUND(#REF!,2)","v":{"$error":"#REF!"}},{"$f":"E359+G359+I359","v":{"$error":"#REF!"}}]
["IMPORTE SUBVENCIÓN Calculada",null,null,null,{"$f":"ROUND(E359*$J$21,2)","v":{"$error":"#REF!"}},null,{"$f":"ROUND(G359*$J$21,2)","v":{"$error":"#REF!"}},null,{"$f":"ROUND(I359*$J$21,2)","v":{"$error":"#REF!"}},null,{"$f":"E360+G360+I360","v":{"$error":"#REF!"}}]
["MÁXIMO 200.000 € / Expediente",null,null,null,{"$f":"ROUND(IF($K$360<=200000,E360,E360*$D$363),2)","v":{"$error":"#REF!"}},null,{"$f":"ROUND(IF($K$360<=200000,G360,G360*$D$363),2)","v":{"$error":"#REF!"}},null,{"$f":"ROUND(K361-E361-G361,2)","v":{"$error":"#REF!"}},null,{"$f":"IF($K$360<=200000,K360,200000)","v":{"$error":"#REF!"}},{"$f":"IF(K361<K360,\"Se ha aplicado el máximo por beneficiaria según Art. 7,2\",\"\")","v":{"$error":"#REF!"}}]
[]
[null,"% Reductor",null,{"$f":"IFERROR(IF(OR($D$6=$V$10,$D$6=$V$11,$D$6=$V$12),200000/$K$360,1),1)","v":1}]
[]
[null,"RESTRICCIÓN DE 500.000 € POR PROYECTO"]
[]
["IMPORTE SUBVENCIÓN LIMITADA",null,null,null,{"$f":"ROUND(E361*$D$370,2)","v":{"$error":"#REF!"}},null,{"$f":"ROUND(G361*$D$370,2)","v":{"$error":"#REF!"}},null,{"$f":"ROUND(K367-E367-G367,2)","v":{"$error":"#REF!"}},null,{"$f":"ROUND(K361*$D$370,2)","v":{"$error":"#REF!"}},{"$f":"IF(K367<K361,\"Se ha aplicado el máximo por proyecto según Art. 7,2\",\"\")","v":{"$error":"#REF!"}}]
[]
[null,"Presupuesto proyecto",null,{"$f":"PUNTOS!$T$49","v":0},{"$f":"IF(AND(D6=V9,OR(PUNTOS!T45<0.6,PUNTOS!T45>0.9)),\"Ver Art.2.3 OF. Presupuesto de OI debe estar entre el 10 y el 40% del coste total\",IF(AND(D7=V16,K359>0.7*PUNTOS!T44),\"Ver Art.2.2 OF. En colaboración ninguna debe superar el 70% el coste total\",\"\"))","v":{"$error":"#REF!"}}]
[null,"% Reductor",null,{"$f":"IFERROR(IF($D$369>500000,500000/$D$369,1),1)","v":1}]
[]
[null,"FIN DE LA VALORACIÓN"]

{"sheet":"Presupuesto","index":4,"n_rows":1048576,"n_cols":12,"rows_kept":4500,"cut":true,"hidden":false,"merged":[[22,2,22,9],[22,10,22,12],[23,2,23,9],[23,10,23,12],[24,2,24,9],[24,10,24,12],[13,2,13,9],[13,10,13,12],[15,2,15,12],[16,2,16,9],[16,10,16,12],[17,2,17,9],[17,10,17,12],[18,2,18,9],[18,10,18,12],[5,2,5,9],[6,2,6,9],[7,2,7,9],[8,2,8,9],[9,2,9,9],[10,2,10,9],[11,2,11,9],[12,2,12,9],[6,10,6,12],[7,10,7,12],[8,10,8,12],[9,10,9,12],[19,2,19,9],[19,10,19,12],[20,2,20,9],[20,10,20,12],[21,2,21,9],[21,10,21,12],[12,10,12,12],[1,4,1,5],[1,2,1,3],[1,6,1,10],[2,2,2,3],[2,6,2,10],[2,11,2,12],[2,4,2,5],[5,10,5,12],[0,4,0,12],[4,2,4,12],[1,11,1,12],[10,10,10,12],[11,10,11,12]],"bounds":{"rows_first":2000,"rows_last":500,"rows_between":2000,"halvings":0}}
[null,null,null,null,"CONVOCATORIA 2024 DE AYUDAS PARA LA CREACIÓN Y CONSOLIDACIÓN DE EMPRESAS INNOVADORAS DE BASE TECNOLÓGICA (EIBT)"]
[null,null,"EMPRESA",null,null,null,"NIF"]
[null,null,"FECHA CREACIÓN",null,null,null,"INTENSIDAD DE AYUDA",null,null,null,null,{"$f":"+IF(E3>=B1048576,75%,55%)","v":0.55000000000000004}]
[]
[null,null,"PRESUPUESTO PERIODO 1 (01/11/2023 - 30/04/2024)"]
[null,null,"a) Gastos de personal contratado"]
[null,null,"b) Gastos de formación"]
[null,null,"c) Gastos de asistencia a ferias como expositor"]
[null,null,"d) Gastos de realización de maquetas y prototipos"]
[null,null,"e) Cuotas por servicios prestados entidades de alojamiento de start-ups"]
[null,null,"f) Gastos de alquiler de locales"]
[null,null,"g) Consultoría y asistencia técnica"]
[null,null,"h) Gastos de patentes y marcas"]
[null,null,"TOTAL",null,null,null,null,null,null,null,{"$f":"SUM(K6:M13)","v":0}]
[]
[null,null,"PRESUPUESTO PERIODO 2 (01/05/2024 - 31/10/2024)"]
[null,null,"a) Gastos de personal contratado"]
[null,null,"b) Gastos de formación"]
[null,null,"c) Gastos de asistencia a ferias como expositor"]
[null,null,"d) Gastos de realización de maquetas y prototipos"]
[null,null,"e) Cuotas por servicios prestados entidades de alojamiento de start-ups"]
[null,null,"f) Gastos de alquiler de locales"]
[null,null,"g) Consultoría y asistencia técnica"]
[null,null,"h) Gastos de patentes y marcas"]
[null,null,"TOTAL",null,null,null,null,null,null,null,{"$f":"SUM(K17:M24)","v":0}]
[]
[]
[]
[]
[]
[]
[]
[]
[]
[]
[]
[]
[]
[]
[]
[]
[]
[]
[]
[]
[]
[]
[]
[]
[]
[]
[]
[]
[]
[]
[]
[]
[]
[]
[]
[]
[]
[]
[]
[]
[]
[]
[]
[]
[]
[]
[]
[]
[]
[]
[]
[]
[]
[]
[]
[]
[]
[]
[]
[]
[]
[]
[]
[]
[]
[]
[]
[]
[]
[]
[]
[]
[]
[]
[]
[]
[]
[]
[]
[]
[]
[]
[]
[]
[]
[]
[]
[]
[]
[]
[]
[]
[]
[]
[]
[]
[]
[]
[]
[]
[]
[]
[]
[]
[]
[]
[]
[]
[]
[]
[]
[]
[]
[]
[]
[]
[]
[]
[]
[]
[]
[]
[]
[]
[]
[]
[]
[]
[]
[]
[]
[]
[]
[]
[]
[]
[]
[]
[]
[]
[]
[]
[]
[]
[]
[]
[]
[]
[]
[]
[]
[]
[]
[]
[]
[]
[]
[]
[]
[]
[]
[]
[]
[]
[]
[]
[]
[]
[]
[]
[]
[]
[]
[]
[]
[]
[]
[]
[]
[]
[]
[]
[]
[]
[]
[]
[]
[]
[]
[]
[]
[]
[]
[]
[]
[]
[]
[]
[]
[]
[]
[]
[]
[]
[]
[]
[]
[]
[]
[]
[]
[]
[]
[]
[]
[]
[]
[]
[]
[]
[]
[]
[]
[]
[]
[]
[]
[]
[]
[]
[]
[]
[]
[]
[]
[]
[]
[]
[]
[]
[]
[]
[]
[]
[]
[]
[]
[]
[]
[]
[]
[]
[]
[]
[]
[]
[]
[]
[]
[]
[]
[]
[]
[]
[]
[]
[]
[]
[]
[]
[]
[]
[]
[]
[]
[]
[]
[]
[]
[]
[]
[]
[]
[]
[]
[]
[]
[]
[]
[]
[]
[]
[]
[]
[]
[]
[]
[]
[]
[]
[]
[]
[]
[]
[]
[]
[]
[]
[]
[]
[]
[]
[]
[]
[]
[]
[]
[]
[]
[]
[]
[]
[]
[]
[]
[]
[]
[]
[]
[]
[]
[]
[]
[]
[]
[]
[]
[]
[]
[]
[]
[]
[]
[]
[]
[]
[]
[]
[]
[]
[]
[]
[]
[]
[]
[]
[]
[]
[]
[]
[]
[]
[]
[]
[]
[]
[]
[]
[]
[]
[]
[]
[]
[]
[]
[]
[]
[]
[]
[]
[]
[]
[]
[]
[]
[]
[]
[]
[]
[]
[]
[]
[]
[]
[]
[]
[]
[]
[]
[]
[]
[]
[]
[]
[]
[]
[]
[]
[]
[]
[]
[]
[]
[]
[]
[]
[]
[]
[]
[]
[]
[]
[]
[]
[]
[]
[]
[]
[]
[]
[]
[]
[]
[]
[]
[]
[]
[]
[]
[]
[]
[]
[]
[]
[]
[]
[]
[]
[]
[]
[]
[]
[]
[]
[]
[]
[]
[]
[]
[]
[]
[]
[]
[]
[]
[]
[]
[]
[]
[]
[]
[]
[]
[]
[]
[]
[]
[]
[]
[]
[]
[]
[]
[]
[]
[]
[]
[]
[]
[]
[]
[]
[]
[]
[]
[]
[]
[]
[]
[]
[]
[]
[]
[]
[]
[]
[]
[]
[]
[]
[]
[]
[]
[]
[]
[]
[]
[]
[]
[]
[]
[]
[]
[]
[]
[]
[]
[]
[]
[]
[]
[]
[]
[]
[]
[]
[]
[]
[]
[]
[]
[]
[]
[]
[]
[]
[]
[]
[]
[]
[]
[]
[]
[]
[]
[]
[]
[]
[]
[]
[]
[]
[]
[]
[]
[]
[]
[]
[]
[]
[]
[]
[]
[]
[]
[]
[]
[]
[]
[]
[]
[]
[]
[]
[]
[]
[]
[]
[]
[]
[]
[]
[]
[]
[]
[]
[]
[]
[]
[]
[]
[]
[]
[]
[]
[]
[]
[]
[]
[]
[]
[]
[]
[]
[]
[]
[]
[]
[]
[]
[]
[]
[]
[]
[]
[]
[]
[]
[]
[]
[]
[]
[]
[]
[]
[]
[]
[]
[]
[]
[]
[]
[]
[]
[]
[]
[]
[]
[]
[]
[]
[]
[]
[]
[]
[]
[]
[]
[]
[]
[]
[]
[]
[]
[]
[]
[]
[]
[]
[]
[]
[]
[]
[]
[]
[]
[]
[]
[]
[]
[]
[]
[]
[]
[]
[]
[]
[]
[]
[]
[]
[]
[]
[]
[]
[]
[]
[]
[]
[]
[]
[]
[]
[]
[]
[]
[]
[]
[]
[]
[]
[]
[]
[]
[]
[]
[]
[]
[]
[]
[]
[]
[]
[]
[]
[]
[]
[]
[]
[]
[]
[]
[]
[]
[]
[]
[]
[]
[]
[]
[]
[]
[]
[]
[]
[]
[]
[]
[]
[]
[]
[]
[]
[]
[]
[]
[]
[]
[]
[]
[]
[]
[]
[]
[]
[]
[]
[]
[]
[]
[]
[]
[]
[]
[]
[]
[]
[]
[]
[]
[]
[]
[]
[]
[]
[]
[]
[]
[]
[]
[]
[]
[]
[]
[]
[]
[]
[]
[]
[]
[]
[]
[]
[]
[]
[]
[]
[]
[]
[]
[]
[]
[]
[]
[]
[]
[]
[]
[]
[]
[]
[]
[]
[]
[]
[]
[]
[]
[]
[]
[]
[]
[]
[]
[]
[]
[]
[]
[]
[]
[]
[]
[]
[]
[]
[]
[]
[]
[]
[]
[]
[]
[]
[]
[]
[]
[]
[]
[]
[]
[]
[]
[]
[]
[]
[]
[]
[]
[]
[]
[]
[]
[]
[]
[]
[]
[]
[]
[]
[]
[]
[]
[]
[]
[]
[]
[]
[]
[]
[]
[]
[]
[]
[]
[]
[]
[]
[]
[]
[]
[]
[]
[]
[]
[]
[]
[]
[]
[]
[]
[]
[]
[]
[]
[]
[]
[]
[]
[]
[]
[]
[]
[]
[]
[]
[]
[]
[]
[]
[]
[]
[]
[]
[]
[]
[]
[]
[]
[]
[]
[]
[]
[]
[]
[]
[]
[]
[]
[]
[]
[]
[]
[]
[]
[]
[]
[]
[]
[]
[]
[]
[]
[]
[]
[]
[]
[]
[]
[]
[]
[]
[]
[]
[]
[]
[]
[]
[]
[]
[]
[]
[]
[]
[]
[]
[]
[]
[]
[]
[]
[]
[]
[]
[]
[]
[]
[]
[]
[]
[]
[]
[]
[]
[]
[]
[]
[]
[]
[]
[]
[]
[]
[]
[]
[]
[]
[]
[]
[]
[]
[]
[]
[]
[]
[]
[]
[]
[]
[]
[]
[]
[]
[]
[]
[]
[]
[]
[]
[]
[]
[]
[]
[]
[]
[]
[]
[]
[]
[]
[]
[]
[]
[]
[]
[]
[]
[]
[]
[]
[]
[]
[]
[]
[]
[]
[]
[]
[]
[]
[]
[]
[]
[]
[]
[]
[]
[]
[]
[]
[]
[]
[]
[]
[]
[]
[]
[]
[]
[]
[]
[]
[]
[]
[]
[]
[]
[]
[]
[]
[]
[]
[]
[]
[]
[]
[]
[]
[]
[]
[]
[]
[]
[]
[]
[]
[]
[]
[]
[]
[]
[]
[]
[]
[]
[]
[]
[]
[]
[]
[]
[]
[]
[]
[]
[]
[]
[]
[]
[]
[]
[]
[]
[]
[]
[]
[]
[]
[]
[]
[]
[]
[]
[]
[]
[]
[]
[]
[]
[]
[]
[]
[]
[]
[]
[]
[]
[]
[]
[]
[]
[]
[]
[]
[]
[]
[]
[]
[]
[]
[]
[]
[]
[]
[]
[]
[]
[]
[]
[]
[]
[]
[]
[]
[]
[]
[]
[]
[]
[]
[]
[]
[]
[]
[]
[]
[]
[]
[]
[]
[]
[]
[]
[]
[]
[]
[]
[]
[]
[]
[]
[]
[]
[]
[]
[]
[]
[]
[]
[]
[]
[]
[]
[]
[]
[]
[]
[]
[]
[]
[]
[]
[]
[]
[]
[]
[]
[]
[]
[]
[]
[]
[]
[]
[]
[]
[]
[]
[]
[]
[]
[]
[]
[]
[]
[]
[]
[]
[]
[]
[]
[]
[]
[]
[]
[]
[]
[]
[]
[]
[]
[]
[]
[]
[]
[]
[]
[]
[]
[]
[]
[]
[]
[]
[]
[]
[]
[]
[]
[]
[]
[]
[]
[]
[]
[]
[]
[]
[]
[]
[]
[]
[]
[]
[]
[]
[]
[]
[]
[]
[]
[]
[]
[]
[]
[]
[]
[]
[]
[]
[]
[]
[]
[]
[]
[]
[]
[]
[]
[]
[]
[]
[]
[]
[]
[]
[]
[]
[]
[]
[]
[]
[]
[]
[]
[]
[]
[]
[]
[]
[]
[]
[]
[]
[]
[]
[]
[]
[]
[]
[]
[]
[]
[]
[]
[]
[]
[]
[]
[]
[]
[]
[]
[]
[]
[]
[]
[]
[]
[]
[]
[]
[]
[]
[]
[]
[]
[]
[]
[]
[]
[]
[]
[]
[]
[]
[]
[]
[]
[]
[]
[]
[]
[]
[]
[]
[]
[]
[]
[]
[]
[]
[]
[]
[]
[]
[]
[]
[]
[]
[]
[]
[]
[]
[]
[]
[]
[]
[]
[]
[]
[]
[]
[]
[]
[]
[]
[]
[]
[]
[]
[]
[]
[]
[]
[]
[]
[]
[]
[]
[]
[]
[]
[]
[]
[]
[]
[]
[]
[]
[]
[]
[]
[]
[]
[]
[]
[]
[]
[]
[]
[]
[]
[]
[]
[]
[]
[]
[]
[]
[]
[]
[]
[]
[]
[]
[]
[]
[]
[]
[]
[]
[]
[]
[]
[]
[]
[]
[]
[]
[]
[]
[]
[]
[]
[]
[]
[]
[]
[]
[]
[]
[]
[]
[]
[]
[]
[]
[]
[]
[]
[]
[]
[]
[]
[]
[]
[]
[]
[]
[]
[]
[]
[]
[]
[]
[]
[]
[]
[]
[]
[]
[]
[]
[]
[]
[]
[]
[]
[]
[]
[]
[]
[]
[]
[]
[]
[]
[]
[]
[]
[]
[]
[]
[]
[]
[]
[]
[]
[]
[]
[]
[]
[]
[]
[]
[]
[]
[]
[]
[]
[]
[]
[]
[]
[]
[]
[]
[]
[]
[]
[]
[]
[]
[]
[]
[]
[]
[]
[]
[]
[]
[]
[]
[]
[]
[]
[]
[]
[]
[]
[]
[]
[]
[]
[]
[]
[]
[]
[]
[]
[]
[]
[]
[]
[]
[]
[]
[]
[]
[]
[]
[]
[]
[]
[]
[]
[]
[]
[]
[]
[]
[]
[]
[]
[]
[]
[]
[]
[]
[]
[]
[]
[]
[]
[]
[]
[]
[]
[]
[]
[]
[]
[]
[]
[]
[]
[]
[]
[]
[]
[]
[]
[]
[]
[]
[]
[]
[]
[]
[]
[]
[]
[]
[]
[]
[]
[]
[]
[]
[]
[]
[]
[]
[]
[]
[]
[]
[]
[]
[]
[]
[]
[]
[]
[]
[]
[]
[]
[]
[]
[]
[]
[]
[]
[]
[]
[]
[]
[]
[]
[]
[]
[]
[]
[]
[]
[]
[]
[]
[]
[]
[]
[]
[]
[]
[]
[]
[]
[]
[]
[]
[]
[]
[]
[]
[]
[]
[]
[]
[]
[]
[]
[]
[]
[]
[]
[]
[]
[]
[]
[]
[]
[]
[]
[]
[]
[]
[]
[]
[]
[]
[]
[]
[]
[]
[]
[]
[]
[]
[]
[]
[]
[]
[]
[]
[]
[]
[]
[]
[]
[]
[]
[]
[]
[]
[]
[]
[]
[]
[]
[]
[]
[]
[]
[]
[]
[]
[]
[]
[]
[]
[]
[]
[]
[]
[]
[]
[]
[]
[]
[]
[]
[]
[]
[]
[]
[]
[]
[]
[]
[]
[]
[]
[]
[]
[]
[]
[]
[]
[]
[]
[]
[]
[]
[]
[]
[]
[]
[]
[]
[]
[]
[]
[]
[]
[]
[]
[]
[]
[]
[]
[]
[]
[]
[]
[]
[]
[]
[]
[]
[]
[]
[]
[]
[]
[]
[]
[]
[]
[]
[]
[]
[]
[]
[]
[]
[]
[]
[]
[]
[]
[]
[]
[]
[]
[]
[]
[]
[]
[]
[]
[]
[]
[]
[]
[]
[]
[]
[]
[]
[]
[]
[]
[]
[]
[]
[]
[]
[]
[]
[]
[]
[]
[]
[]
[]
[]
[]
[]
[]
[]
[]
[]
[]
[]
[]
[]
[]
[]
[]
[]
[]
[]
[]
[]
[]
[]
[]
[]
[]
[]
[]
[]
[]
[]
[]
[]
[]
[]
[]
[]
[]
[]
[]
[]
[]
[]
[]
[]
[]
[]
[]
[]
[]
[]
[]
[]
[]
[]
[]
[]
[]
[]
[]
[]
[]
[]
[]
[]
[]
[]
[]
[]
[]
[]
[]
[]
[]
[]
[]
[]
[]
[]
[]
[]
[]
[]
[]
[]
[]
[]
[]
[]
[]
[]
[]
[]
[]
[]
[]
[]
[]
[]
[]
[]
[]
[]
[]
[]
[]
[]
[]
[]
[]
[]
[]
[]
[]
[]
[]
[]
[]
[]
[]
[]
[]
[]
[]
[]
[]
[]
[]
[]
[]
[]
[]
[]
[]
[]
[]
[]
[]
[]
[]
[]
[]
[]
[]
[]
[]
[]
[]
[]
[]
[]
[]
[]
[]
[]
[]
[]
[]
[]
[]
[]
[]
[]
[]
[]
[]
[]
[]
[]
[]
[]
[]
[]
[]
[]
[]
[]
[]
[]
[]
[]
[]
[]
[]
[]
[]
[]
[]
[]
[]
[]
[]
[]
[]
[]
[]
[]
[]
[]
[]
[]
[]
[]
[]
[]
[]
[]
[]
[]
[]
[]
[]
[]
[]
[]
[]
[]
[]
[]
[]
[]
[]
[]
[]
[]
[]
[]
[]
[]
[]
[]
[]
[]
[]
[]
[]
[]
[]
[]
[]
[]
[]
[]
[]
[]
[]
[]
[]
[]
[]
[]
[]
[]
[]
[]
[]
[]
[]
[]
[]
[]
[]
[]
[]
[]
[]
[]
[]
[]
[]
[]
[]
[]
[]
[]
[]
[]
[]
[]
[]
[]
[]
[]
[]
[]
[]
[]
[]
[]
[]
[]
[]
[]
[]
[]
[]
[]
[]
[]
[]
[]
[]
[]
[]
[]
[]
[]
[]
[]
[]
[]
[]
[]
[]
[]
[]
[]
[]
[]
[]
[]
[]
[]
[]
[]
[]
[]
[]
[]
[]
[]
[]
[]
[]
[]
[]
[]
[]
[]
[]
[]
[]
[]
[]
[]
[]
[]
[]
[]
[]
[]
[]
[]
[]
[]
[]
[]
[]
[]
[]
[]
[]
[]
[]
[]
[]
[]
[]
[]
[]
[]
[]
[]
[]
[]
[]
[]
[]
[]
[]
[]
[]
[]
[]
[]
[]
[]
[]
[]
[]
[]
[]
[]
[]
[]
[]
[]
[]
[]
[]
[]
[]
[]
[]
[]
[]
[]
[]
[]
[]
[]
[]
[]
[]
[]
[]
[]
[]
[]
[]
[]
[]
[]
[]
[]
[]
[]
[]
[]
[]
[]
[]
[]
[]
[]
[]
[]
[]
[]
[]
[]
[]
[]
[]
[]
[]
[]
[]
[]
[]
[]
[]
[]
[]
[]
[]
[]
[]
[]
[]
[]
[]
[]
[]
[]
[]
[]
[]
[]
[]
[]
[]
[]
[]
[]
[]
[]
[]
[]
[]
[]
[]
[]
[]
[]
[]
[]
[]
[]
[]
[]
[]
[]
[]
[]
[]
[]
[]
[]
[]
[]
[]
[]
[]
[]
[]
[]
[]
[]
[]
[]
[]
[]
[]
[]
[]
[]
[]
[]
[]
[]
[]
[]
[]
[]
[]
[]
[]
[]
[]
[]
[]
[]
[]
[]
[]
[]
[]
[]
[]
[]
[]
[]
[]
[]
[]
[]
[]
[]
[]
[]
[]
[]
[]
[]
[]
[]
[]
[]
[]
[]
[]
[]
[]
[]
[]
[]
[]
[]
[]
[]
[]
[]
[]
[]
[]
[]
[]
[]
[]
[]
[]
[]
[]
[]
[]
[]
[]
[]
[]
[]
[]
[]
[]
[]
[]
[]
[]
[]
[]
[]
[]
[]
[]
[]
[]
[]
[]
[]
[]
[]
[]
[]
[]
[]
[]
[]
[]
[]
[]
[]
[]
[]
[]
[]
[]
[]
[]
[]
[]
[]
[]
[]
[]
[]
[]
[]
[]
[]
[]
[]
[]
[]
[]
[]
[]
[]
[]
[]
[]
[]
[]
[]
[]
[]
[]
[]
[]
[]
[]
[]
[]
[]
[]
[]
[]
[]
[]
[]
[]
[]
[]
[]
[]
[]
[]
[]
[]
[]
[]
[]
[]
[]
[]
[]
[]
[]
[]
[]
[]
[]
[]
[]
[]
[]
[]
[]
[]
[]
[]
[]
[]
[]
[]
[]
[]
[]
[]
[]
[]
[]
[]
[]
[]
[]
[]
[]
[]
[]
[]
[]
[]
[]
[]
[]
[]
[]
[]
[]
[]
[]
[]
[]
[]
[]
[]
[]
[]
[]
[]
[]
[]
[]
[]
[]
[]
[]
[]
[]
[]
[]
[]
[]
[]
[]
[]
[]
[]
[]
[]
[]
[]
[]
[]
[]
[]
[]
[]
[]
[]
[]
[]
[]
[]
[]
[]
[]
[]
[]
[]
[]
[]
[]
[]
[]
[]
[]
[]
[]
[]
[]
[]
[]
[]
[]
[]
[]
[]
[]
[]
[]
[]
[]
[]
[]
[]
[]
[]
[]
[]
[]
[]
[]
[]
[]
[]
[]
[]
[]
[]
[]
[]
[]
[]
[]
[]
[]
[]
[]
[]
[]
[]
[]
[]
[]
[]
[]
[]
[]
[]
[]
[]
[]
[]
[]
[]
[]
[]
[]
[]
[]
[]
[]
[]
[]
[]
[]
[]
[]
[]
[]
[]
[]
[]
[]
[]
[]
[]
[]
[]
[]
[]
[]
[]
[]
[]
[]
[]
[]
[]
[]
[]
[]
[]
[]
[]
[]
[]
[]
[]
[]
[]
[]
[]
[]
[]
[]
[]
[]
[]
[]
[]
[]
[]
[]
[]
[]
[]
[]
[]
[]
[]
[]
[]
[]
[]
[]
[]
[]
[]
[]
[]
[]
[]
[]
[]
[]
[]
[]
[]
[]
[]
[]
[]
[]
[]
[]
[]
[]
[]
[]
[]
[]
[]
[]
[]
[]
[]
[]
[]
[]
[]
[]
[]
[]
[]
[]
[]
[]
[]
[]
[]
[]
[]
[]
[]
[]
[]
[]
[]
[]
[]
[]
[]
[]
[]
[]
[]
[]
[]
[]
[]
[]
[]
[]
[]
[]
[]
[]
[]
[]
[]
[]
[]
[]
[]
[]
[]
[]
[]
[]
[]
[]
[]
[]
[]
[]
[]
[]
[]
[]
[]
[]
[]
[]
[]
[]
[]
[]
[]
[]
[]
[]
[]
[]
[]
[]
[]
[]
[]
[]
[]
[]
[]
[]
[]
[]
[]
[]
[]
[]
[]
[]
[]
[]
[]
[]
[]
[]
[]
[]
[]
[]
[]
[]
[]
[]
[]
[]
[]
[]
[]
[]
[]
[]
[]
[]
[]
[]
[]
[]
[]
[]
[]
[]
[]
[]
[]
[]
[]
[]
[]
[]
[]
[]
[]
[]
[]
[]
[]
[]
[]
[]
[]
[]
[]
[]
[]
[]
[]
[]
[]
[]
[]
[]
[]
[]
[]
[]
[]
[]
[]
[]
[]
[]
[]
[]
[]
[]
[]
[]
[]
[]
[]
[]
[]
[]
[]
[]
[]
[]
[]
[]
[]
[]
[]
[]
[]
[]
[]
[]
[]
[]
[]
[]
[]
[]
[]
[]
[]
[]
[]
[]
[]
[]
[]
[]
[]
[]
[]
[]
[]
[]
[]
[]
[]
[]
[]
[]
[]
[]
[]
[]
[]
[]
[]
[]
[]
[]
[]
[]
[]
[]
[]
[]
[]
[]
[]
[]
[]
[]
[]
[]
[]
[]
[]
[]
[]
[]
[]
[]
[]
[]
[]
[]
[]
[]
[]
[]
[]
[]
[]
[]
[]
[]
[]
[]
[]
[]
[]
[]
[]
[]
[]
[]
[]
[]
[]
[]
[]
[]
[]
[]
[]
[]
[]
[]
[]
[]
[]
[]
[]
[]
[]
[]
[]
[]
[]
[]
[]
[]
[]
[]
[]
[]
[]
[]
[]
[]
[]
[]
[]
[]
[]
[]
[]
[]
[]
[]
[]
[]
[]
[]
[]
[]
[]
[]
[]
[]
[]
[]
[]
[]
[]
[]
[]
[]
[]
[]
[]
[]
[]
[]
[]
[]
[]
[]
[]
[]
[]
[]
[]
[]
[]
[]
[]
[]
[]
[]
[]
[]
[]
[]
[]
[]
[]
[]
[]
[]
[]
[]
[]
[]
[]
[]
[]
[]
[]
[]
[]
[]
[]
[]
[]
[]
[]
[]
[]
[]
[]
[]
[]
[]
[]
[]
[]
[]
[]
[]
[]
[]
[]
[]
[]
[]
[]
[]
[]
[]
[]
[]
[]
[]
[]
[]
[]
[]
[]
[]
[]
[]
[]
[]
[]
[]
[]
[]
[]
[]
[]
[]
[]
[]
[]
[]
[]
[]
[]
[]
[]
[]
[]
[]
[]
[]
[]
[]
[]
[]
[]
[]
[]
[]
[]
[]
[]
[]
[]
[]
[]
[]
[]
[]
[]
[]
[]
[]
[]
[]
[]
[]
[]
[]
[]
[]
[]
[]
[]
[]
[]
[]
[]
[]
[]
[]
[]
[]
[]
[]
[]
[]
[]
[]
[]
[]
[]
[]
[]
[]
[]
[]
[]
[]
[]
[]
[]
[]
[]
[]
[]
[]
[]
[]
[]
[]
[]
[]
[]
[]
[]
[]
[]
[]
[]
[]
[]
[]
[]
[]
[]
[]
[]
[]
[]
[]
[]
[]
[]
[]
[]
[]
[]
[]
[]
[]
[]
[]
[]
[]
[]
[]
[]
[]
[]
[]
[]
[]
[]
[]
[]
[]
[]
[]
[]
[]
[]
[]
[]
[]
[]
[]
[]
[]
[]
[]
[]
[]
[]
[]
[]
[]
[]
[]
[]
[]
[]
[]
[]
[]
[]
[]
[]
[]
[]
[]
[]
[]
[]
[]
[]
[]
[]
[]
[]
[]
[]
[]
[]
[]
[]
[]
[]
[]
[]
[]
[]
[]
[]
[]
[]
[]
[]
[]
[]
[]
[]
[]
[]
[]
[]
[]
[]
[]
[]
[]
[]
[]
[]
[]
[]
[]
[]
[]
[]
[]
[]
[]
[]
[]
[]
[]
[]
[]
[]
[]
[]
[]
[]
[]
[]
[]
[]
[]
[]
[]
[]
[]
[]
[]
[]
[]
[]
[]
[]
[]
[]
[]
[]
[]
[]
[]
[]
[]
[]
[]
[]
[]
[]
[]
[]
[]
[]
[]
[]
[]
[]
[]
[]
[]
[]
[]
[]
[]
[]
[]
[]
[]
[]
[]
[]
[]
[]
[]
[]
[]
[]
[]
[]
[]
[]
[]
[]
[]
[]
[]
[]
[]
[]
[]
[]
[]
[]
[]
[]
[]
[]
[]
[]
[]
[]
[]
[]
[]
[]
[]
[]
[]
[]
[]
[]
[]
[]
[]
[]
[]
[]
[]
[]
[]
[]
[]
[]
[]
[]
[]
[]
[]
[]
[]
[]
[]
[]
[]
[]
[]
[]
[]
[]
[]
[]
[]
[]
[]
[]
[]
[]
[]
[]
[]
[]
[]
[]
[]
[]
[]
[]
[]
[]
[]
[]
[]
[]
[]
[]
[]
[]
[]
[]
[]
[]
[]
[]
[]
[]
[]
[]
[]
[]
[]
[]
[]
[]
[]
[]
[]
[]
[]
[]
[]
[]
[]
[]
[]
[]
[]
[]
[]
[]
[]
[]
[]
[]
[]
[]
[]
[]
[]
[]
[]
[]
[]
[]
[]
[]
[]
[]
[]
[]
[]
[]
[]
[]
[]
[]
[]
[]
[]
[]
[]
[]
[]
[]
[]
[]
[]
[]
[]
[]
[]
[]
[]
[]
[]
[]
[]
[]
[]
[]
[]
[]
[]
[]
[]
[]
[]
[]
[]
[]
[]
[]
[]
[]
[]
[]
[]
[]
[]
[]
[]
[]
[]
[]
[]
[]
[]
[]
[]
[]
[]
[]
[]
[]
[]
[]
[]
[]
[]
[]
[]
[]
[]
[]
[]
[]
[]
[]
[]
[]
[]
[]
[]
[]
[]
[]
[]
[]
[]
[]
[]
[]
[]
[]
[]
[]
[]
[]
[]
[]
[]
[]
[]
[]
[]
[]
[]
[]
[]
[]
[]
[]
[]
[]
[]
[]
[]
[]
[]
[]
[]
[]
[]
[]
[]
[]
[]
[]
[]
[]
[]
[]
[]
[]
[]
[]
[]
[]
[]
[]
[]
[]
[]
[]
[]
[]
[]
[]
[]
[]
[]
[]
[]
[]
[]
[]
[]
[]
[]
[]
[]
[]
[]
[]
[]
[]
[]
[]
[]
[]
[]
[]
[]
[]
[]
[]
[]
[]
[]
[]
[]
[]
[]
[]
[]
[]
[]
[]
[]
[]
[]
[]
[]
[]
[]
[]
[]
[]
[]
[]
[]
[]
[]
[]
[]
[]
[]
[]
[]
[]
[]
[]
[]
[]
[]
[]
[]
[]
[]
[]
[]
[]
[]
[]
[]
[]
[]
[]
[]
[]
[]
[]
[]
[]
[]
[]
[]
[]
[]
[]
[]
[]
[]
[]
[]
[]
[]
[]
[]
[]
[]
[]
[]
[]
[]
[]
[]
[]
[]
[]
[]
[]
[]
[]
[]
[]
[]
[]
[]
[]
[]
[]
[]
[]
[]
[]
[]
[]
[]
[]
[]
[]
[]
[]
[]
[]
[]
[]
[]
[]
[]
[]
[]
[]
[]
[]
[]
[]
[]
[]
[]
[]
[]
[]
[]
[]
[]
[]
[]
[]
[]
[]
[]
[]
[]
[]
[]
[]
[]
[]
[]
[]
[]
[]
[]
[]
[]
[]
[]
[]
[]
[]
[]
[]
[]
[]
[]
[]
[]
[]
[]
[]
[]
[]
[]
[]
[]
[]
[]
[]
[]
[]
[]
[]
[]
[]
[]
[]
[]
[]
[]
[]
[]
[]
[]
[]
[]
[]
[]
[]
[]
[]
[]
[]
[]
[]
[]
[]
[]
[]
[]
[]
[]
[]
[]
[]
[]
[]
[]
[]
[]
[]
[]
[]
[]
[]
[]
[]
[]
[]
[]
[]
[]
[]
[]
[]
[]
[]
[]
[]
[]
[]
[]
[]
[]
[]
[]
[]
[]
[]
[]
[]
[]
[]
[]
[]
[]
[]
[]
[]
[]
[]
[]
[]
[]
[]
[]
[]
[]
[]
[]
[]
[]
[]
[]
[]
[]
[]
[]
[]
[]
[]
[]
[]
[]
[]
[]
[]
[]
[]
[]
[]
[]
[]
[]
[]
[]
[]
[]
[]
[]
[]
[]
[]
[]
[]
[]
[]
[]
[]
[]
[]
[]
[]
[]
[]
[]
[]
[]
[]
[]
[]
[]
[]
[]
[]
[]
[]
[]
[]
[]
[]
[]
[]
[]
[]
[]
[]
[]
[]
[]
[]
[]
[]
[]
[]
[]
[]
[]
[]
[]
[]
[]
[]
[]
[]
[]
[]
[]
[]
[]
[]
[]
[]
[]
[]
[]
[]
[]
[]
[]
[]
[]
[]
[]
[]
[]
[]
[]
[]
[]
[]
[]
[]
[]
[]
[]
[]
[]
[]
[]
[]
[]
[]
[]
[]
[]
[]
[]
[]
[]
[]
[]
[]
[]
[]
[]
[]
[]
[]
[]
[]
[]
[]
[]
[]
[]
[]
[]
[]
[]
[]
[]
[]
[]
[]
[]
[]
[]
[]
[]
[]
[]
[]
[]
[]
[]
[]
[]
[]
[]
[]
[]
[]
[]
[]
[]
[]
[]
[]
[]
[]
[]
[]
[]
[]
[]
[]
[]
[]
[]
[]
[]
[]
[]
[]
[]
[]
[]
[]
[]
[]
[]
[]
[]
[]
[]
[]
[]
[]
[]
[]
[]
[]
[]
[]
[]
[]
[]
[]
[]
[]
[]
[]
[]
[]
[]
[]
[]
[]
[]
[]
[]
[]
[]
[]
[]
[]
[]
[]
[]
[]
[]
[]
[]
[]
[]
[]
[]
[]
[]
[]
[]
[]
[]
[]
[]
[]
[]
[]
[]
[]
[]
[]
[]
[]
[]
[]
[]
[]
[]
[]
[]
[]
[]
[]
[]
[]
[]
[]
[]
[]
[]
[]
[]
[]
[]
[]
[]
[]
[]
[]
[null,"2023-01-01"]